BEGIN:VCALENDAR
VERSION:2.0
PRODID:-//501 Restaurant &amp; Bar - ECPv6.15.18//NONSGML v1.0//EN
CALSCALE:GREGORIAN
METHOD:PUBLISH
X-ORIGINAL-URL:https://www.501restaurantandbar.com
X-WR-CALDESC:Events for 501 Restaurant &amp; Bar
REFRESH-INTERVAL;VALUE=DURATION:PT1H
X-Robots-Tag:noindex
X-PUBLISHED-TTL:PT1H
BEGIN:VTIMEZONE
TZID:America/Los_Angeles
BEGIN:DAYLIGHT
TZOFFSETFROM:-0800
TZOFFSETTO:-0700
TZNAME:PDT
DTSTART:20240310T100000
END:DAYLIGHT
BEGIN:STANDARD
TZOFFSETFROM:-0700
TZOFFSETTO:-0800
TZNAME:PST
DTSTART:20241103T090000
END:STANDARD
BEGIN:DAYLIGHT
TZOFFSETFROM:-0800
TZOFFSETTO:-0700
TZNAME:PDT
DTSTART:20250309T100000
END:DAYLIGHT
BEGIN:STANDARD
TZOFFSETFROM:-0700
TZOFFSETTO:-0800
TZNAME:PST
DTSTART:20251102T090000
END:STANDARD
BEGIN:DAYLIGHT
TZOFFSETFROM:-0800
TZOFFSETTO:-0700
TZNAME:PDT
DTSTART:20260308T100000
END:DAYLIGHT
BEGIN:STANDARD
TZOFFSETFROM:-0700
TZOFFSETTO:-0800
TZNAME:PST
DTSTART:20261101T090000
END:STANDARD
END:VTIMEZONE
BEGIN:VEVENT
DTSTART;TZID=America/Los_Angeles:20250511T100000
DTEND;TZID=America/Los_Angeles:20250511T140000
DTSTAMP:20260421T092110
CREATED:20250429T231352Z
LAST-MODIFIED:20250429T231423Z
UID:10001104-1746957600-1746972000@www.501restaurantandbar.com
SUMMARY:Mother's Day Brunch 💕🥂✨
DESCRIPTION:Mother’s Day Brunch💕🥂✨\nSunday\, May 11\, 2025 \n10am – 2pm \nTREAT THE SPECIAL MOTHERS IN YOUR LIFE TO A DELIGHTFUL BRUNCH COMPLETE WITH CHOCOLATE-COVERED STRAWBERRIES\, A GLASS OF CHAMPAGNE\, A FRESH ROSE\, AND A COMMEMORATIVE SHORECLIFFS CHAMPAGNE GLASS (TO TAKE HOME!). ALL INCLUDED IN THE PRICE!\nMake Reservations by calling (949) 492-1178 X 3
URL:https://www.501restaurantandbar.com/event/mothers-day-brunch-%f0%9f%92%95%f0%9f%a5%82%e2%9c%a8/
ATTACH;FMTTYPE=image/png:https://www.501restaurantandbar.com/wp-content/uploads/sites/9402/2025/04/Mothers-Day-Menu-SC-Email.png
END:VEVENT
BEGIN:VEVENT
DTSTART;TZID=America/Los_Angeles:20250511T150000
DTEND;TZID=America/Los_Angeles:20250511T180000
DTSTAMP:20260421T092110
CREATED:20250505T205246Z
LAST-MODIFIED:20250505T205246Z
UID:10001119-1746975600-1746986400@www.501restaurantandbar.com
SUMMARY:Weekly Live Music
DESCRIPTION:Rounds and Sounds will start after Mother’s Day Brunch: 3pm – 6pm
URL:https://www.501restaurantandbar.com/event/weekly-live-music-13/
END:VEVENT
END:VCALENDAR