BEGIN:VCALENDAR
VERSION:2.0
PRODID:-//501 Restaurant &amp; Bar - ECPv6.15.18//NONSGML v1.0//EN
CALSCALE:GREGORIAN
METHOD:PUBLISH
X-ORIGINAL-URL:https://www.501restaurantandbar.com
X-WR-CALDESC:Events for 501 Restaurant &amp; Bar
REFRESH-INTERVAL;VALUE=DURATION:PT1H
X-Robots-Tag:noindex
X-PUBLISHED-TTL:PT1H
BEGIN:VTIMEZONE
TZID:America/Los_Angeles
BEGIN:DAYLIGHT
TZOFFSETFROM:-0800
TZOFFSETTO:-0700
TZNAME:PDT
DTSTART:20240310T100000
END:DAYLIGHT
BEGIN:STANDARD
TZOFFSETFROM:-0700
TZOFFSETTO:-0800
TZNAME:PST
DTSTART:20241103T090000
END:STANDARD
BEGIN:DAYLIGHT
TZOFFSETFROM:-0800
TZOFFSETTO:-0700
TZNAME:PDT
DTSTART:20250309T100000
END:DAYLIGHT
BEGIN:STANDARD
TZOFFSETFROM:-0700
TZOFFSETTO:-0800
TZNAME:PST
DTSTART:20251102T090000
END:STANDARD
BEGIN:DAYLIGHT
TZOFFSETFROM:-0800
TZOFFSETTO:-0700
TZNAME:PDT
DTSTART:20260308T100000
END:DAYLIGHT
BEGIN:STANDARD
TZOFFSETFROM:-0700
TZOFFSETTO:-0800
TZNAME:PST
DTSTART:20261101T090000
END:STANDARD
END:VTIMEZONE
BEGIN:VEVENT
DTSTART;TZID=America/Los_Angeles:20251107T103000
DTEND;TZID=America/Los_Angeles:20251107T170000
DTSTAMP:20260422T031723
CREATED:20250827T202519Z
LAST-MODIFIED:20251017T222004Z
UID:10001489-1762511400-1762534800@www.501restaurantandbar.com
SUMMARY:San Clemente Open Championship (Full Shotgun) 144 players
DESCRIPTION:Join us for our 1st Annual San Clemente Open Championship!\n**Open to the Public** \nTime: 10:30am Shotgun Start \nWhere: Shorecliffs Golf Club \nPrice: $99 includes 1 Drink Ticket and Post Fajitas Buffet  \n\nABC Flight – 1st\, 2nd\, and 3rd Place\nA Flight: 0-7 handicap | B Flight: 8-15 handicap | C Flight: 16-30 handicap\nA Flight 1st Place Winner will be placed on trophy plaque and displayed in the Clubhouse! \n15% Off Pro Shop \n\nPrizes:  \n1st Place Winner will win free golf for a year (M-Thurs excluding holidays) \n2nd and 3rd Place Winners will win a free foursome + lunch for 4 (M-Thurs excluding holidays) \n**Individual Stroke Play – Mandatory USGA Approved Handicap Required** \nRegister Here – https://form.jotform.com/252386580337160  \n 
URL:https://www.501restaurantandbar.com/event/san-clemente-open-championship/
END:VEVENT
BEGIN:VEVENT
DTSTART;TZID=America/Los_Angeles:20251107T170000
DTEND;TZID=America/Los_Angeles:20251107T200000
DTSTAMP:20260422T031723
CREATED:20251017T203057Z
LAST-MODIFIED:20251017T203057Z
UID:10001689-1762534800-1762545600@www.501restaurantandbar.com
SUMMARY:Friday Night Dinner
DESCRIPTION:
URL:https://www.501restaurantandbar.com/event/friday-night-dinner-24/2025-11-07/
END:VEVENT
END:VCALENDAR