BEGIN:VCALENDAR
VERSION:2.0
PRODID:-//501 Restaurant &amp; Bar - ECPv6.15.18//NONSGML v1.0//EN
CALSCALE:GREGORIAN
METHOD:PUBLISH
X-WR-CALNAME:501 Restaurant &amp; Bar
X-ORIGINAL-URL:https://www.501restaurantandbar.com
X-WR-CALDESC:Events for 501 Restaurant &amp; Bar
REFRESH-INTERVAL;VALUE=DURATION:PT1H
X-Robots-Tag:noindex
X-PUBLISHED-TTL:PT1H
BEGIN:VTIMEZONE
TZID:America/Los_Angeles
BEGIN:DAYLIGHT
TZOFFSETFROM:-0800
TZOFFSETTO:-0700
TZNAME:PDT
DTSTART:20240310T100000
END:DAYLIGHT
BEGIN:STANDARD
TZOFFSETFROM:-0700
TZOFFSETTO:-0800
TZNAME:PST
DTSTART:20241103T090000
END:STANDARD
BEGIN:DAYLIGHT
TZOFFSETFROM:-0800
TZOFFSETTO:-0700
TZNAME:PDT
DTSTART:20250309T100000
END:DAYLIGHT
BEGIN:STANDARD
TZOFFSETFROM:-0700
TZOFFSETTO:-0800
TZNAME:PST
DTSTART:20251102T090000
END:STANDARD
BEGIN:DAYLIGHT
TZOFFSETFROM:-0800
TZOFFSETTO:-0700
TZNAME:PDT
DTSTART:20260308T100000
END:DAYLIGHT
BEGIN:STANDARD
TZOFFSETFROM:-0700
TZOFFSETTO:-0800
TZNAME:PST
DTSTART:20261101T090000
END:STANDARD
END:VTIMEZONE
BEGIN:VEVENT
DTSTART;VALUE=DATE:20251212
DTEND;VALUE=DATE:20251213
DTSTAMP:20260421T185505
CREATED:20251212T205046Z
LAST-MODIFIED:20251212T205046Z
UID:10002862-1765497600-1765583999@www.501restaurantandbar.com
SUMMARY:Friday Night Dinner Cancelled
DESCRIPTION:
URL:https://www.501restaurantandbar.com/event/friday-night-dinner-cancelled/
END:VEVENT
BEGIN:VEVENT
DTSTART;TZID=America/Los_Angeles:20251212T170000
DTEND;TZID=America/Los_Angeles:20251212T200000
DTSTAMP:20260421T185505
CREATED:20251114T015437Z
LAST-MODIFIED:20251114T015437Z
UID:10001694-1765558800-1765569600@www.501restaurantandbar.com
SUMMARY:Friday Night Dinner
DESCRIPTION:
URL:https://www.501restaurantandbar.com/event/friday-night-dinner-31/
ATTACH;FMTTYPE=image/png:https://www.501restaurantandbar.com/wp-content/uploads/sites/9402/2025/10/Friday-Night-Dinner-Flyer-@501-2-1.png
END:VEVENT
BEGIN:VEVENT
DTSTART;TZID=America/Los_Angeles:20251212T170000
DTEND;TZID=America/Los_Angeles:20251212T220000
DTSTAMP:20260421T185505
CREATED:20250919T231040Z
LAST-MODIFIED:20250919T231040Z
UID:10001564-1765558800-1765576800@www.501restaurantandbar.com
SUMMARY:Private Holiday Party
DESCRIPTION:
URL:https://www.501restaurantandbar.com/event/private-holiday-party-2/
END:VEVENT
BEGIN:VEVENT
DTSTART;TZID=America/Los_Angeles:20251212T170000
DTEND;TZID=America/Los_Angeles:20251212T220000
DTSTAMP:20260421T185505
CREATED:20251117T235844Z
LAST-MODIFIED:20251118T000159Z
UID:10002849-1765558800-1765576800@www.501restaurantandbar.com
SUMMARY:Private Holiday Party
DESCRIPTION:
URL:https://www.501restaurantandbar.com/event/private-christmas-party-3/
END:VEVENT
END:VCALENDAR