BEGIN:VCALENDAR
VERSION:2.0
PRODID:-//501 Restaurant &amp; Bar - ECPv6.15.18//NONSGML v1.0//EN
CALSCALE:GREGORIAN
METHOD:PUBLISH
X-ORIGINAL-URL:https://www.501restaurantandbar.com
X-WR-CALDESC:Events for 501 Restaurant &amp; Bar
REFRESH-INTERVAL;VALUE=DURATION:PT1H
X-Robots-Tag:noindex
X-PUBLISHED-TTL:PT1H
BEGIN:VTIMEZONE
TZID:America/Los_Angeles
BEGIN:DAYLIGHT
TZOFFSETFROM:-0800
TZOFFSETTO:-0700
TZNAME:PDT
DTSTART:20250309T100000
END:DAYLIGHT
BEGIN:STANDARD
TZOFFSETFROM:-0700
TZOFFSETTO:-0800
TZNAME:PST
DTSTART:20251102T090000
END:STANDARD
BEGIN:DAYLIGHT
TZOFFSETFROM:-0800
TZOFFSETTO:-0700
TZNAME:PDT
DTSTART:20260308T100000
END:DAYLIGHT
BEGIN:STANDARD
TZOFFSETFROM:-0700
TZOFFSETTO:-0800
TZNAME:PST
DTSTART:20261101T090000
END:STANDARD
BEGIN:DAYLIGHT
TZOFFSETFROM:-0800
TZOFFSETTO:-0700
TZNAME:PDT
DTSTART:20270314T100000
END:DAYLIGHT
BEGIN:STANDARD
TZOFFSETFROM:-0700
TZOFFSETTO:-0800
TZNAME:PST
DTSTART:20271107T090000
END:STANDARD
END:VTIMEZONE
BEGIN:VEVENT
DTSTART;VALUE=DATE:20260524
DTEND;VALUE=DATE:20260525
DTSTAMP:20260425T055907
CREATED:20260424T081455Z
LAST-MODIFIED:20260424T081455Z
UID:10004029-1779580800-1779667199@www.501restaurantandbar.com
SUMMARY:Live Music Cancelled
DESCRIPTION:
URL:https://www.501restaurantandbar.com/event/live-music-cancelled/
END:VEVENT
BEGIN:VEVENT
DTSTART;TZID=America/Los_Angeles:20260524T150000
DTEND;TZID=America/Los_Angeles:20260524T180000
DTSTAMP:20260425T055907
CREATED:20251017T203952Z
LAST-MODIFIED:20260324T230134Z
UID:10002000-1779634800-1779645600@www.501restaurantandbar.com
SUMMARY:Live Music Sunday Sessions
DESCRIPTION:
URL:https://www.501restaurantandbar.com/event/weekly-live-music-15-2-2/2026-05-24/
END:VEVENT
BEGIN:VEVENT
DTSTART;TZID=America/Los_Angeles:20260524T160000
DTEND;TZID=America/Los_Angeles:20260524T220000
DTSTAMP:20260425T055907
CREATED:20260424T144047Z
LAST-MODIFIED:20260424T144047Z
UID:10004042-1779638400-1779660000@www.501restaurantandbar.com
SUMMARY:Wedding
DESCRIPTION:Wedding  5/24/26  4:00-10:00pm
URL:https://www.501restaurantandbar.com/event/wedding-2/
END:VEVENT
END:VCALENDAR