BEGIN:VCALENDAR
VERSION:2.0
PRODID:-//501 Restaurant &amp; Bar - ECPv6.15.18//NONSGML v1.0//EN
CALSCALE:GREGORIAN
METHOD:PUBLISH
X-WR-CALNAME:501 Restaurant &amp; Bar
X-ORIGINAL-URL:https://www.501restaurantandbar.com
X-WR-CALDESC:Events for 501 Restaurant &amp; Bar
REFRESH-INTERVAL;VALUE=DURATION:PT1H
X-Robots-Tag:noindex
X-PUBLISHED-TTL:PT1H
BEGIN:VTIMEZONE
TZID:America/Los_Angeles
BEGIN:DAYLIGHT
TZOFFSETFROM:-0800
TZOFFSETTO:-0700
TZNAME:PDT
DTSTART:20250309T100000
END:DAYLIGHT
BEGIN:STANDARD
TZOFFSETFROM:-0700
TZOFFSETTO:-0800
TZNAME:PST
DTSTART:20251102T090000
END:STANDARD
BEGIN:DAYLIGHT
TZOFFSETFROM:-0800
TZOFFSETTO:-0700
TZNAME:PDT
DTSTART:20260308T100000
END:DAYLIGHT
BEGIN:STANDARD
TZOFFSETFROM:-0700
TZOFFSETTO:-0800
TZNAME:PST
DTSTART:20261101T090000
END:STANDARD
BEGIN:DAYLIGHT
TZOFFSETFROM:-0800
TZOFFSETTO:-0700
TZNAME:PDT
DTSTART:20270314T100000
END:DAYLIGHT
BEGIN:STANDARD
TZOFFSETFROM:-0700
TZOFFSETTO:-0800
TZNAME:PST
DTSTART:20271107T090000
END:STANDARD
END:VTIMEZONE
BEGIN:VEVENT
DTSTART;TZID=America/Los_Angeles:20260329T150000
DTEND;TZID=America/Los_Angeles:20260329T180000
DTSTAMP:20260421T175925
CREATED:20251114T020103Z
LAST-MODIFIED:20260324T225840Z
UID:10001992-1774796400-1774807200@www.501restaurantandbar.com
SUMMARY:Live Music Sunday Sessions
DESCRIPTION:
URL:https://www.501restaurantandbar.com/event/weekly-live-music-50/
END:VEVENT
BEGIN:VEVENT
DTSTART;TZID=America/Los_Angeles:20260328T170000
DTEND;TZID=America/Los_Angeles:20260328T213000
DTSTAMP:20260421T175925
CREATED:20260306T163326Z
LAST-MODIFIED:20260306T163326Z
UID:10004000-1774717200-1774733400@www.501restaurantandbar.com
SUMMARY:Private Event
DESCRIPTION:
URL:https://www.501restaurantandbar.com/event/private-event-17/
END:VEVENT
BEGIN:VEVENT
DTSTART;VALUE=DATE:20260324
DTEND;VALUE=DATE:20260330
DTSTAMP:20260421T175925
CREATED:20260324T191625Z
LAST-MODIFIED:20260324T191625Z
UID:10004002-1774310400-1774828799@www.501restaurantandbar.com
SUMMARY:Aerification Week
DESCRIPTION:ANNUAL AERIFICATION WEEK 2026 \nOur greens will be undergoing aerification to maintain the long-term health and playability of the golf course. \nTUESDAY – SUNDAY | March 24th – 29th \nDiscounted Golf Rates: Tues-Fri: $55 | Sat-Sun: $75 \nIMPORTANT: \nTuesday\, March 24th: Front 9 Only \nWednesday\, March 25th: Back 9 Only \nThank You for Your Patience!
URL:https://www.501restaurantandbar.com/event/aerification-week/
ATTACH;FMTTYPE=image/png:https://www.501restaurantandbar.com/wp-content/uploads/sites/9402/2025/08/Aerification-Flyer-5.png
END:VEVENT
BEGIN:VEVENT
DTSTART;TZID=America/Los_Angeles:20260323T100000
DTEND;TZID=America/Los_Angeles:20260323T150000
DTSTAMP:20260421T175925
CREATED:20250919T211953Z
LAST-MODIFIED:20251017T210816Z
UID:10001537-1774260000-1774278000@www.501restaurantandbar.com
SUMMARY:Waves and Wedges Tournament
DESCRIPTION:Waves and Wedges Tournament – 100+ players (Shotgun) : 10am – 3pm
URL:https://www.501restaurantandbar.com/event/waves-and-wedges-tournament/
END:VEVENT
BEGIN:VEVENT
DTSTART;TZID=America/Los_Angeles:20260322T140000
DTEND;TZID=America/Los_Angeles:20260322T170000
DTSTAMP:20260421T175925
CREATED:20251114T015854Z
LAST-MODIFIED:20260314T010241Z
UID:10001991-1774188000-1774198800@www.501restaurantandbar.com
SUMMARY:Weekly Live Music
DESCRIPTION:
URL:https://www.501restaurantandbar.com/event/weekly-live-music-49/
END:VEVENT
BEGIN:VEVENT
DTSTART;TZID=America/Los_Angeles:20260319T173000
DTEND;TZID=America/Los_Angeles:20260319T203000
DTSTAMP:20260421T175925
CREATED:20260108T192852Z
LAST-MODIFIED:20260210T225108Z
UID:10003229-1773941400-1773952200@www.501restaurantandbar.com
SUMMARY:Prime Rib Night
DESCRIPTION:
URL:https://www.501restaurantandbar.com/event/prime-rib-night-20/2026-03-19/
END:VEVENT
BEGIN:VEVENT
DTSTART;VALUE=DATE:20260317
DTEND;VALUE=DATE:20260318
DTSTAMP:20260421T175925
CREATED:20260306T163212Z
LAST-MODIFIED:20260314T005643Z
UID:10003999-1773705600-1773791999@www.501restaurantandbar.com
SUMMARY:ST. PATRICK'S DAY
DESCRIPTION:St. Patrick’s Day Special Menu at The 501 (All Day) \nDomestic Beer …. $5.00  \nCorned Beef\, Potato\, & Cabbage Tacos (2) with Horseradish Cream …. $10.00 
URL:https://www.501restaurantandbar.com/event/st-patricks-day-2/
ATTACH;FMTTYPE=image/png:https://www.501restaurantandbar.com/wp-content/uploads/sites/9402/2026/03/St.-Pattys-2026.png
END:VEVENT
BEGIN:VEVENT
DTSTART;TZID=America/Los_Angeles:20260316T140000
DTEND;TZID=America/Los_Angeles:20260316T170000
DTSTAMP:20260421T175925
CREATED:20260306T163140Z
LAST-MODIFIED:20260306T163140Z
UID:10003998-1773669600-1773680400@www.501restaurantandbar.com
SUMMARY:Private Event
DESCRIPTION:BBQ outside for golfers
URL:https://www.501restaurantandbar.com/event/private-event-16/
END:VEVENT
BEGIN:VEVENT
DTSTART;TZID=America/Los_Angeles:20260315T140000
DTEND;TZID=America/Los_Angeles:20260315T170000
DTSTAMP:20260421T175925
CREATED:20251114T015652Z
LAST-MODIFIED:20260314T010148Z
UID:10001990-1773583200-1773594000@www.501restaurantandbar.com
SUMMARY:Weekly Live Music
DESCRIPTION:
URL:https://www.501restaurantandbar.com/event/weekly-live-music-48/
ATTACH;FMTTYPE=image/png:https://www.501restaurantandbar.com/wp-content/uploads/sites/9402/2025/08/3-SHORECLIFFS-FLYER-11X17.png
END:VEVENT
BEGIN:VEVENT
DTSTART;TZID=America/Los_Angeles:20260308T140000
DTEND;TZID=America/Los_Angeles:20260308T170000
DTSTAMP:20260421T175925
CREATED:20251114T015539Z
LAST-MODIFIED:20251114T015611Z
UID:10001989-1772978400-1772989200@www.501restaurantandbar.com
SUMMARY:Weekly Live Music
DESCRIPTION:
URL:https://www.501restaurantandbar.com/event/weekly-live-music-47/
ATTACH;FMTTYPE=image/png:https://www.501restaurantandbar.com/wp-content/uploads/sites/9402/2025/11/Rounds-and-Sounds-Flyer-Real-Estate-Flyer-2-1.png
END:VEVENT
BEGIN:VEVENT
DTSTART;TZID=America/Los_Angeles:20260305T173000
DTEND;TZID=America/Los_Angeles:20260305T203000
DTSTAMP:20260421T175925
CREATED:20260108T192852Z
LAST-MODIFIED:20260210T225108Z
UID:10003228-1772731800-1772742600@www.501restaurantandbar.com
SUMMARY:Prime Rib Night
DESCRIPTION:
URL:https://www.501restaurantandbar.com/event/prime-rib-night-20/2026-03-05/
END:VEVENT
BEGIN:VEVENT
DTSTART;TZID=America/Los_Angeles:20260301T140000
DTEND;TZID=America/Los_Angeles:20260301T170000
DTSTAMP:20260421T175925
CREATED:20251114T015423Z
LAST-MODIFIED:20251114T015455Z
UID:10001988-1772373600-1772384400@www.501restaurantandbar.com
SUMMARY:Weekly Live Music
DESCRIPTION:
URL:https://www.501restaurantandbar.com/event/weekly-live-music-46/
ATTACH;FMTTYPE=image/png:https://www.501restaurantandbar.com/wp-content/uploads/sites/9402/2025/11/Rounds-and-Sounds-Flyer-Real-Estate-Flyer-2-1.png
END:VEVENT
BEGIN:VEVENT
DTSTART;TZID=America/Los_Angeles:20260228T163000
DTEND;TZID=America/Los_Angeles:20260228T200000
DTSTAMP:20260421T175925
CREATED:20260108T193329Z
LAST-MODIFIED:20260108T193636Z
UID:10003348-1772296200-1772308800@www.501restaurantandbar.com
SUMMARY:Private Event
DESCRIPTION:Drew Senner
URL:https://www.501restaurantandbar.com/event/private-event-13/
END:VEVENT
BEGIN:VEVENT
DTSTART;TZID=America/Los_Angeles:20260227T170000
DTEND;TZID=America/Los_Angeles:20260227T200000
DTSTAMP:20260421T175925
CREATED:20260210T211213Z
LAST-MODIFIED:20260210T211213Z
UID:10003993-1772211600-1772222400@www.501restaurantandbar.com
SUMMARY:Friday Night Dinner
DESCRIPTION:
URL:https://www.501restaurantandbar.com/event/friday-night-dinner-35/
END:VEVENT
BEGIN:VEVENT
DTSTART;TZID=America/Los_Angeles:20260225T120000
DTEND;TZID=America/Los_Angeles:20260225T150000
DTSTAMP:20260421T175925
CREATED:20260210T212128Z
LAST-MODIFIED:20260210T222920Z
UID:10003995-1772020800-1772031600@www.501restaurantandbar.com
SUMMARY:Private Event
DESCRIPTION:
URL:https://www.501restaurantandbar.com/event/private-event-15/
END:VEVENT
BEGIN:VEVENT
DTSTART;TZID=America/Los_Angeles:20260222T173000
DTEND;TZID=America/Los_Angeles:20260222T203000
DTSTAMP:20260421T175925
CREATED:20260210T211910Z
LAST-MODIFIED:20260210T211910Z
UID:10003994-1771781400-1771792200@www.501restaurantandbar.com
SUMMARY:Private Event
DESCRIPTION:
URL:https://www.501restaurantandbar.com/event/private-event-14/
END:VEVENT
BEGIN:VEVENT
DTSTART;VALUE=DATE:20260222
DTEND;VALUE=DATE:20260223
DTSTAMP:20260421T175925
CREATED:20260129T231424Z
LAST-MODIFIED:20260129T231424Z
UID:10003990-1771718400-1771804799@www.501restaurantandbar.com
SUMMARY:Weekly Live Music CANCELLED
DESCRIPTION:
URL:https://www.501restaurantandbar.com/event/weekly-live-music-cancelled-4/
END:VEVENT
BEGIN:VEVENT
DTSTART;TZID=America/Los_Angeles:20260221T160000
DTEND;TZID=America/Los_Angeles:20260221T220000
DTSTAMP:20260421T175925
CREATED:20260108T194752Z
LAST-MODIFIED:20260210T210631Z
UID:10003864-1771689600-1771711200@www.501restaurantandbar.com
SUMMARY:Private Event
DESCRIPTION:
URL:https://www.501restaurantandbar.com/event/wedding/
END:VEVENT
BEGIN:VEVENT
DTSTART;TZID=America/Los_Angeles:20260220T173000
DTEND;TZID=America/Los_Angeles:20260220T203000
DTSTAMP:20260421T175925
CREATED:20260108T194718Z
LAST-MODIFIED:20260210T211945Z
UID:10003863-1771608600-1771619400@www.501restaurantandbar.com
SUMMARY:Private Event
DESCRIPTION:
URL:https://www.501restaurantandbar.com/event/pre-wedding-welcome-party/
END:VEVENT
BEGIN:VEVENT
DTSTART;VALUE=DATE:20260220
DTEND;VALUE=DATE:20260221
DTSTAMP:20260421T175925
CREATED:20260129T232504Z
LAST-MODIFIED:20260129T232504Z
UID:10003991-1771545600-1771631999@www.501restaurantandbar.com
SUMMARY:Friday Night Dinner CANCELLED
DESCRIPTION:
URL:https://www.501restaurantandbar.com/event/friday-night-dinner-cancelled-2/
END:VEVENT
BEGIN:VEVENT
DTSTART;TZID=America/Los_Angeles:20260219T173000
DTEND;TZID=America/Los_Angeles:20260219T203000
DTSTAMP:20260421T175925
CREATED:20260210T210833Z
LAST-MODIFIED:20260210T210843Z
UID:10003869-1771522200-1771533000@www.501restaurantandbar.com
SUMMARY:Prime Rib Night
DESCRIPTION:
URL:https://www.501restaurantandbar.com/event/prime-rib-night-17-2/
ATTACH;FMTTYPE=image/png:https://www.501restaurantandbar.com/wp-content/uploads/sites/9402/2025/08/PRN-5.png
END:VEVENT
BEGIN:VEVENT
DTSTART;TZID=America/Los_Angeles:20260215T140000
DTEND;TZID=America/Los_Angeles:20260215T170000
DTSTAMP:20260421T175925
CREATED:20251114T015152Z
LAST-MODIFIED:20251114T015230Z
UID:10001986-1771164000-1771174800@www.501restaurantandbar.com
SUMMARY:Weekly Live Music
DESCRIPTION:
URL:https://www.501restaurantandbar.com/event/weekly-live-music-44/
ATTACH;FMTTYPE=image/png:https://www.501restaurantandbar.com/wp-content/uploads/sites/9402/2025/11/Rounds-and-Sounds-Flyer-Real-Estate-Flyer-2-1.png
END:VEVENT
BEGIN:VEVENT
DTSTART;TZID=America/Los_Angeles:20260214T170000
DTEND;TZID=America/Los_Angeles:20260214T203000
DTSTAMP:20260421T175925
CREATED:20260128T034002Z
LAST-MODIFIED:20260128T034002Z
UID:10003989-1771088400-1771101000@www.501restaurantandbar.com
SUMMARY:Valentine's Day Dinner at The 501 Restaurant & Bar
DESCRIPTION:  \nVALENTINE’S DAY DINNER \n$85 PER PERSON\, PLUS TAX AND GRATUITY \nIncludes: One Appetizer\, One Salad\, One Entree\, One Dessert\, One Glass of Champagne or Draft Beer. \nSaturday\, February 14″ from 5pm – 8:30pm \nAddress: 501 Avenida Vaquero\, San Clemente\, CA \nRSVP: Make your Reservations on Open Table or call (949) 492-1178 ext. 3 \nMENU:  \nAPPETIZERS \n\nSmoked Salmon Toast Points w/ Caviar\, Mascarpone Cream Cheese\, Capers\, Sweet Maui Onion\, and Lemon Zest\nDouble Cream Burrata w/ Sliced Heirloom Tomatoes\, Pesto\, EV Olive Oil\, and Balsamic Glaze\nMini Beef Wellingtons w/ Plum Hoisin Sauce\n\nSALADS \n\nChef Aron’s Special Caesar\nMediterranean\nGorgonzola\, Pork Belly\, and Pear Wedge\n\nENTREES \n\nPORK TENDERLOIN – Stuffed w/ Spinach\, Roasted Peppers\, Pine Nuts\, Ricotta\, and Herbs. Topped with a Chardonnay\, Sage\, and Garlic Demi-Glacé.\nCRAB STUFFED JUMBO PRAWNS – Served on a bed of Angel Hair w/ Tarragon\, Sherry Cream Sauce.\nOVEN ROASTED FILET MIGNON – w/ Chianti and Truffle Veal Stock\nReduction\nSEAFOOD LASAGNA – Crab\, Lobster\, and Shrimp\, w/ a Lobster Bisque and Pesto Bechamel Sauce. Served with Garlic Baguette\nCHICKEN VALDOSTANA – Chicken Breast Cutlets\, Sautéed with Prosciutto\, Fontina Cheese\, and Oyster Mushrooms. Topped with a Pinot Grigio\, Sage\, and Butter Sauce.\n*ALL ENTREES EXCEPT PRAWNS AND LASAGNA ACCOMPANIED BY ROASTED ASPARAGUS AND GARLIC PARMESAN POTATO WEDGES*\n\nDESSERTS \n\nChocolate Mousse Cake\nRaspberry Cheesecake\nItalian Lemon Cake
URL:https://www.501restaurantandbar.com/event/valentines-day-dinner-at-the-501-restaurant-bar/
ATTACH;FMTTYPE=image/png:https://www.501restaurantandbar.com/wp-content/uploads/sites/9402/2025/08/VDAY-MENU-2026.png
END:VEVENT
BEGIN:VEVENT
DTSTART;VALUE=DATE:20260214
DTEND;VALUE=DATE:20260215
DTSTAMP:20260421T175925
CREATED:20260108T194442Z
LAST-MODIFIED:20260114T101125Z
UID:10003862-1771027200-1771113599@www.501restaurantandbar.com
SUMMARY:Valentine's Day
DESCRIPTION:
URL:https://www.501restaurantandbar.com/event/valentines-day/
END:VEVENT
BEGIN:VEVENT
DTSTART;TZID=America/Los_Angeles:20260213T170000
DTEND;TZID=America/Los_Angeles:20260213T200000
DTSTAMP:20260421T175925
CREATED:20260210T211131Z
LAST-MODIFIED:20260210T211141Z
UID:10003992-1771002000-1771012800@www.501restaurantandbar.com
SUMMARY:Friday Night Dinner
DESCRIPTION:
URL:https://www.501restaurantandbar.com/event/friday-night-dinner-34/
END:VEVENT
BEGIN:VEVENT
DTSTART;TZID=America/Los_Angeles:20260208T143000
DTEND;TZID=America/Los_Angeles:20260208T180000
DTSTAMP:20260421T175925
CREATED:20260128T032851Z
LAST-MODIFIED:20260128T032851Z
UID:10003987-1770561000-1770573600@www.501restaurantandbar.com
SUMMARY:Superbowl Watch Party
DESCRIPTION:Menu to come!
URL:https://www.501restaurantandbar.com/event/superbowl-watch-party/
ATTACH;FMTTYPE=image/png:https://www.501restaurantandbar.com/wp-content/uploads/sites/9402/2025/08/Superbowl-Watch-Party-2.png
END:VEVENT
BEGIN:VEVENT
DTSTART;VALUE=DATE:20260208
DTEND;VALUE=DATE:20260209
DTSTAMP:20260421T175925
CREATED:20260128T033333Z
LAST-MODIFIED:20260128T033333Z
UID:10003988-1770508800-1770595199@www.501restaurantandbar.com
SUMMARY:Weekly Live Music CANCELLED
DESCRIPTION:Live music cancelled due to Superbowl Watch Party!
URL:https://www.501restaurantandbar.com/event/weekly-live-music-cancelled-3/
END:VEVENT
BEGIN:VEVENT
DTSTART;TZID=America/Los_Angeles:20260201T140000
DTEND;TZID=America/Los_Angeles:20260201T170000
DTSTAMP:20260421T175925
CREATED:20251114T014705Z
LAST-MODIFIED:20251114T014745Z
UID:10001984-1769954400-1769965200@www.501restaurantandbar.com
SUMMARY:Weekly Live Music
DESCRIPTION:
URL:https://www.501restaurantandbar.com/event/weekly-live-music-42/
ATTACH;FMTTYPE=image/png:https://www.501restaurantandbar.com/wp-content/uploads/sites/9402/2025/11/Rounds-and-Sounds-Flyer-Real-Estate-Flyer-2-1.png
END:VEVENT
BEGIN:VEVENT
DTSTART;TZID=America/Los_Angeles:20260131T170000
DTEND;TZID=America/Los_Angeles:20260131T213000
DTSTAMP:20260421T175925
CREATED:20260108T193250Z
LAST-MODIFIED:20260108T193707Z
UID:10003347-1769878800-1769895000@www.501restaurantandbar.com
SUMMARY:Private Event
DESCRIPTION:Nancy Alderson
URL:https://www.501restaurantandbar.com/event/private-event-12/
END:VEVENT
BEGIN:VEVENT
DTSTART;TZID=America/Los_Angeles:20260125T150000
DTEND;TZID=America/Los_Angeles:20260125T180000
DTSTAMP:20260421T175925
CREATED:20251114T014432Z
LAST-MODIFIED:20260124T022553Z
UID:10001983-1769353200-1769364000@www.501restaurantandbar.com
SUMMARY:Weekly Live Music
DESCRIPTION:
URL:https://www.501restaurantandbar.com/event/weekly-live-music-41/
END:VEVENT
END:VCALENDAR