BEGIN:VCALENDAR
VERSION:2.0
PRODID:-//501 Restaurant &amp; Bar - ECPv6.15.18//NONSGML v1.0//EN
CALSCALE:GREGORIAN
METHOD:PUBLISH
X-WR-CALNAME:501 Restaurant &amp; Bar
X-ORIGINAL-URL:https://www.501restaurantandbar.com
X-WR-CALDESC:Events for 501 Restaurant &amp; Bar
REFRESH-INTERVAL;VALUE=DURATION:PT1H
X-Robots-Tag:noindex
X-PUBLISHED-TTL:PT1H
BEGIN:VTIMEZONE
TZID:America/Los_Angeles
BEGIN:DAYLIGHT
TZOFFSETFROM:-0800
TZOFFSETTO:-0700
TZNAME:PDT
DTSTART:20240310T100000
END:DAYLIGHT
BEGIN:STANDARD
TZOFFSETFROM:-0700
TZOFFSETTO:-0800
TZNAME:PST
DTSTART:20241103T090000
END:STANDARD
BEGIN:DAYLIGHT
TZOFFSETFROM:-0800
TZOFFSETTO:-0700
TZNAME:PDT
DTSTART:20250309T100000
END:DAYLIGHT
BEGIN:STANDARD
TZOFFSETFROM:-0700
TZOFFSETTO:-0800
TZNAME:PST
DTSTART:20251102T090000
END:STANDARD
BEGIN:DAYLIGHT
TZOFFSETFROM:-0800
TZOFFSETTO:-0700
TZNAME:PDT
DTSTART:20260308T100000
END:DAYLIGHT
BEGIN:STANDARD
TZOFFSETFROM:-0700
TZOFFSETTO:-0800
TZNAME:PST
DTSTART:20261101T090000
END:STANDARD
END:VTIMEZONE
BEGIN:VEVENT
DTSTART;TZID=America/Los_Angeles:20250510T110000
DTEND;TZID=America/Los_Angeles:20250510T140000
DTSTAMP:20260421T141315
CREATED:20250503T200427Z
LAST-MODIFIED:20250505T203353Z
UID:10001109-1746874800-1746885600@www.501restaurantandbar.com
SUMMARY:Private Event (Closed to the Public)
DESCRIPTION:Saturday 11:00 am – 2:00 pm (Private Event)
URL:https://www.501restaurantandbar.com/event/celebration-of-life-private-event/
END:VEVENT
BEGIN:VEVENT
DTSTART;TZID=America/Los_Angeles:20250511T100000
DTEND;TZID=America/Los_Angeles:20250511T140000
DTSTAMP:20260421T141315
CREATED:20250429T231352Z
LAST-MODIFIED:20250429T231423Z
UID:10001104-1746957600-1746972000@www.501restaurantandbar.com
SUMMARY:Mother's Day Brunch 💕🥂✨
DESCRIPTION:Mother’s Day Brunch💕🥂✨\nSunday\, May 11\, 2025 \n10am – 2pm \nTREAT THE SPECIAL MOTHERS IN YOUR LIFE TO A DELIGHTFUL BRUNCH COMPLETE WITH CHOCOLATE-COVERED STRAWBERRIES\, A GLASS OF CHAMPAGNE\, A FRESH ROSE\, AND A COMMEMORATIVE SHORECLIFFS CHAMPAGNE GLASS (TO TAKE HOME!). ALL INCLUDED IN THE PRICE!\nMake Reservations by calling (949) 492-1178 X 3
URL:https://www.501restaurantandbar.com/event/mothers-day-brunch-%f0%9f%92%95%f0%9f%a5%82%e2%9c%a8/
ATTACH;FMTTYPE=image/png:https://www.501restaurantandbar.com/wp-content/uploads/sites/9402/2025/04/Mothers-Day-Menu-SC-Email.png
END:VEVENT
BEGIN:VEVENT
DTSTART;TZID=America/Los_Angeles:20250511T150000
DTEND;TZID=America/Los_Angeles:20250511T180000
DTSTAMP:20260421T141315
CREATED:20250505T205246Z
LAST-MODIFIED:20250505T205246Z
UID:10001119-1746975600-1746986400@www.501restaurantandbar.com
SUMMARY:Weekly Live Music
DESCRIPTION:Rounds and Sounds will start after Mother’s Day Brunch: 3pm – 6pm
URL:https://www.501restaurantandbar.com/event/weekly-live-music-13/
END:VEVENT
BEGIN:VEVENT
DTSTART;TZID=America/Los_Angeles:20250512T100000
DTEND;TZID=America/Los_Angeles:20250512T120000
DTSTAMP:20260421T141315
CREATED:20250503T200605Z
LAST-MODIFIED:20250505T203603Z
UID:10001110-1747044000-1747051200@www.501restaurantandbar.com
SUMMARY:Private Event (Closed to the Public)
DESCRIPTION:Monday 10:00 am – 12:00 pm (Private Event)
URL:https://www.501restaurantandbar.com/event/capistrano-unified-pta-presidents-eoy-breakfast-private-event/
END:VEVENT
BEGIN:VEVENT
DTSTART;TZID=America/Los_Angeles:20250515T173000
DTEND;TZID=America/Los_Angeles:20250515T203000
DTSTAMP:20260421T141315
CREATED:20250503T200756Z
LAST-MODIFIED:20250503T200830Z
UID:10001111-1747330200-1747341000@www.501restaurantandbar.com
SUMMARY:PRIME RIB NIGHT
DESCRIPTION:Thursday 5:30 pm – 8:30 pm PRIME RIB NIGHT
URL:https://www.501restaurantandbar.com/event/prime-rib-night-4/2025-05-15/
END:VEVENT
BEGIN:VEVENT
DTSTART;TZID=America/Los_Angeles:20250517T140000
DTEND;TZID=America/Los_Angeles:20250517T180000
DTSTAMP:20260421T141315
CREATED:20250503T200933Z
LAST-MODIFIED:20250505T205656Z
UID:10001113-1747490400-1747504800@www.501restaurantandbar.com
SUMMARY:Private Event (Closed to the Public)
DESCRIPTION:Saturday 2:00 pm – 6:00 pm
URL:https://www.501restaurantandbar.com/event/combo-birthday-party-private-event/
END:VEVENT
BEGIN:VEVENT
DTSTART;TZID=America/Los_Angeles:20250518T110000
DTEND;TZID=America/Los_Angeles:20250518T140000
DTSTAMP:20260421T141315
CREATED:20250503T201040Z
LAST-MODIFIED:20250505T204023Z
UID:10001114-1747566000-1747576800@www.501restaurantandbar.com
SUMMARY:Private Event **Restaurant still open to public**
DESCRIPTION:Sunday 11:00 am – 2:00 pm (Private Event)
URL:https://www.501restaurantandbar.com/event/95th-birthday-party-private-event/
END:VEVENT
BEGIN:VEVENT
DTSTART;TZID=America/Los_Angeles:20250518T150000
DTEND;TZID=America/Los_Angeles:20250518T180000
DTSTAMP:20260421T141315
CREATED:20250503T200307Z
LAST-MODIFIED:20250503T200307Z
UID:10001107-1747580400-1747591200@www.501restaurantandbar.com
SUMMARY:Weekly Live Music 
DESCRIPTION:Sundays 3:00-6:00 pm Weekly Live Music
URL:https://www.501restaurantandbar.com/event/weekly-live-music-12/2025-05-18/
END:VEVENT
BEGIN:VEVENT
DTSTART;TZID=America/Los_Angeles:20250520T170000
DTEND;TZID=America/Los_Angeles:20250520T220000
DTSTAMP:20260421T141315
CREATED:20250503T201210Z
LAST-MODIFIED:20250505T204307Z
UID:10001115-1747760400-1747778400@www.501restaurantandbar.com
SUMMARY:Private Event (Closed to the Public)
DESCRIPTION:Tuesday 5:00 pm – 10:00 pm (Private Event)
URL:https://www.501restaurantandbar.com/event/schs-stunt-event-banquet-private-event/
END:VEVENT
BEGIN:VEVENT
DTSTART;TZID=America/Los_Angeles:20250525T150000
DTEND;TZID=America/Los_Angeles:20250525T180000
DTSTAMP:20260421T141315
CREATED:20250503T200307Z
LAST-MODIFIED:20250503T200307Z
UID:10001108-1748185200-1748196000@www.501restaurantandbar.com
SUMMARY:Weekly Live Music 
DESCRIPTION:Sundays 3:00-6:00 pm Weekly Live Music
URL:https://www.501restaurantandbar.com/event/weekly-live-music-12/2025-05-25/
END:VEVENT
BEGIN:VEVENT
DTSTART;VALUE=DATE:20250526
DTEND;VALUE=DATE:20250527
DTSTAMP:20260421T141315
CREATED:20250508T235616Z
LAST-MODIFIED:20250512T204058Z
UID:10001121-1748217600-1748303999@www.501restaurantandbar.com
SUMMARY:Memorial Day Special
DESCRIPTION:VETERANS ONLY: $80 includes green fee/cart fee\, 1 domestic beer\, and 1 hot dog \n*MUST BRING ID VERIFICATION AT CHECK-IN*
URL:https://www.501restaurantandbar.com/event/memorial-day-special/
ATTACH;FMTTYPE=image/png:https://www.501restaurantandbar.com/wp-content/uploads/sites/9402/2025/05/Memorial-Day-Special.png
END:VEVENT
BEGIN:VEVENT
DTSTART;TZID=America/Los_Angeles:20250528T170000
DTEND;TZID=America/Los_Angeles:20250528T220000
DTSTAMP:20260421T141315
CREATED:20250503T201319Z
LAST-MODIFIED:20250505T205441Z
UID:10001116-1748451600-1748469600@www.501restaurantandbar.com
SUMMARY:Private Event (Closed to the Public)
DESCRIPTION:Wednesday 5:00 pm – 10:00 pm (Private Event)
URL:https://www.501restaurantandbar.com/event/schs-boys-lacrosse-team-banquet-private-event/
END:VEVENT
BEGIN:VEVENT
DTSTART;TZID=America/Los_Angeles:20250529T173000
DTEND;TZID=America/Los_Angeles:20250529T203000
DTSTAMP:20260421T141315
CREATED:20250503T200756Z
LAST-MODIFIED:20250503T200830Z
UID:10001112-1748539800-1748550600@www.501restaurantandbar.com
SUMMARY:PRIME RIB NIGHT
DESCRIPTION:Thursday 5:30 pm – 8:30 pm PRIME RIB NIGHT
URL:https://www.501restaurantandbar.com/event/prime-rib-night-4/2025-05-29/
END:VEVENT
BEGIN:VEVENT
DTSTART;TZID=America/Los_Angeles:20250530T163000
DTEND;TZID=America/Los_Angeles:20250530T203000
DTSTAMP:20260421T141315
CREATED:20250503T201421Z
LAST-MODIFIED:20250505T204439Z
UID:10001117-1748622600-1748637000@www.501restaurantandbar.com
SUMMARY:Private Event *Restaurant still open to public**
DESCRIPTION:Friday 4:30 pm  – 8:30 pm (Private Event)
URL:https://www.501restaurantandbar.com/event/rehearsal-dinner-private-event/
END:VEVENT
BEGIN:VEVENT
DTSTART;TZID=America/Los_Angeles:20250531T163000
DTEND;TZID=America/Los_Angeles:20250531T220000
DTSTAMP:20260421T141315
CREATED:20250503T201508Z
LAST-MODIFIED:20250505T204730Z
UID:10001118-1748709000-1748728800@www.501restaurantandbar.com
SUMMARY:Private Event (Closed to the Public)
DESCRIPTION:Saturday 4:30 pm – 10:00 pm (Private Event)
URL:https://www.501restaurantandbar.com/event/wedding-private-event/
END:VEVENT
BEGIN:VEVENT
DTSTART;TZID=America/Los_Angeles:20250601T150000
DTEND;TZID=America/Los_Angeles:20250601T180000
DTSTAMP:20260421T141315
CREATED:20250530T120343Z
LAST-MODIFIED:20250530T120343Z
UID:10001122-1748790000-1748800800@www.501restaurantandbar.com
SUMMARY:Rounds & Sounds: Weekly Live Music
DESCRIPTION:
URL:https://www.501restaurantandbar.com/event/rounds-sounds-weekly-live-music/
END:VEVENT
BEGIN:VEVENT
DTSTART;TZID=America/Los_Angeles:20250605T170000
DTEND;TZID=America/Los_Angeles:20250605T210000
DTSTAMP:20260421T141315
CREATED:20250530T120408Z
LAST-MODIFIED:20250530T120408Z
UID:10001123-1749142800-1749157200@www.501restaurantandbar.com
SUMMARY:Private Event ~Restaurant closed to public~
DESCRIPTION:
URL:https://www.501restaurantandbar.com/event/private-event-restaurant-closed-to-public/
END:VEVENT
BEGIN:VEVENT
DTSTART;TZID=America/Los_Angeles:20250606T130000
DTEND;TZID=America/Los_Angeles:20250606T200000
DTSTAMP:20260421T141315
CREATED:20250505T211119Z
LAST-MODIFIED:20250505T212754Z
UID:10001120-1749214800-1749240000@www.501restaurantandbar.com
SUMMARY:1st Annual Bogeys & Beers Tournament
DESCRIPTION:BOGEYS & BEERS TOURNAMENT\n\n\n\n\n1:00PM RIBBON-CUTTING CEREMONY \n3:00PM SHOTGUN START \n\n\n$60 Per Player | $50 SC+ Members \n\n\nJoin us for a celebration of GOLF & LOCAL COMMUNITY BRAND PARTNERSHIPS! The price includes a Golf Cart\, Fajitas\, Buffet\, Beer Tasting\, and PRIZES! \n\n\nEvent Highlights:  \n4-Person Scramble – Team up for a relaxed\, fun round! \nAll Holes Play as Par 3s – Perfect for golfers of all skill levels. \nOn-Course Beer Tastings – Sample brews from local vendors as you play. \nFajitas Buffet – Post-round feast to refuel and celebrate. \nContests & Prizes – Closest to the pin and more! \n\n\n\n\nFor more information: \n\n\n\n\n501 Avenida Vaquero\, San Clemente \n\n\n(949) 492-1178 \nSign Up Below! \nContactPlease enable JavaScript in your browser to complete this form.Name *FirstLastEmail *Comments *Submit
URL:https://www.501restaurantandbar.com/event/1st-annual-bogeys-beers-tournament/
ATTACH;FMTTYPE=image/png:https://www.501restaurantandbar.com/wp-content/uploads/sites/9402/2025/05/Bogeys-Beers-Tourney-Flyer.png
END:VEVENT
BEGIN:VEVENT
DTSTART;TZID=America/Los_Angeles:20250608T150000
DTEND;TZID=America/Los_Angeles:20250608T180000
DTSTAMP:20260421T141315
CREATED:20250530T120430Z
LAST-MODIFIED:20250530T120430Z
UID:10001124-1749394800-1749405600@www.501restaurantandbar.com
SUMMARY:WEEKLY LIVE MUSIC
DESCRIPTION:
URL:https://www.501restaurantandbar.com/event/weekly-live-music-14/
END:VEVENT
BEGIN:VEVENT
DTSTART;TZID=America/Los_Angeles:20250611T180000
DTEND;TZID=America/Los_Angeles:20250611T210000
DTSTAMP:20260421T141315
CREATED:20250530T120506Z
LAST-MODIFIED:20250530T120506Z
UID:10001125-1749664800-1749675600@www.501restaurantandbar.com
SUMMARY:Private Event - Closed to the Public
DESCRIPTION:
URL:https://www.501restaurantandbar.com/event/private-event-closed-to-the-public/
END:VEVENT
BEGIN:VEVENT
DTSTART;TZID=America/Los_Angeles:20250612T173000
DTEND;TZID=America/Los_Angeles:20250612T203000
DTSTAMP:20260421T141315
CREATED:20250530T120527Z
LAST-MODIFIED:20250530T120527Z
UID:10001126-1749749400-1749760200@www.501restaurantandbar.com
SUMMARY:PRIME RIB NIGHT
DESCRIPTION:
URL:https://www.501restaurantandbar.com/event/prime-rib-night-7/
END:VEVENT
BEGIN:VEVENT
DTSTART;TZID=America/Los_Angeles:20250613T173000
DTEND;TZID=America/Los_Angeles:20250613T203000
DTSTAMP:20260421T141315
CREATED:20250530T121505Z
LAST-MODIFIED:20250530T121505Z
UID:10001134-1749835800-1749846600@www.501restaurantandbar.com
SUMMARY:Friday Night Dinner
DESCRIPTION:
URL:https://www.501restaurantandbar.com/event/friday-night-dinner-7/2025-06-13/
END:VEVENT
BEGIN:VEVENT
DTSTART;VALUE=DATE:20250615
DTEND;VALUE=DATE:20250616
DTSTAMP:20260421T141315
CREATED:20250530T120559Z
LAST-MODIFIED:20250530T120559Z
UID:10001127-1749945600-1750031999@www.501restaurantandbar.com
SUMMARY:FATHER'S DAY
DESCRIPTION:
URL:https://www.501restaurantandbar.com/event/fathers-day/
END:VEVENT
BEGIN:VEVENT
DTSTART;TZID=America/Los_Angeles:20250615T150000
DTEND;TZID=America/Los_Angeles:20250615T180000
DTSTAMP:20260421T141315
CREATED:20250530T120641Z
LAST-MODIFIED:20250530T120641Z
UID:10001128-1749999600-1750010400@www.501restaurantandbar.com
SUMMARY:Rounds & Sounds: Weekly Live Music
DESCRIPTION:
URL:https://www.501restaurantandbar.com/event/rounds-sounds-weekly-live-music-2/
END:VEVENT
BEGIN:VEVENT
DTSTART;TZID=America/Los_Angeles:20250620T173000
DTEND;TZID=America/Los_Angeles:20250620T203000
DTSTAMP:20260421T141315
CREATED:20250530T121505Z
LAST-MODIFIED:20250530T121505Z
UID:10001135-1750440600-1750451400@www.501restaurantandbar.com
SUMMARY:Friday Night Dinner
DESCRIPTION:
URL:https://www.501restaurantandbar.com/event/friday-night-dinner-7/2025-06-20/
END:VEVENT
BEGIN:VEVENT
DTSTART;TZID=America/Los_Angeles:20250622T150000
DTEND;TZID=America/Los_Angeles:20250622T180000
DTSTAMP:20260421T141315
CREATED:20250530T120655Z
LAST-MODIFIED:20250530T120655Z
UID:10001129-1750604400-1750615200@www.501restaurantandbar.com
SUMMARY:Rounds & Sounds: Weekly Live Music
DESCRIPTION:
URL:https://www.501restaurantandbar.com/event/rounds-sounds-weekly-live-music-3/
END:VEVENT
BEGIN:VEVENT
DTSTART;TZID=America/Los_Angeles:20250627T173000
DTEND;TZID=America/Los_Angeles:20250627T203000
DTSTAMP:20260421T141315
CREATED:20250530T121505Z
LAST-MODIFIED:20250530T121505Z
UID:10001136-1751045400-1751056200@www.501restaurantandbar.com
SUMMARY:Friday Night Dinner
DESCRIPTION:
URL:https://www.501restaurantandbar.com/event/friday-night-dinner-7/2025-06-27/
END:VEVENT
BEGIN:VEVENT
DTSTART;TZID=America/Los_Angeles:20250627T180000
DTEND;TZID=America/Los_Angeles:20250627T193000
DTSTAMP:20260421T141315
CREATED:20250530T120759Z
LAST-MODIFIED:20250530T120759Z
UID:10001131-1751047200-1751052600@www.501restaurantandbar.com
SUMMARY:Private Event - Closed to the Public
DESCRIPTION:
URL:https://www.501restaurantandbar.com/event/private-event-closed-to-the-public-2/
END:VEVENT
BEGIN:VEVENT
DTSTART;TZID=America/Los_Angeles:20250628T170000
DTEND;TZID=America/Los_Angeles:20250628T220000
DTSTAMP:20260421T141315
CREATED:20250530T120838Z
LAST-MODIFIED:20250530T120838Z
UID:10001132-1751130000-1751148000@www.501restaurantandbar.com
SUMMARY:Private Event - Closed to the Public
DESCRIPTION:
URL:https://www.501restaurantandbar.com/event/private-event-closed-to-the-public-3/
END:VEVENT
BEGIN:VEVENT
DTSTART;TZID=America/Los_Angeles:20250629T150000
DTEND;TZID=America/Los_Angeles:20250629T180000
DTSTAMP:20260421T141315
CREATED:20250530T120859Z
LAST-MODIFIED:20250530T120859Z
UID:10001133-1751209200-1751220000@www.501restaurantandbar.com
SUMMARY:Rounds & Sounds: Weekly Live Music
DESCRIPTION:
URL:https://www.501restaurantandbar.com/event/rounds-sounds-weekly-live-music-4/
END:VEVENT
END:VCALENDAR