BEGIN:VCALENDAR
VERSION:2.0
PRODID:-//501 Restaurant &amp; Bar - ECPv6.15.18//NONSGML v1.0//EN
CALSCALE:GREGORIAN
METHOD:PUBLISH
X-ORIGINAL-URL:https://www.501restaurantandbar.com
X-WR-CALDESC:Events for 501 Restaurant &amp; Bar
REFRESH-INTERVAL;VALUE=DURATION:PT1H
X-Robots-Tag:noindex
X-PUBLISHED-TTL:PT1H
BEGIN:VTIMEZONE
TZID:America/Los_Angeles
BEGIN:DAYLIGHT
TZOFFSETFROM:-0800
TZOFFSETTO:-0700
TZNAME:PDT
DTSTART:20240310T100000
END:DAYLIGHT
BEGIN:STANDARD
TZOFFSETFROM:-0700
TZOFFSETTO:-0800
TZNAME:PST
DTSTART:20241103T090000
END:STANDARD
BEGIN:DAYLIGHT
TZOFFSETFROM:-0800
TZOFFSETTO:-0700
TZNAME:PDT
DTSTART:20250309T100000
END:DAYLIGHT
BEGIN:STANDARD
TZOFFSETFROM:-0700
TZOFFSETTO:-0800
TZNAME:PST
DTSTART:20251102T090000
END:STANDARD
BEGIN:DAYLIGHT
TZOFFSETFROM:-0800
TZOFFSETTO:-0700
TZNAME:PDT
DTSTART:20260308T100000
END:DAYLIGHT
BEGIN:STANDARD
TZOFFSETFROM:-0700
TZOFFSETTO:-0800
TZNAME:PST
DTSTART:20261101T090000
END:STANDARD
END:VTIMEZONE
BEGIN:VEVENT
DTSTART;TZID=America/Los_Angeles:20250608T150000
DTEND;TZID=America/Los_Angeles:20250608T180000
DTSTAMP:20260421T013939
CREATED:20250530T120430Z
LAST-MODIFIED:20250530T120430Z
UID:10001124-1749394800-1749405600@www.501restaurantandbar.com
SUMMARY:WEEKLY LIVE MUSIC
DESCRIPTION:
URL:https://www.501restaurantandbar.com/event/weekly-live-music-14/
END:VEVENT
BEGIN:VEVENT
DTSTART;TZID=America/Los_Angeles:20250611T180000
DTEND;TZID=America/Los_Angeles:20250611T210000
DTSTAMP:20260421T013939
CREATED:20250530T120506Z
LAST-MODIFIED:20250530T120506Z
UID:10001125-1749664800-1749675600@www.501restaurantandbar.com
SUMMARY:Private Event - Closed to the Public
DESCRIPTION:
URL:https://www.501restaurantandbar.com/event/private-event-closed-to-the-public/
END:VEVENT
BEGIN:VEVENT
DTSTART;TZID=America/Los_Angeles:20250612T173000
DTEND;TZID=America/Los_Angeles:20250612T203000
DTSTAMP:20260421T013939
CREATED:20250530T120527Z
LAST-MODIFIED:20250530T120527Z
UID:10001126-1749749400-1749760200@www.501restaurantandbar.com
SUMMARY:PRIME RIB NIGHT
DESCRIPTION:
URL:https://www.501restaurantandbar.com/event/prime-rib-night-7/
END:VEVENT
BEGIN:VEVENT
DTSTART;TZID=America/Los_Angeles:20250613T173000
DTEND;TZID=America/Los_Angeles:20250613T203000
DTSTAMP:20260421T013939
CREATED:20250530T121505Z
LAST-MODIFIED:20250530T121505Z
UID:10001134-1749835800-1749846600@www.501restaurantandbar.com
SUMMARY:Friday Night Dinner
DESCRIPTION:
URL:https://www.501restaurantandbar.com/event/friday-night-dinner-7/2025-06-13/
END:VEVENT
BEGIN:VEVENT
DTSTART;VALUE=DATE:20250615
DTEND;VALUE=DATE:20250616
DTSTAMP:20260421T013939
CREATED:20250530T120559Z
LAST-MODIFIED:20250530T120559Z
UID:10001127-1749945600-1750031999@www.501restaurantandbar.com
SUMMARY:FATHER'S DAY
DESCRIPTION:
URL:https://www.501restaurantandbar.com/event/fathers-day/
END:VEVENT
BEGIN:VEVENT
DTSTART;TZID=America/Los_Angeles:20250615T150000
DTEND;TZID=America/Los_Angeles:20250615T180000
DTSTAMP:20260421T013939
CREATED:20250530T120641Z
LAST-MODIFIED:20250530T120641Z
UID:10001128-1749999600-1750010400@www.501restaurantandbar.com
SUMMARY:Rounds & Sounds: Weekly Live Music
DESCRIPTION:
URL:https://www.501restaurantandbar.com/event/rounds-sounds-weekly-live-music-2/
END:VEVENT
BEGIN:VEVENT
DTSTART;TZID=America/Los_Angeles:20250620T173000
DTEND;TZID=America/Los_Angeles:20250620T203000
DTSTAMP:20260421T013939
CREATED:20250530T121505Z
LAST-MODIFIED:20250530T121505Z
UID:10001135-1750440600-1750451400@www.501restaurantandbar.com
SUMMARY:Friday Night Dinner
DESCRIPTION:
URL:https://www.501restaurantandbar.com/event/friday-night-dinner-7/2025-06-20/
END:VEVENT
BEGIN:VEVENT
DTSTART;TZID=America/Los_Angeles:20250622T150000
DTEND;TZID=America/Los_Angeles:20250622T180000
DTSTAMP:20260421T013939
CREATED:20250530T120655Z
LAST-MODIFIED:20250530T120655Z
UID:10001129-1750604400-1750615200@www.501restaurantandbar.com
SUMMARY:Rounds & Sounds: Weekly Live Music
DESCRIPTION:
URL:https://www.501restaurantandbar.com/event/rounds-sounds-weekly-live-music-3/
END:VEVENT
BEGIN:VEVENT
DTSTART;TZID=America/Los_Angeles:20250627T173000
DTEND;TZID=America/Los_Angeles:20250627T203000
DTSTAMP:20260421T013939
CREATED:20250530T121505Z
LAST-MODIFIED:20250530T121505Z
UID:10001136-1751045400-1751056200@www.501restaurantandbar.com
SUMMARY:Friday Night Dinner
DESCRIPTION:
URL:https://www.501restaurantandbar.com/event/friday-night-dinner-7/2025-06-27/
END:VEVENT
BEGIN:VEVENT
DTSTART;TZID=America/Los_Angeles:20250627T180000
DTEND;TZID=America/Los_Angeles:20250627T193000
DTSTAMP:20260421T013939
CREATED:20250530T120759Z
LAST-MODIFIED:20250530T120759Z
UID:10001131-1751047200-1751052600@www.501restaurantandbar.com
SUMMARY:Private Event - Closed to the Public
DESCRIPTION:
URL:https://www.501restaurantandbar.com/event/private-event-closed-to-the-public-2/
END:VEVENT
BEGIN:VEVENT
DTSTART;TZID=America/Los_Angeles:20250628T170000
DTEND;TZID=America/Los_Angeles:20250628T220000
DTSTAMP:20260421T013939
CREATED:20250530T120838Z
LAST-MODIFIED:20250530T120838Z
UID:10001132-1751130000-1751148000@www.501restaurantandbar.com
SUMMARY:Private Event - Closed to the Public
DESCRIPTION:
URL:https://www.501restaurantandbar.com/event/private-event-closed-to-the-public-3/
END:VEVENT
BEGIN:VEVENT
DTSTART;TZID=America/Los_Angeles:20250629T150000
DTEND;TZID=America/Los_Angeles:20250629T180000
DTSTAMP:20260421T013939
CREATED:20250530T120859Z
LAST-MODIFIED:20250530T120859Z
UID:10001133-1751209200-1751220000@www.501restaurantandbar.com
SUMMARY:Rounds & Sounds: Weekly Live Music
DESCRIPTION:
URL:https://www.501restaurantandbar.com/event/rounds-sounds-weekly-live-music-4/
END:VEVENT
BEGIN:VEVENT
DTSTART;VALUE=DATE:20250704
DTEND;VALUE=DATE:20250705
DTSTAMP:20260421T013939
CREATED:20250721T182006Z
LAST-MODIFIED:20250721T182006Z
UID:10001145-1751587200-1751673599@www.501restaurantandbar.com
SUMMARY:Independence Day
DESCRIPTION:
URL:https://www.501restaurantandbar.com/event/independence-day/
END:VEVENT
BEGIN:VEVENT
DTSTART;TZID=America/Los_Angeles:20250704T173000
DTEND;TZID=America/Los_Angeles:20250704T203000
DTSTAMP:20260421T013939
CREATED:20250530T121505Z
LAST-MODIFIED:20250530T121505Z
UID:10001137-1751650200-1751661000@www.501restaurantandbar.com
SUMMARY:Friday Night Dinner
DESCRIPTION:
URL:https://www.501restaurantandbar.com/event/friday-night-dinner-7/2025-07-04/
END:VEVENT
BEGIN:VEVENT
DTSTART;TZID=America/Los_Angeles:20250705T120000
DTEND;TZID=America/Los_Angeles:20250705T200000
DTSTAMP:20260421T013939
CREATED:20250721T182136Z
LAST-MODIFIED:20250721T182136Z
UID:10001146-1751716800-1751745600@www.501restaurantandbar.com
SUMMARY:OUTSIDE LIVE MUSIC ON THE PRADO
DESCRIPTION:
URL:https://www.501restaurantandbar.com/event/outside-live-music-on-the-prado/
END:VEVENT
BEGIN:VEVENT
DTSTART;TZID=America/Los_Angeles:20250706T150000
DTEND;TZID=America/Los_Angeles:20250706T180000
DTSTAMP:20260421T013939
CREATED:20250721T182223Z
LAST-MODIFIED:20250721T182223Z
UID:10001147-1751814000-1751824800@www.501restaurantandbar.com
SUMMARY:Weekly Live Music
DESCRIPTION:
URL:https://www.501restaurantandbar.com/event/weekly-live-music-15/2025-07-06/
END:VEVENT
BEGIN:VEVENT
DTSTART;TZID=America/Los_Angeles:20250710T173000
DTEND;TZID=America/Los_Angeles:20250710T203000
DTSTAMP:20260421T013939
CREATED:20250530T120722Z
LAST-MODIFIED:20250721T181243Z
UID:10001141-1752168600-1752179400@www.501restaurantandbar.com
SUMMARY:PRIME RIB NIGHT
DESCRIPTION:
URL:https://www.501restaurantandbar.com/event/prime-rib-night-8/2025-07-10/
END:VEVENT
BEGIN:VEVENT
DTSTART;TZID=America/Los_Angeles:20250711T173000
DTEND;TZID=America/Los_Angeles:20250711T203000
DTSTAMP:20260421T013939
CREATED:20250530T121505Z
LAST-MODIFIED:20250530T121505Z
UID:10001138-1752255000-1752265800@www.501restaurantandbar.com
SUMMARY:Friday Night Dinner
DESCRIPTION:
URL:https://www.501restaurantandbar.com/event/friday-night-dinner-7/2025-07-11/
END:VEVENT
BEGIN:VEVENT
DTSTART;TZID=America/Los_Angeles:20250712T173000
DTEND;TZID=America/Los_Angeles:20250712T220000
DTSTAMP:20260421T013939
CREATED:20250721T182431Z
LAST-MODIFIED:20250721T182431Z
UID:10001412-1752341400-1752357600@www.501restaurantandbar.com
SUMMARY:Closed For Event
DESCRIPTION:
URL:https://www.501restaurantandbar.com/event/closed-for-event/
END:VEVENT
BEGIN:VEVENT
DTSTART;TZID=America/Los_Angeles:20250713T150000
DTEND;TZID=America/Los_Angeles:20250713T180000
DTSTAMP:20260421T013939
CREATED:20250721T182223Z
LAST-MODIFIED:20250721T182223Z
UID:10001148-1752418800-1752429600@www.501restaurantandbar.com
SUMMARY:Weekly Live Music
DESCRIPTION:
URL:https://www.501restaurantandbar.com/event/weekly-live-music-15/2025-07-13/
END:VEVENT
BEGIN:VEVENT
DTSTART;TZID=America/Los_Angeles:20250718T173000
DTEND;TZID=America/Los_Angeles:20250718T203000
DTSTAMP:20260421T013939
CREATED:20250530T121505Z
LAST-MODIFIED:20250530T121505Z
UID:10001139-1752859800-1752870600@www.501restaurantandbar.com
SUMMARY:Friday Night Dinner
DESCRIPTION:
URL:https://www.501restaurantandbar.com/event/friday-night-dinner-7/2025-07-18/
END:VEVENT
BEGIN:VEVENT
DTSTART;TZID=America/Los_Angeles:20250719T173000
DTEND;TZID=America/Los_Angeles:20250719T203000
DTSTAMP:20260421T013939
CREATED:20250429T232618Z
LAST-MODIFIED:20250614T004717Z
UID:10001105-1752946200-1752957000@www.501restaurantandbar.com
SUMMARY:Murder Mystery Night
DESCRIPTION:YOU’RE INVITED TO AN EVENING OF \nMURDER & MYSTERY\n\n\n\n\nSaturday\, July 19th\, 2025\n5:30pm – 8:30pm\n501 Avenida Vaquero\, San Clemente\n$110 Per Person \n\n\nJoin us at The 501 Restaurant & Bar for a thrilling\, immersive murder mystery experience where YOU become part of the story! A crime has been committed\, secrets are lurking\, and every guest is a suspect…It’s a 1930s Hollywood whodunnit! \nWhat to Expect: \nLive actors performing an engaging\, interactive mystery \n3-course gourmet dinner paired with suspense \nClues and plot twists at every turn \n\n\nLimited Seats! RSVP via Eventbrite or call (949) 492-1178 ext. 3
URL:https://www.501restaurantandbar.com/event/murder-mystery-night/
ATTACH;FMTTYPE=image/png:https://www.501restaurantandbar.com/wp-content/uploads/sites/9402/2025/04/Murder-Mystery-Night-Flyer-1.png
END:VEVENT
BEGIN:VEVENT
DTSTART;TZID=America/Los_Angeles:20250719T173000
DTEND;TZID=America/Los_Angeles:20250719T203000
DTSTAMP:20260421T013939
CREATED:20250721T182342Z
LAST-MODIFIED:20250721T182342Z
UID:10001411-1752946200-1752957000@www.501restaurantandbar.com
SUMMARY:MURDER MYSTERY NIGHT
DESCRIPTION:
URL:https://www.501restaurantandbar.com/event/murder-mystery-night-2/
END:VEVENT
BEGIN:VEVENT
DTSTART;TZID=America/Los_Angeles:20250720T150000
DTEND;TZID=America/Los_Angeles:20250720T180000
DTSTAMP:20260421T013939
CREATED:20250721T182223Z
LAST-MODIFIED:20250721T182223Z
UID:10001149-1753023600-1753034400@www.501restaurantandbar.com
SUMMARY:Weekly Live Music
DESCRIPTION:
URL:https://www.501restaurantandbar.com/event/weekly-live-music-15/2025-07-20/
END:VEVENT
BEGIN:VEVENT
DTSTART;TZID=America/Los_Angeles:20250724T173000
DTEND;TZID=America/Los_Angeles:20250724T203000
DTSTAMP:20260421T013939
CREATED:20250530T120722Z
LAST-MODIFIED:20250721T181243Z
UID:10001142-1753378200-1753389000@www.501restaurantandbar.com
SUMMARY:PRIME RIB NIGHT
DESCRIPTION:
URL:https://www.501restaurantandbar.com/event/prime-rib-night-8/2025-07-24/
END:VEVENT
BEGIN:VEVENT
DTSTART;TZID=America/Los_Angeles:20250725T173000
DTEND;TZID=America/Los_Angeles:20250725T203000
DTSTAMP:20260421T013939
CREATED:20250530T121505Z
LAST-MODIFIED:20250530T121505Z
UID:10001140-1753464600-1753475400@www.501restaurantandbar.com
SUMMARY:Friday Night Dinner
DESCRIPTION:
URL:https://www.501restaurantandbar.com/event/friday-night-dinner-7/2025-07-25/
END:VEVENT
BEGIN:VEVENT
DTSTART;TZID=America/Los_Angeles:20250727T150000
DTEND;TZID=America/Los_Angeles:20250727T180000
DTSTAMP:20260421T013939
CREATED:20250721T182223Z
LAST-MODIFIED:20250721T182223Z
UID:10001150-1753628400-1753639200@www.501restaurantandbar.com
SUMMARY:Weekly Live Music
DESCRIPTION:
URL:https://www.501restaurantandbar.com/event/weekly-live-music-15/2025-07-27/
END:VEVENT
BEGIN:VEVENT
DTSTART;TZID=America/Los_Angeles:20250801T160000
DTEND;TZID=America/Los_Angeles:20250801T190000
DTSTAMP:20260421T013939
CREATED:20250721T182507Z
LAST-MODIFIED:20250721T182507Z
UID:10001413-1754064000-1754074800@www.501restaurantandbar.com
SUMMARY:Closed For Event **Restaurant Still Open to Public**
DESCRIPTION:
URL:https://www.501restaurantandbar.com/event/closed-for-event-restaurant-still-open-to-public/
END:VEVENT
BEGIN:VEVENT
DTSTART;TZID=America/Los_Angeles:20250801T173000
DTEND;TZID=America/Los_Angeles:20250801T203000
DTSTAMP:20260421T013939
CREATED:20250819T230825Z
LAST-MODIFIED:20250819T230825Z
UID:10001486-1754069400-1754080200@www.501restaurantandbar.com
SUMMARY:Friday Night Dinner
DESCRIPTION:
URL:https://www.501restaurantandbar.com/event/friday-night-dinner-9/2025-08-01/
END:VEVENT
BEGIN:VEVENT
DTSTART;TZID=America/Los_Angeles:20250802T170000
DTEND;TZID=America/Los_Angeles:20250802T220000
DTSTAMP:20260421T013939
CREATED:20250721T182539Z
LAST-MODIFIED:20250721T182539Z
UID:10001414-1754154000-1754172000@www.501restaurantandbar.com
SUMMARY:Closed For Event
DESCRIPTION:
URL:https://www.501restaurantandbar.com/event/closed-for-event-2/
END:VEVENT
END:VCALENDAR