BEGIN:VCALENDAR
VERSION:2.0
PRODID:-//501 Restaurant &amp; Bar - ECPv6.15.18//NONSGML v1.0//EN
CALSCALE:GREGORIAN
METHOD:PUBLISH
X-ORIGINAL-URL:https://www.501restaurantandbar.com
X-WR-CALDESC:Events for 501 Restaurant &amp; Bar
REFRESH-INTERVAL;VALUE=DURATION:PT1H
X-Robots-Tag:noindex
X-PUBLISHED-TTL:PT1H
BEGIN:VTIMEZONE
TZID:America/Los_Angeles
BEGIN:DAYLIGHT
TZOFFSETFROM:-0800
TZOFFSETTO:-0700
TZNAME:PDT
DTSTART:20250309T100000
END:DAYLIGHT
BEGIN:STANDARD
TZOFFSETFROM:-0700
TZOFFSETTO:-0800
TZNAME:PST
DTSTART:20251102T090000
END:STANDARD
BEGIN:DAYLIGHT
TZOFFSETFROM:-0800
TZOFFSETTO:-0700
TZNAME:PDT
DTSTART:20260308T100000
END:DAYLIGHT
BEGIN:STANDARD
TZOFFSETFROM:-0700
TZOFFSETTO:-0800
TZNAME:PST
DTSTART:20261101T090000
END:STANDARD
BEGIN:DAYLIGHT
TZOFFSETFROM:-0800
TZOFFSETTO:-0700
TZNAME:PDT
DTSTART:20270314T100000
END:DAYLIGHT
BEGIN:STANDARD
TZOFFSETFROM:-0700
TZOFFSETTO:-0800
TZNAME:PST
DTSTART:20271107T090000
END:STANDARD
END:VTIMEZONE
BEGIN:VEVENT
DTSTART;TZID=America/Los_Angeles:20260308T140000
DTEND;TZID=America/Los_Angeles:20260308T170000
DTSTAMP:20260421T180047
CREATED:20251114T015539Z
LAST-MODIFIED:20251114T015611Z
UID:10001989-1772978400-1772989200@www.501restaurantandbar.com
SUMMARY:Weekly Live Music
DESCRIPTION:
URL:https://www.501restaurantandbar.com/event/weekly-live-music-47/
ATTACH;FMTTYPE=image/png:https://www.501restaurantandbar.com/wp-content/uploads/sites/9402/2025/11/Rounds-and-Sounds-Flyer-Real-Estate-Flyer-2-1.png
END:VEVENT
BEGIN:VEVENT
DTSTART;TZID=America/Los_Angeles:20260315T140000
DTEND;TZID=America/Los_Angeles:20260315T170000
DTSTAMP:20260421T180047
CREATED:20251114T015652Z
LAST-MODIFIED:20260314T010148Z
UID:10001990-1773583200-1773594000@www.501restaurantandbar.com
SUMMARY:Weekly Live Music
DESCRIPTION:
URL:https://www.501restaurantandbar.com/event/weekly-live-music-48/
ATTACH;FMTTYPE=image/png:https://www.501restaurantandbar.com/wp-content/uploads/sites/9402/2025/08/3-SHORECLIFFS-FLYER-11X17.png
END:VEVENT
BEGIN:VEVENT
DTSTART;TZID=America/Los_Angeles:20260316T140000
DTEND;TZID=America/Los_Angeles:20260316T170000
DTSTAMP:20260421T180047
CREATED:20260306T163140Z
LAST-MODIFIED:20260306T163140Z
UID:10003998-1773669600-1773680400@www.501restaurantandbar.com
SUMMARY:Private Event
DESCRIPTION:BBQ outside for golfers
URL:https://www.501restaurantandbar.com/event/private-event-16/
END:VEVENT
BEGIN:VEVENT
DTSTART;VALUE=DATE:20260317
DTEND;VALUE=DATE:20260318
DTSTAMP:20260421T180047
CREATED:20260306T163212Z
LAST-MODIFIED:20260314T005643Z
UID:10003999-1773705600-1773791999@www.501restaurantandbar.com
SUMMARY:ST. PATRICK'S DAY
DESCRIPTION:St. Patrick’s Day Special Menu at The 501 (All Day) \nDomestic Beer …. $5.00  \nCorned Beef\, Potato\, & Cabbage Tacos (2) with Horseradish Cream …. $10.00 
URL:https://www.501restaurantandbar.com/event/st-patricks-day-2/
ATTACH;FMTTYPE=image/png:https://www.501restaurantandbar.com/wp-content/uploads/sites/9402/2026/03/St.-Pattys-2026.png
END:VEVENT
BEGIN:VEVENT
DTSTART;TZID=America/Los_Angeles:20260319T173000
DTEND;TZID=America/Los_Angeles:20260319T203000
DTSTAMP:20260421T180047
CREATED:20260108T192852Z
LAST-MODIFIED:20260210T225108Z
UID:10003229-1773941400-1773952200@www.501restaurantandbar.com
SUMMARY:Prime Rib Night
DESCRIPTION:
URL:https://www.501restaurantandbar.com/event/prime-rib-night-20/2026-03-19/
END:VEVENT
BEGIN:VEVENT
DTSTART;TZID=America/Los_Angeles:20260322T140000
DTEND;TZID=America/Los_Angeles:20260322T170000
DTSTAMP:20260421T180047
CREATED:20251114T015854Z
LAST-MODIFIED:20260314T010241Z
UID:10001991-1774188000-1774198800@www.501restaurantandbar.com
SUMMARY:Weekly Live Music
DESCRIPTION:
URL:https://www.501restaurantandbar.com/event/weekly-live-music-49/
END:VEVENT
BEGIN:VEVENT
DTSTART;TZID=America/Los_Angeles:20260323T100000
DTEND;TZID=America/Los_Angeles:20260323T150000
DTSTAMP:20260421T180047
CREATED:20250919T211953Z
LAST-MODIFIED:20251017T210816Z
UID:10001537-1774260000-1774278000@www.501restaurantandbar.com
SUMMARY:Waves and Wedges Tournament
DESCRIPTION:Waves and Wedges Tournament – 100+ players (Shotgun) : 10am – 3pm
URL:https://www.501restaurantandbar.com/event/waves-and-wedges-tournament/
END:VEVENT
BEGIN:VEVENT
DTSTART;VALUE=DATE:20260324
DTEND;VALUE=DATE:20260330
DTSTAMP:20260421T180047
CREATED:20260324T191625Z
LAST-MODIFIED:20260324T191625Z
UID:10004002-1774310400-1774828799@www.501restaurantandbar.com
SUMMARY:Aerification Week
DESCRIPTION:ANNUAL AERIFICATION WEEK 2026 \nOur greens will be undergoing aerification to maintain the long-term health and playability of the golf course. \nTUESDAY – SUNDAY | March 24th – 29th \nDiscounted Golf Rates: Tues-Fri: $55 | Sat-Sun: $75 \nIMPORTANT: \nTuesday\, March 24th: Front 9 Only \nWednesday\, March 25th: Back 9 Only \nThank You for Your Patience!
URL:https://www.501restaurantandbar.com/event/aerification-week/
ATTACH;FMTTYPE=image/png:https://www.501restaurantandbar.com/wp-content/uploads/sites/9402/2025/08/Aerification-Flyer-5.png
END:VEVENT
BEGIN:VEVENT
DTSTART;TZID=America/Los_Angeles:20260328T170000
DTEND;TZID=America/Los_Angeles:20260328T213000
DTSTAMP:20260421T180047
CREATED:20260306T163326Z
LAST-MODIFIED:20260306T163326Z
UID:10004000-1774717200-1774733400@www.501restaurantandbar.com
SUMMARY:Private Event
DESCRIPTION:
URL:https://www.501restaurantandbar.com/event/private-event-17/
END:VEVENT
BEGIN:VEVENT
DTSTART;TZID=America/Los_Angeles:20260329T150000
DTEND;TZID=America/Los_Angeles:20260329T180000
DTSTAMP:20260421T180047
CREATED:20251114T020103Z
LAST-MODIFIED:20260324T225840Z
UID:10001992-1774796400-1774807200@www.501restaurantandbar.com
SUMMARY:Live Music Sunday Sessions
DESCRIPTION:
URL:https://www.501restaurantandbar.com/event/weekly-live-music-50/
END:VEVENT
BEGIN:VEVENT
DTSTART;TZID=America/Los_Angeles:20260402T173000
DTEND;TZID=America/Los_Angeles:20260402T203000
DTSTAMP:20260421T180047
CREATED:20260108T192852Z
LAST-MODIFIED:20260210T225108Z
UID:10003230-1775151000-1775161800@www.501restaurantandbar.com
SUMMARY:Prime Rib Night
DESCRIPTION:
URL:https://www.501restaurantandbar.com/event/prime-rib-night-20/2026-04-02/
END:VEVENT
BEGIN:VEVENT
DTSTART;VALUE=DATE:20260405
DTEND;VALUE=DATE:20260406
DTSTAMP:20260421T180047
CREATED:20260324T192111Z
LAST-MODIFIED:20260324T192111Z
UID:10004003-1775347200-1775433599@www.501restaurantandbar.com
SUMMARY:EASTER
DESCRIPTION:
URL:https://www.501restaurantandbar.com/event/easter/
END:VEVENT
BEGIN:VEVENT
DTSTART;TZID=America/Los_Angeles:20260405T100000
DTEND;TZID=America/Los_Angeles:20260405T140000
DTSTAMP:20260421T180047
CREATED:20260314T013115Z
LAST-MODIFIED:20260316T222427Z
UID:10004001-1775383200-1775397600@www.501restaurantandbar.com
SUMMARY:Easter Brunch
DESCRIPTION:EASTER BRUNCH BUFFET MENU \n$35 PER PERSON (TAX AND GRATUITY NOT INCLUDED) \nFRUIT SALAD \nASSORTED PASTRIES \nSCRAMBLED EGGS \nEGGS BENEDICT \nBACON \nSAUSAGE \nBREAKFAST POTATOES \nPANCAKES \nJuice Bar and One Complimentary Glass of Champagne or Prosecco Included \nMake a Reservation on Opentable or call 949-492-1178 extension 3
URL:https://www.501restaurantandbar.com/event/easter-brunch/
ATTACH;FMTTYPE=image/png:https://www.501restaurantandbar.com/wp-content/uploads/sites/9402/2025/08/Pale-Pink-Blue-and-Yellow-Watercolour-Floral-Easter-Menu-1.png
END:VEVENT
BEGIN:VEVENT
DTSTART;TZID=America/Los_Angeles:20260411T110000
DTEND;TZID=America/Los_Angeles:20260411T130000
DTSTAMP:20260421T180047
CREATED:20260326T213715Z
LAST-MODIFIED:20260326T213715Z
UID:10004023-1775905200-1775912400@www.501restaurantandbar.com
SUMMARY:Private Event *Restaurant still open to public+
DESCRIPTION:
URL:https://www.501restaurantandbar.com/event/private-event-restaurant-still-open-to-public/
END:VEVENT
BEGIN:VEVENT
DTSTART;TZID=America/Los_Angeles:20260411T170000
DTEND;TZID=America/Los_Angeles:20260411T210000
DTSTAMP:20260421T180047
CREATED:20260326T213757Z
LAST-MODIFIED:20260326T213757Z
UID:10004024-1775926800-1775941200@www.501restaurantandbar.com
SUMMARY:Private Event
DESCRIPTION:
URL:https://www.501restaurantandbar.com/event/private-event-18/
END:VEVENT
BEGIN:VEVENT
DTSTART;TZID=America/Los_Angeles:20260412T150000
DTEND;TZID=America/Los_Angeles:20260412T180000
DTSTAMP:20260421T180047
CREATED:20251017T203952Z
LAST-MODIFIED:20260324T230134Z
UID:10001994-1776006000-1776016800@www.501restaurantandbar.com
SUMMARY:Live Music Sunday Sessions
DESCRIPTION:
URL:https://www.501restaurantandbar.com/event/weekly-live-music-15-2-2/2026-04-12/
END:VEVENT
BEGIN:VEVENT
DTSTART;TZID=America/Los_Angeles:20260416T173000
DTEND;TZID=America/Los_Angeles:20260416T203000
DTSTAMP:20260421T180047
CREATED:20260108T192852Z
LAST-MODIFIED:20260210T225108Z
UID:10003231-1776360600-1776371400@www.501restaurantandbar.com
SUMMARY:Prime Rib Night
DESCRIPTION:
URL:https://www.501restaurantandbar.com/event/prime-rib-night-20/2026-04-16/
END:VEVENT
BEGIN:VEVENT
DTSTART;TZID=America/Los_Angeles:20260418T170000
DTEND;TZID=America/Los_Angeles:20260418T220000
DTSTAMP:20260421T180047
CREATED:20260326T213848Z
LAST-MODIFIED:20260326T213848Z
UID:10004025-1776531600-1776549600@www.501restaurantandbar.com
SUMMARY:Private Event
DESCRIPTION:
URL:https://www.501restaurantandbar.com/event/private-event-19/
END:VEVENT
BEGIN:VEVENT
DTSTART;TZID=America/Los_Angeles:20260419T150000
DTEND;TZID=America/Los_Angeles:20260419T180000
DTSTAMP:20260421T180047
CREATED:20251017T203952Z
LAST-MODIFIED:20260324T230134Z
UID:10001995-1776610800-1776621600@www.501restaurantandbar.com
SUMMARY:Live Music Sunday Sessions
DESCRIPTION:
URL:https://www.501restaurantandbar.com/event/weekly-live-music-15-2-2/2026-04-19/
END:VEVENT
BEGIN:VEVENT
DTSTART;TZID=America/Los_Angeles:20260425T170000
DTEND;TZID=America/Los_Angeles:20260425T203000
DTSTAMP:20260421T180047
CREATED:20260326T213936Z
LAST-MODIFIED:20260326T213936Z
UID:10004026-1777136400-1777149000@www.501restaurantandbar.com
SUMMARY:Private Dinner *Restaurant still open to public*
DESCRIPTION:
URL:https://www.501restaurantandbar.com/event/private-dinner-restaurant-still-open-to-public/
END:VEVENT
BEGIN:VEVENT
DTSTART;TZID=America/Los_Angeles:20260426T150000
DTEND;TZID=America/Los_Angeles:20260426T180000
DTSTAMP:20260421T180048
CREATED:20251017T203952Z
LAST-MODIFIED:20260324T230134Z
UID:10001996-1777215600-1777226400@www.501restaurantandbar.com
SUMMARY:Live Music Sunday Sessions
DESCRIPTION:
URL:https://www.501restaurantandbar.com/event/weekly-live-music-15-2-2/2026-04-26/
END:VEVENT
BEGIN:VEVENT
DTSTART;TZID=America/Los_Angeles:20260426T150000
DTEND;TZID=America/Los_Angeles:20260426T200000
DTSTAMP:20260421T180048
CREATED:20260326T214042Z
LAST-MODIFIED:20260326T214920Z
UID:10004027-1777215600-1777233600@www.501restaurantandbar.com
SUMMARY:Private Event
DESCRIPTION:
URL:https://www.501restaurantandbar.com/event/private-event-no-live-music/
END:VEVENT
BEGIN:VEVENT
DTSTART;TZID=America/Los_Angeles:20260503T150000
DTEND;TZID=America/Los_Angeles:20260503T180000
DTSTAMP:20260421T180048
CREATED:20251017T203952Z
LAST-MODIFIED:20260324T230134Z
UID:10001997-1777820400-1777831200@www.501restaurantandbar.com
SUMMARY:Live Music Sunday Sessions
DESCRIPTION:
URL:https://www.501restaurantandbar.com/event/weekly-live-music-15-2-2/2026-05-03/
END:VEVENT
BEGIN:VEVENT
DTSTART;TZID=America/Los_Angeles:20260507T173000
DTEND;TZID=America/Los_Angeles:20260507T203000
DTSTAMP:20260421T180048
CREATED:20260108T192852Z
LAST-MODIFIED:20260210T225108Z
UID:10003232-1778175000-1778185800@www.501restaurantandbar.com
SUMMARY:Prime Rib Night
DESCRIPTION:
URL:https://www.501restaurantandbar.com/event/prime-rib-night-20/2026-05-07/
END:VEVENT
BEGIN:VEVENT
DTSTART;TZID=America/Los_Angeles:20260510T150000
DTEND;TZID=America/Los_Angeles:20260510T180000
DTSTAMP:20260421T180048
CREATED:20251017T203952Z
LAST-MODIFIED:20260324T230134Z
UID:10001998-1778425200-1778436000@www.501restaurantandbar.com
SUMMARY:Live Music Sunday Sessions
DESCRIPTION:
URL:https://www.501restaurantandbar.com/event/weekly-live-music-15-2-2/2026-05-10/
END:VEVENT
BEGIN:VEVENT
DTSTART;TZID=America/Los_Angeles:20260517T150000
DTEND;TZID=America/Los_Angeles:20260517T180000
DTSTAMP:20260421T180048
CREATED:20251017T203952Z
LAST-MODIFIED:20260324T230134Z
UID:10001999-1779030000-1779040800@www.501restaurantandbar.com
SUMMARY:Live Music Sunday Sessions
DESCRIPTION:
URL:https://www.501restaurantandbar.com/event/weekly-live-music-15-2-2/2026-05-17/
END:VEVENT
BEGIN:VEVENT
DTSTART;TZID=America/Los_Angeles:20260521T173000
DTEND;TZID=America/Los_Angeles:20260521T203000
DTSTAMP:20260421T180048
CREATED:20260108T192852Z
LAST-MODIFIED:20260210T225108Z
UID:10003233-1779384600-1779395400@www.501restaurantandbar.com
SUMMARY:Prime Rib Night
DESCRIPTION:
URL:https://www.501restaurantandbar.com/event/prime-rib-night-20/2026-05-21/
END:VEVENT
BEGIN:VEVENT
DTSTART;TZID=America/Los_Angeles:20260524T150000
DTEND;TZID=America/Los_Angeles:20260524T180000
DTSTAMP:20260421T180048
CREATED:20251017T203952Z
LAST-MODIFIED:20260324T230134Z
UID:10002000-1779634800-1779645600@www.501restaurantandbar.com
SUMMARY:Live Music Sunday Sessions
DESCRIPTION:
URL:https://www.501restaurantandbar.com/event/weekly-live-music-15-2-2/2026-05-24/
END:VEVENT
BEGIN:VEVENT
DTSTART;TZID=America/Los_Angeles:20260531T150000
DTEND;TZID=America/Los_Angeles:20260531T180000
DTSTAMP:20260421T180048
CREATED:20251017T203952Z
LAST-MODIFIED:20260324T230134Z
UID:10002001-1780239600-1780250400@www.501restaurantandbar.com
SUMMARY:Live Music Sunday Sessions
DESCRIPTION:
URL:https://www.501restaurantandbar.com/event/weekly-live-music-15-2-2/2026-05-31/
END:VEVENT
BEGIN:VEVENT
DTSTART;TZID=America/Los_Angeles:20260604T173000
DTEND;TZID=America/Los_Angeles:20260604T203000
DTSTAMP:20260421T180048
CREATED:20260108T192852Z
LAST-MODIFIED:20260210T225108Z
UID:10003234-1780594200-1780605000@www.501restaurantandbar.com
SUMMARY:Prime Rib Night
DESCRIPTION:
URL:https://www.501restaurantandbar.com/event/prime-rib-night-20/2026-06-04/
END:VEVENT
END:VCALENDAR