BEGIN:VCALENDAR
VERSION:2.0
PRODID:-//501 Restaurant &amp; Bar - ECPv6.15.18//NONSGML v1.0//EN
CALSCALE:GREGORIAN
METHOD:PUBLISH
X-WR-CALNAME:501 Restaurant &amp; Bar
X-ORIGINAL-URL:https://www.501restaurantandbar.com
X-WR-CALDESC:Events for 501 Restaurant &amp; Bar
REFRESH-INTERVAL;VALUE=DURATION:PT1H
X-Robots-Tag:noindex
X-PUBLISHED-TTL:PT1H
BEGIN:VTIMEZONE
TZID:America/Los_Angeles
BEGIN:DAYLIGHT
TZOFFSETFROM:-0800
TZOFFSETTO:-0700
TZNAME:PDT
DTSTART:20270314T100000
END:DAYLIGHT
BEGIN:STANDARD
TZOFFSETFROM:-0700
TZOFFSETTO:-0800
TZNAME:PST
DTSTART:20271107T090000
END:STANDARD
BEGIN:DAYLIGHT
TZOFFSETFROM:-0800
TZOFFSETTO:-0700
TZNAME:PDT
DTSTART:20280312T100000
END:DAYLIGHT
BEGIN:STANDARD
TZOFFSETFROM:-0700
TZOFFSETTO:-0800
TZNAME:PST
DTSTART:20281105T090000
END:STANDARD
BEGIN:DAYLIGHT
TZOFFSETFROM:-0800
TZOFFSETTO:-0700
TZNAME:PDT
DTSTART:20290311T100000
END:DAYLIGHT
BEGIN:STANDARD
TZOFFSETFROM:-0700
TZOFFSETTO:-0800
TZNAME:PST
DTSTART:20291104T090000
END:STANDARD
BEGIN:DAYLIGHT
TZOFFSETFROM:-0800
TZOFFSETTO:-0700
TZNAME:PDT
DTSTART:20300310T100000
END:DAYLIGHT
BEGIN:STANDARD
TZOFFSETFROM:-0700
TZOFFSETTO:-0800
TZNAME:PST
DTSTART:20301103T090000
END:STANDARD
END:VTIMEZONE
BEGIN:VEVENT
DTSTART;TZID=America/Los_Angeles:20280618T150000
DTEND;TZID=America/Los_Angeles:20280618T180000
DTSTAMP:20260422T154840
CREATED:20251017T203952Z
LAST-MODIFIED:20260324T230134Z
UID:10002108-1844953200-1844964000@www.501restaurantandbar.com
SUMMARY:Live Music Sunday Sessions
DESCRIPTION:
URL:https://www.501restaurantandbar.com/event/weekly-live-music-15-2-2/2028-06-18/
END:VEVENT
BEGIN:VEVENT
DTSTART;TZID=America/Los_Angeles:20280625T150000
DTEND;TZID=America/Los_Angeles:20280625T180000
DTSTAMP:20260422T154840
CREATED:20251017T203952Z
LAST-MODIFIED:20260324T230134Z
UID:10002109-1845558000-1845568800@www.501restaurantandbar.com
SUMMARY:Live Music Sunday Sessions
DESCRIPTION:
URL:https://www.501restaurantandbar.com/event/weekly-live-music-15-2-2/2028-06-25/
END:VEVENT
BEGIN:VEVENT
DTSTART;TZID=America/Los_Angeles:20280702T150000
DTEND;TZID=America/Los_Angeles:20280702T180000
DTSTAMP:20260422T154840
CREATED:20251017T203952Z
LAST-MODIFIED:20260324T230134Z
UID:10002110-1846162800-1846173600@www.501restaurantandbar.com
SUMMARY:Live Music Sunday Sessions
DESCRIPTION:
URL:https://www.501restaurantandbar.com/event/weekly-live-music-15-2-2/2028-07-02/
END:VEVENT
BEGIN:VEVENT
DTSTART;TZID=America/Los_Angeles:20280709T150000
DTEND;TZID=America/Los_Angeles:20280709T180000
DTSTAMP:20260422T154840
CREATED:20251017T203952Z
LAST-MODIFIED:20260324T230134Z
UID:10002111-1846767600-1846778400@www.501restaurantandbar.com
SUMMARY:Live Music Sunday Sessions
DESCRIPTION:
URL:https://www.501restaurantandbar.com/event/weekly-live-music-15-2-2/2028-07-09/
END:VEVENT
BEGIN:VEVENT
DTSTART;TZID=America/Los_Angeles:20280716T150000
DTEND;TZID=America/Los_Angeles:20280716T180000
DTSTAMP:20260422T154840
CREATED:20251017T203952Z
LAST-MODIFIED:20260324T230134Z
UID:10002112-1847372400-1847383200@www.501restaurantandbar.com
SUMMARY:Live Music Sunday Sessions
DESCRIPTION:
URL:https://www.501restaurantandbar.com/event/weekly-live-music-15-2-2/2028-07-16/
END:VEVENT
BEGIN:VEVENT
DTSTART;TZID=America/Los_Angeles:20280723T150000
DTEND;TZID=America/Los_Angeles:20280723T180000
DTSTAMP:20260422T154840
CREATED:20251017T203952Z
LAST-MODIFIED:20260324T230134Z
UID:10002113-1847977200-1847988000@www.501restaurantandbar.com
SUMMARY:Live Music Sunday Sessions
DESCRIPTION:
URL:https://www.501restaurantandbar.com/event/weekly-live-music-15-2-2/2028-07-23/
END:VEVENT
BEGIN:VEVENT
DTSTART;TZID=America/Los_Angeles:20280730T150000
DTEND;TZID=America/Los_Angeles:20280730T180000
DTSTAMP:20260422T154840
CREATED:20251017T203952Z
LAST-MODIFIED:20260324T230134Z
UID:10002114-1848582000-1848592800@www.501restaurantandbar.com
SUMMARY:Live Music Sunday Sessions
DESCRIPTION:
URL:https://www.501restaurantandbar.com/event/weekly-live-music-15-2-2/2028-07-30/
END:VEVENT
BEGIN:VEVENT
DTSTART;TZID=America/Los_Angeles:20280806T150000
DTEND;TZID=America/Los_Angeles:20280806T180000
DTSTAMP:20260422T154840
CREATED:20251017T203952Z
LAST-MODIFIED:20260324T230134Z
UID:10002115-1849186800-1849197600@www.501restaurantandbar.com
SUMMARY:Live Music Sunday Sessions
DESCRIPTION:
URL:https://www.501restaurantandbar.com/event/weekly-live-music-15-2-2/2028-08-06/
END:VEVENT
BEGIN:VEVENT
DTSTART;TZID=America/Los_Angeles:20280813T150000
DTEND;TZID=America/Los_Angeles:20280813T180000
DTSTAMP:20260422T154840
CREATED:20251017T203952Z
LAST-MODIFIED:20260324T230134Z
UID:10002116-1849791600-1849802400@www.501restaurantandbar.com
SUMMARY:Live Music Sunday Sessions
DESCRIPTION:
URL:https://www.501restaurantandbar.com/event/weekly-live-music-15-2-2/2028-08-13/
END:VEVENT
BEGIN:VEVENT
DTSTART;TZID=America/Los_Angeles:20280820T150000
DTEND;TZID=America/Los_Angeles:20280820T180000
DTSTAMP:20260422T154840
CREATED:20251017T203952Z
LAST-MODIFIED:20260324T230134Z
UID:10002117-1850396400-1850407200@www.501restaurantandbar.com
SUMMARY:Live Music Sunday Sessions
DESCRIPTION:
URL:https://www.501restaurantandbar.com/event/weekly-live-music-15-2-2/2028-08-20/
END:VEVENT
BEGIN:VEVENT
DTSTART;TZID=America/Los_Angeles:20280827T150000
DTEND;TZID=America/Los_Angeles:20280827T180000
DTSTAMP:20260422T154840
CREATED:20251017T203952Z
LAST-MODIFIED:20260324T230134Z
UID:10002118-1851001200-1851012000@www.501restaurantandbar.com
SUMMARY:Live Music Sunday Sessions
DESCRIPTION:
URL:https://www.501restaurantandbar.com/event/weekly-live-music-15-2-2/2028-08-27/
END:VEVENT
BEGIN:VEVENT
DTSTART;TZID=America/Los_Angeles:20280903T150000
DTEND;TZID=America/Los_Angeles:20280903T180000
DTSTAMP:20260422T154840
CREATED:20251017T203952Z
LAST-MODIFIED:20260324T230134Z
UID:10002119-1851606000-1851616800@www.501restaurantandbar.com
SUMMARY:Live Music Sunday Sessions
DESCRIPTION:
URL:https://www.501restaurantandbar.com/event/weekly-live-music-15-2-2/2028-09-03/
END:VEVENT
BEGIN:VEVENT
DTSTART;TZID=America/Los_Angeles:20280910T150000
DTEND;TZID=America/Los_Angeles:20280910T180000
DTSTAMP:20260422T154840
CREATED:20251017T203952Z
LAST-MODIFIED:20260324T230134Z
UID:10002120-1852210800-1852221600@www.501restaurantandbar.com
SUMMARY:Live Music Sunday Sessions
DESCRIPTION:
URL:https://www.501restaurantandbar.com/event/weekly-live-music-15-2-2/2028-09-10/
END:VEVENT
BEGIN:VEVENT
DTSTART;TZID=America/Los_Angeles:20280917T150000
DTEND;TZID=America/Los_Angeles:20280917T180000
DTSTAMP:20260422T154840
CREATED:20251017T203952Z
LAST-MODIFIED:20260324T230134Z
UID:10002121-1852815600-1852826400@www.501restaurantandbar.com
SUMMARY:Live Music Sunday Sessions
DESCRIPTION:
URL:https://www.501restaurantandbar.com/event/weekly-live-music-15-2-2/2028-09-17/
END:VEVENT
BEGIN:VEVENT
DTSTART;TZID=America/Los_Angeles:20280924T150000
DTEND;TZID=America/Los_Angeles:20280924T180000
DTSTAMP:20260422T154840
CREATED:20251017T203952Z
LAST-MODIFIED:20260324T230134Z
UID:10002122-1853420400-1853431200@www.501restaurantandbar.com
SUMMARY:Live Music Sunday Sessions
DESCRIPTION:
URL:https://www.501restaurantandbar.com/event/weekly-live-music-15-2-2/2028-09-24/
END:VEVENT
BEGIN:VEVENT
DTSTART;TZID=America/Los_Angeles:20281001T150000
DTEND;TZID=America/Los_Angeles:20281001T180000
DTSTAMP:20260422T154840
CREATED:20251017T203952Z
LAST-MODIFIED:20260324T230134Z
UID:10002123-1854025200-1854036000@www.501restaurantandbar.com
SUMMARY:Live Music Sunday Sessions
DESCRIPTION:
URL:https://www.501restaurantandbar.com/event/weekly-live-music-15-2-2/2028-10-01/
END:VEVENT
BEGIN:VEVENT
DTSTART;TZID=America/Los_Angeles:20281008T150000
DTEND;TZID=America/Los_Angeles:20281008T180000
DTSTAMP:20260422T154840
CREATED:20251017T203952Z
LAST-MODIFIED:20260324T230134Z
UID:10002124-1854630000-1854640800@www.501restaurantandbar.com
SUMMARY:Live Music Sunday Sessions
DESCRIPTION:
URL:https://www.501restaurantandbar.com/event/weekly-live-music-15-2-2/2028-10-08/
END:VEVENT
BEGIN:VEVENT
DTSTART;TZID=America/Los_Angeles:20281015T150000
DTEND;TZID=America/Los_Angeles:20281015T180000
DTSTAMP:20260422T154840
CREATED:20251017T203952Z
LAST-MODIFIED:20260324T230134Z
UID:10002125-1855234800-1855245600@www.501restaurantandbar.com
SUMMARY:Live Music Sunday Sessions
DESCRIPTION:
URL:https://www.501restaurantandbar.com/event/weekly-live-music-15-2-2/2028-10-15/
END:VEVENT
BEGIN:VEVENT
DTSTART;TZID=America/Los_Angeles:20281022T150000
DTEND;TZID=America/Los_Angeles:20281022T180000
DTSTAMP:20260422T154840
CREATED:20251017T203952Z
LAST-MODIFIED:20260324T230134Z
UID:10002126-1855839600-1855850400@www.501restaurantandbar.com
SUMMARY:Live Music Sunday Sessions
DESCRIPTION:
URL:https://www.501restaurantandbar.com/event/weekly-live-music-15-2-2/2028-10-22/
END:VEVENT
BEGIN:VEVENT
DTSTART;TZID=America/Los_Angeles:20281029T150000
DTEND;TZID=America/Los_Angeles:20281029T180000
DTSTAMP:20260422T154840
CREATED:20251017T203952Z
LAST-MODIFIED:20260324T230134Z
UID:10002127-1856444400-1856455200@www.501restaurantandbar.com
SUMMARY:Live Music Sunday Sessions
DESCRIPTION:
URL:https://www.501restaurantandbar.com/event/weekly-live-music-15-2-2/2028-10-29/
END:VEVENT
BEGIN:VEVENT
DTSTART;TZID=America/Los_Angeles:20281105T150000
DTEND;TZID=America/Los_Angeles:20281105T180000
DTSTAMP:20260422T154840
CREATED:20251017T203952Z
LAST-MODIFIED:20260324T230134Z
UID:10002128-1857049200-1857060000@www.501restaurantandbar.com
SUMMARY:Live Music Sunday Sessions
DESCRIPTION:
URL:https://www.501restaurantandbar.com/event/weekly-live-music-15-2-2/2028-11-05/
END:VEVENT
BEGIN:VEVENT
DTSTART;TZID=America/Los_Angeles:20281112T150000
DTEND;TZID=America/Los_Angeles:20281112T180000
DTSTAMP:20260422T154840
CREATED:20251017T203952Z
LAST-MODIFIED:20260324T230134Z
UID:10002129-1857654000-1857664800@www.501restaurantandbar.com
SUMMARY:Live Music Sunday Sessions
DESCRIPTION:
URL:https://www.501restaurantandbar.com/event/weekly-live-music-15-2-2/2028-11-12/
END:VEVENT
BEGIN:VEVENT
DTSTART;TZID=America/Los_Angeles:20281119T150000
DTEND;TZID=America/Los_Angeles:20281119T180000
DTSTAMP:20260422T154840
CREATED:20251017T203952Z
LAST-MODIFIED:20260324T230134Z
UID:10002130-1858258800-1858269600@www.501restaurantandbar.com
SUMMARY:Live Music Sunday Sessions
DESCRIPTION:
URL:https://www.501restaurantandbar.com/event/weekly-live-music-15-2-2/2028-11-19/
END:VEVENT
BEGIN:VEVENT
DTSTART;TZID=America/Los_Angeles:20281126T150000
DTEND;TZID=America/Los_Angeles:20281126T180000
DTSTAMP:20260422T154840
CREATED:20251017T203952Z
LAST-MODIFIED:20260324T230134Z
UID:10002131-1858863600-1858874400@www.501restaurantandbar.com
SUMMARY:Live Music Sunday Sessions
DESCRIPTION:
URL:https://www.501restaurantandbar.com/event/weekly-live-music-15-2-2/2028-11-26/
END:VEVENT
BEGIN:VEVENT
DTSTART;TZID=America/Los_Angeles:20281203T150000
DTEND;TZID=America/Los_Angeles:20281203T180000
DTSTAMP:20260422T154840
CREATED:20251017T203952Z
LAST-MODIFIED:20260324T230134Z
UID:10002132-1859468400-1859479200@www.501restaurantandbar.com
SUMMARY:Live Music Sunday Sessions
DESCRIPTION:
URL:https://www.501restaurantandbar.com/event/weekly-live-music-15-2-2/2028-12-03/
END:VEVENT
BEGIN:VEVENT
DTSTART;TZID=America/Los_Angeles:20281210T150000
DTEND;TZID=America/Los_Angeles:20281210T180000
DTSTAMP:20260422T154840
CREATED:20251017T203952Z
LAST-MODIFIED:20260324T230134Z
UID:10002133-1860073200-1860084000@www.501restaurantandbar.com
SUMMARY:Live Music Sunday Sessions
DESCRIPTION:
URL:https://www.501restaurantandbar.com/event/weekly-live-music-15-2-2/2028-12-10/
END:VEVENT
BEGIN:VEVENT
DTSTART;TZID=America/Los_Angeles:20281217T150000
DTEND;TZID=America/Los_Angeles:20281217T180000
DTSTAMP:20260422T154840
CREATED:20251017T203952Z
LAST-MODIFIED:20260324T230134Z
UID:10002134-1860678000-1860688800@www.501restaurantandbar.com
SUMMARY:Live Music Sunday Sessions
DESCRIPTION:
URL:https://www.501restaurantandbar.com/event/weekly-live-music-15-2-2/2028-12-17/
END:VEVENT
BEGIN:VEVENT
DTSTART;TZID=America/Los_Angeles:20281224T150000
DTEND;TZID=America/Los_Angeles:20281224T180000
DTSTAMP:20260422T154840
CREATED:20251017T203952Z
LAST-MODIFIED:20260324T230134Z
UID:10002135-1861282800-1861293600@www.501restaurantandbar.com
SUMMARY:Live Music Sunday Sessions
DESCRIPTION:
URL:https://www.501restaurantandbar.com/event/weekly-live-music-15-2-2/2028-12-24/
END:VEVENT
BEGIN:VEVENT
DTSTART;TZID=America/Los_Angeles:20281231T150000
DTEND;TZID=America/Los_Angeles:20281231T180000
DTSTAMP:20260422T154840
CREATED:20251017T203952Z
LAST-MODIFIED:20260324T230134Z
UID:10002136-1861887600-1861898400@www.501restaurantandbar.com
SUMMARY:Live Music Sunday Sessions
DESCRIPTION:
URL:https://www.501restaurantandbar.com/event/weekly-live-music-15-2-2/2028-12-31/
END:VEVENT
BEGIN:VEVENT
DTSTART;TZID=America/Los_Angeles:20290107T150000
DTEND;TZID=America/Los_Angeles:20290107T180000
DTSTAMP:20260422T154840
CREATED:20251017T203952Z
LAST-MODIFIED:20260324T230134Z
UID:10002137-1862492400-1862503200@www.501restaurantandbar.com
SUMMARY:Live Music Sunday Sessions
DESCRIPTION:
URL:https://www.501restaurantandbar.com/event/weekly-live-music-15-2-2/2029-01-07/
END:VEVENT
END:VCALENDAR