BEGIN:VCALENDAR
VERSION:2.0
PRODID:-//501 Restaurant &amp; Bar - ECPv6.15.18//NONSGML v1.0//EN
CALSCALE:GREGORIAN
METHOD:PUBLISH
X-ORIGINAL-URL:https://www.501restaurantandbar.com
X-WR-CALDESC:Events for 501 Restaurant &amp; Bar
REFRESH-INTERVAL;VALUE=DURATION:PT1H
X-Robots-Tag:noindex
X-PUBLISHED-TTL:PT1H
BEGIN:VTIMEZONE
TZID:America/Los_Angeles
BEGIN:DAYLIGHT
TZOFFSETFROM:-0800
TZOFFSETTO:-0700
TZNAME:PDT
DTSTART:20270314T100000
END:DAYLIGHT
BEGIN:STANDARD
TZOFFSETFROM:-0700
TZOFFSETTO:-0800
TZNAME:PST
DTSTART:20271107T090000
END:STANDARD
BEGIN:DAYLIGHT
TZOFFSETFROM:-0800
TZOFFSETTO:-0700
TZNAME:PDT
DTSTART:20280312T100000
END:DAYLIGHT
BEGIN:STANDARD
TZOFFSETFROM:-0700
TZOFFSETTO:-0800
TZNAME:PST
DTSTART:20281105T090000
END:STANDARD
BEGIN:DAYLIGHT
TZOFFSETFROM:-0800
TZOFFSETTO:-0700
TZNAME:PDT
DTSTART:20290311T100000
END:DAYLIGHT
BEGIN:STANDARD
TZOFFSETFROM:-0700
TZOFFSETTO:-0800
TZNAME:PST
DTSTART:20291104T090000
END:STANDARD
BEGIN:DAYLIGHT
TZOFFSETFROM:-0800
TZOFFSETTO:-0700
TZNAME:PDT
DTSTART:20300310T100000
END:DAYLIGHT
BEGIN:STANDARD
TZOFFSETFROM:-0700
TZOFFSETTO:-0800
TZNAME:PST
DTSTART:20301103T090000
END:STANDARD
END:VTIMEZONE
BEGIN:VEVENT
DTSTART;TZID=America/Los_Angeles:20281203T150000
DTEND;TZID=America/Los_Angeles:20281203T180000
DTSTAMP:20260422T185627
CREATED:20251017T203952Z
LAST-MODIFIED:20260324T230134Z
UID:10002132-1859468400-1859479200@www.501restaurantandbar.com
SUMMARY:Live Music Sunday Sessions
DESCRIPTION:
URL:https://www.501restaurantandbar.com/event/weekly-live-music-15-2-2/2028-12-03/
END:VEVENT
BEGIN:VEVENT
DTSTART;TZID=America/Los_Angeles:20281210T150000
DTEND;TZID=America/Los_Angeles:20281210T180000
DTSTAMP:20260422T185627
CREATED:20251017T203952Z
LAST-MODIFIED:20260324T230134Z
UID:10002133-1860073200-1860084000@www.501restaurantandbar.com
SUMMARY:Live Music Sunday Sessions
DESCRIPTION:
URL:https://www.501restaurantandbar.com/event/weekly-live-music-15-2-2/2028-12-10/
END:VEVENT
BEGIN:VEVENT
DTSTART;TZID=America/Los_Angeles:20281217T150000
DTEND;TZID=America/Los_Angeles:20281217T180000
DTSTAMP:20260422T185627
CREATED:20251017T203952Z
LAST-MODIFIED:20260324T230134Z
UID:10002134-1860678000-1860688800@www.501restaurantandbar.com
SUMMARY:Live Music Sunday Sessions
DESCRIPTION:
URL:https://www.501restaurantandbar.com/event/weekly-live-music-15-2-2/2028-12-17/
END:VEVENT
BEGIN:VEVENT
DTSTART;TZID=America/Los_Angeles:20281224T150000
DTEND;TZID=America/Los_Angeles:20281224T180000
DTSTAMP:20260422T185627
CREATED:20251017T203952Z
LAST-MODIFIED:20260324T230134Z
UID:10002135-1861282800-1861293600@www.501restaurantandbar.com
SUMMARY:Live Music Sunday Sessions
DESCRIPTION:
URL:https://www.501restaurantandbar.com/event/weekly-live-music-15-2-2/2028-12-24/
END:VEVENT
BEGIN:VEVENT
DTSTART;TZID=America/Los_Angeles:20281231T150000
DTEND;TZID=America/Los_Angeles:20281231T180000
DTSTAMP:20260422T185627
CREATED:20251017T203952Z
LAST-MODIFIED:20260324T230134Z
UID:10002136-1861887600-1861898400@www.501restaurantandbar.com
SUMMARY:Live Music Sunday Sessions
DESCRIPTION:
URL:https://www.501restaurantandbar.com/event/weekly-live-music-15-2-2/2028-12-31/
END:VEVENT
BEGIN:VEVENT
DTSTART;TZID=America/Los_Angeles:20290107T150000
DTEND;TZID=America/Los_Angeles:20290107T180000
DTSTAMP:20260422T185627
CREATED:20251017T203952Z
LAST-MODIFIED:20260324T230134Z
UID:10002137-1862492400-1862503200@www.501restaurantandbar.com
SUMMARY:Live Music Sunday Sessions
DESCRIPTION:
URL:https://www.501restaurantandbar.com/event/weekly-live-music-15-2-2/2029-01-07/
END:VEVENT
BEGIN:VEVENT
DTSTART;TZID=America/Los_Angeles:20290114T150000
DTEND;TZID=America/Los_Angeles:20290114T180000
DTSTAMP:20260422T185627
CREATED:20251017T203952Z
LAST-MODIFIED:20260324T230134Z
UID:10002138-1863097200-1863108000@www.501restaurantandbar.com
SUMMARY:Live Music Sunday Sessions
DESCRIPTION:
URL:https://www.501restaurantandbar.com/event/weekly-live-music-15-2-2/2029-01-14/
END:VEVENT
BEGIN:VEVENT
DTSTART;TZID=America/Los_Angeles:20290121T150000
DTEND;TZID=America/Los_Angeles:20290121T180000
DTSTAMP:20260422T185627
CREATED:20251017T203952Z
LAST-MODIFIED:20260324T230134Z
UID:10002139-1863702000-1863712800@www.501restaurantandbar.com
SUMMARY:Live Music Sunday Sessions
DESCRIPTION:
URL:https://www.501restaurantandbar.com/event/weekly-live-music-15-2-2/2029-01-21/
END:VEVENT
BEGIN:VEVENT
DTSTART;TZID=America/Los_Angeles:20290128T150000
DTEND;TZID=America/Los_Angeles:20290128T180000
DTSTAMP:20260422T185627
CREATED:20251017T203952Z
LAST-MODIFIED:20260324T230134Z
UID:10002140-1864306800-1864317600@www.501restaurantandbar.com
SUMMARY:Live Music Sunday Sessions
DESCRIPTION:
URL:https://www.501restaurantandbar.com/event/weekly-live-music-15-2-2/2029-01-28/
END:VEVENT
BEGIN:VEVENT
DTSTART;TZID=America/Los_Angeles:20290204T150000
DTEND;TZID=America/Los_Angeles:20290204T180000
DTSTAMP:20260422T185627
CREATED:20251017T203952Z
LAST-MODIFIED:20260324T230134Z
UID:10002141-1864911600-1864922400@www.501restaurantandbar.com
SUMMARY:Live Music Sunday Sessions
DESCRIPTION:
URL:https://www.501restaurantandbar.com/event/weekly-live-music-15-2-2/2029-02-04/
END:VEVENT
BEGIN:VEVENT
DTSTART;TZID=America/Los_Angeles:20290211T150000
DTEND;TZID=America/Los_Angeles:20290211T180000
DTSTAMP:20260422T185627
CREATED:20251017T203952Z
LAST-MODIFIED:20260324T230134Z
UID:10002142-1865516400-1865527200@www.501restaurantandbar.com
SUMMARY:Live Music Sunday Sessions
DESCRIPTION:
URL:https://www.501restaurantandbar.com/event/weekly-live-music-15-2-2/2029-02-11/
END:VEVENT
BEGIN:VEVENT
DTSTART;TZID=America/Los_Angeles:20290218T150000
DTEND;TZID=America/Los_Angeles:20290218T180000
DTSTAMP:20260422T185627
CREATED:20251017T203952Z
LAST-MODIFIED:20260324T230134Z
UID:10002143-1866121200-1866132000@www.501restaurantandbar.com
SUMMARY:Live Music Sunday Sessions
DESCRIPTION:
URL:https://www.501restaurantandbar.com/event/weekly-live-music-15-2-2/2029-02-18/
END:VEVENT
BEGIN:VEVENT
DTSTART;TZID=America/Los_Angeles:20290225T150000
DTEND;TZID=America/Los_Angeles:20290225T180000
DTSTAMP:20260422T185627
CREATED:20251017T203952Z
LAST-MODIFIED:20260324T230134Z
UID:10002144-1866726000-1866736800@www.501restaurantandbar.com
SUMMARY:Live Music Sunday Sessions
DESCRIPTION:
URL:https://www.501restaurantandbar.com/event/weekly-live-music-15-2-2/2029-02-25/
END:VEVENT
BEGIN:VEVENT
DTSTART;TZID=America/Los_Angeles:20290304T150000
DTEND;TZID=America/Los_Angeles:20290304T180000
DTSTAMP:20260422T185627
CREATED:20251017T203952Z
LAST-MODIFIED:20260324T230134Z
UID:10002145-1867330800-1867341600@www.501restaurantandbar.com
SUMMARY:Live Music Sunday Sessions
DESCRIPTION:
URL:https://www.501restaurantandbar.com/event/weekly-live-music-15-2-2/2029-03-04/
END:VEVENT
BEGIN:VEVENT
DTSTART;TZID=America/Los_Angeles:20290311T150000
DTEND;TZID=America/Los_Angeles:20290311T180000
DTSTAMP:20260422T185627
CREATED:20251017T203952Z
LAST-MODIFIED:20260324T230134Z
UID:10002146-1867935600-1867946400@www.501restaurantandbar.com
SUMMARY:Live Music Sunday Sessions
DESCRIPTION:
URL:https://www.501restaurantandbar.com/event/weekly-live-music-15-2-2/2029-03-11/
END:VEVENT
BEGIN:VEVENT
DTSTART;TZID=America/Los_Angeles:20290318T150000
DTEND;TZID=America/Los_Angeles:20290318T180000
DTSTAMP:20260422T185627
CREATED:20251017T203952Z
LAST-MODIFIED:20260324T230134Z
UID:10002147-1868540400-1868551200@www.501restaurantandbar.com
SUMMARY:Live Music Sunday Sessions
DESCRIPTION:
URL:https://www.501restaurantandbar.com/event/weekly-live-music-15-2-2/2029-03-18/
END:VEVENT
BEGIN:VEVENT
DTSTART;TZID=America/Los_Angeles:20290325T150000
DTEND;TZID=America/Los_Angeles:20290325T180000
DTSTAMP:20260422T185627
CREATED:20251017T203952Z
LAST-MODIFIED:20260324T230134Z
UID:10002148-1869145200-1869156000@www.501restaurantandbar.com
SUMMARY:Live Music Sunday Sessions
DESCRIPTION:
URL:https://www.501restaurantandbar.com/event/weekly-live-music-15-2-2/2029-03-25/
END:VEVENT
BEGIN:VEVENT
DTSTART;TZID=America/Los_Angeles:20290401T150000
DTEND;TZID=America/Los_Angeles:20290401T180000
DTSTAMP:20260422T185627
CREATED:20251017T203952Z
LAST-MODIFIED:20260324T230134Z
UID:10002149-1869750000-1869760800@www.501restaurantandbar.com
SUMMARY:Live Music Sunday Sessions
DESCRIPTION:
URL:https://www.501restaurantandbar.com/event/weekly-live-music-15-2-2/2029-04-01/
END:VEVENT
BEGIN:VEVENT
DTSTART;TZID=America/Los_Angeles:20290408T150000
DTEND;TZID=America/Los_Angeles:20290408T180000
DTSTAMP:20260422T185627
CREATED:20251017T203952Z
LAST-MODIFIED:20260324T230134Z
UID:10002150-1870354800-1870365600@www.501restaurantandbar.com
SUMMARY:Live Music Sunday Sessions
DESCRIPTION:
URL:https://www.501restaurantandbar.com/event/weekly-live-music-15-2-2/2029-04-08/
END:VEVENT
BEGIN:VEVENT
DTSTART;TZID=America/Los_Angeles:20290415T150000
DTEND;TZID=America/Los_Angeles:20290415T180000
DTSTAMP:20260422T185627
CREATED:20251017T203952Z
LAST-MODIFIED:20260324T230134Z
UID:10002151-1870959600-1870970400@www.501restaurantandbar.com
SUMMARY:Live Music Sunday Sessions
DESCRIPTION:
URL:https://www.501restaurantandbar.com/event/weekly-live-music-15-2-2/2029-04-15/
END:VEVENT
BEGIN:VEVENT
DTSTART;TZID=America/Los_Angeles:20290422T150000
DTEND;TZID=America/Los_Angeles:20290422T180000
DTSTAMP:20260422T185627
CREATED:20251017T203952Z
LAST-MODIFIED:20260324T230134Z
UID:10002152-1871564400-1871575200@www.501restaurantandbar.com
SUMMARY:Live Music Sunday Sessions
DESCRIPTION:
URL:https://www.501restaurantandbar.com/event/weekly-live-music-15-2-2/2029-04-22/
END:VEVENT
BEGIN:VEVENT
DTSTART;TZID=America/Los_Angeles:20290429T150000
DTEND;TZID=America/Los_Angeles:20290429T180000
DTSTAMP:20260422T185627
CREATED:20251017T203952Z
LAST-MODIFIED:20260324T230134Z
UID:10002153-1872169200-1872180000@www.501restaurantandbar.com
SUMMARY:Live Music Sunday Sessions
DESCRIPTION:
URL:https://www.501restaurantandbar.com/event/weekly-live-music-15-2-2/2029-04-29/
END:VEVENT
BEGIN:VEVENT
DTSTART;TZID=America/Los_Angeles:20290506T150000
DTEND;TZID=America/Los_Angeles:20290506T180000
DTSTAMP:20260422T185627
CREATED:20251017T203952Z
LAST-MODIFIED:20260324T230134Z
UID:10002154-1872774000-1872784800@www.501restaurantandbar.com
SUMMARY:Live Music Sunday Sessions
DESCRIPTION:
URL:https://www.501restaurantandbar.com/event/weekly-live-music-15-2-2/2029-05-06/
END:VEVENT
BEGIN:VEVENT
DTSTART;TZID=America/Los_Angeles:20290513T150000
DTEND;TZID=America/Los_Angeles:20290513T180000
DTSTAMP:20260422T185627
CREATED:20251017T203952Z
LAST-MODIFIED:20260324T230134Z
UID:10002155-1873378800-1873389600@www.501restaurantandbar.com
SUMMARY:Live Music Sunday Sessions
DESCRIPTION:
URL:https://www.501restaurantandbar.com/event/weekly-live-music-15-2-2/2029-05-13/
END:VEVENT
BEGIN:VEVENT
DTSTART;TZID=America/Los_Angeles:20290520T150000
DTEND;TZID=America/Los_Angeles:20290520T180000
DTSTAMP:20260422T185627
CREATED:20251017T203952Z
LAST-MODIFIED:20260324T230134Z
UID:10002156-1873983600-1873994400@www.501restaurantandbar.com
SUMMARY:Live Music Sunday Sessions
DESCRIPTION:
URL:https://www.501restaurantandbar.com/event/weekly-live-music-15-2-2/2029-05-20/
END:VEVENT
BEGIN:VEVENT
DTSTART;TZID=America/Los_Angeles:20290527T150000
DTEND;TZID=America/Los_Angeles:20290527T180000
DTSTAMP:20260422T185627
CREATED:20251017T203952Z
LAST-MODIFIED:20260324T230134Z
UID:10002157-1874588400-1874599200@www.501restaurantandbar.com
SUMMARY:Live Music Sunday Sessions
DESCRIPTION:
URL:https://www.501restaurantandbar.com/event/weekly-live-music-15-2-2/2029-05-27/
END:VEVENT
BEGIN:VEVENT
DTSTART;TZID=America/Los_Angeles:20290603T150000
DTEND;TZID=America/Los_Angeles:20290603T180000
DTSTAMP:20260422T185627
CREATED:20251017T203952Z
LAST-MODIFIED:20260324T230134Z
UID:10002158-1875193200-1875204000@www.501restaurantandbar.com
SUMMARY:Live Music Sunday Sessions
DESCRIPTION:
URL:https://www.501restaurantandbar.com/event/weekly-live-music-15-2-2/2029-06-03/
END:VEVENT
BEGIN:VEVENT
DTSTART;TZID=America/Los_Angeles:20290610T150000
DTEND;TZID=America/Los_Angeles:20290610T180000
DTSTAMP:20260422T185627
CREATED:20251017T203952Z
LAST-MODIFIED:20260324T230134Z
UID:10002159-1875798000-1875808800@www.501restaurantandbar.com
SUMMARY:Live Music Sunday Sessions
DESCRIPTION:
URL:https://www.501restaurantandbar.com/event/weekly-live-music-15-2-2/2029-06-10/
END:VEVENT
BEGIN:VEVENT
DTSTART;TZID=America/Los_Angeles:20290617T150000
DTEND;TZID=America/Los_Angeles:20290617T180000
DTSTAMP:20260422T185627
CREATED:20251017T203952Z
LAST-MODIFIED:20260324T230134Z
UID:10002160-1876402800-1876413600@www.501restaurantandbar.com
SUMMARY:Live Music Sunday Sessions
DESCRIPTION:
URL:https://www.501restaurantandbar.com/event/weekly-live-music-15-2-2/2029-06-17/
END:VEVENT
BEGIN:VEVENT
DTSTART;TZID=America/Los_Angeles:20290624T150000
DTEND;TZID=America/Los_Angeles:20290624T180000
DTSTAMP:20260422T185627
CREATED:20251017T203952Z
LAST-MODIFIED:20260324T230134Z
UID:10002161-1877007600-1877018400@www.501restaurantandbar.com
SUMMARY:Live Music Sunday Sessions
DESCRIPTION:
URL:https://www.501restaurantandbar.com/event/weekly-live-music-15-2-2/2029-06-24/
END:VEVENT
END:VCALENDAR