BEGIN:VCALENDAR
VERSION:2.0
PRODID:-//501 Restaurant &amp; Bar - ECPv6.15.18//NONSGML v1.0//EN
CALSCALE:GREGORIAN
METHOD:PUBLISH
X-ORIGINAL-URL:https://www.501restaurantandbar.com
X-WR-CALDESC:Events for 501 Restaurant &amp; Bar
REFRESH-INTERVAL;VALUE=DURATION:PT1H
X-Robots-Tag:noindex
X-PUBLISHED-TTL:PT1H
BEGIN:VTIMEZONE
TZID:America/Los_Angeles
BEGIN:DAYLIGHT
TZOFFSETFROM:-0800
TZOFFSETTO:-0700
TZNAME:PDT
DTSTART:20240310T100000
END:DAYLIGHT
BEGIN:STANDARD
TZOFFSETFROM:-0700
TZOFFSETTO:-0800
TZNAME:PST
DTSTART:20241103T090000
END:STANDARD
BEGIN:DAYLIGHT
TZOFFSETFROM:-0800
TZOFFSETTO:-0700
TZNAME:PDT
DTSTART:20250309T100000
END:DAYLIGHT
BEGIN:STANDARD
TZOFFSETFROM:-0700
TZOFFSETTO:-0800
TZNAME:PST
DTSTART:20251102T090000
END:STANDARD
BEGIN:DAYLIGHT
TZOFFSETFROM:-0800
TZOFFSETTO:-0700
TZNAME:PDT
DTSTART:20260308T100000
END:DAYLIGHT
BEGIN:STANDARD
TZOFFSETFROM:-0700
TZOFFSETTO:-0800
TZNAME:PST
DTSTART:20261101T090000
END:STANDARD
END:VTIMEZONE
BEGIN:VEVENT
DTSTART;TZID=America/Los_Angeles:20250923T163000
DTEND;TZID=America/Los_Angeles:20250923T183000
DTSTAMP:20260421T192149
CREATED:20250819T225141Z
LAST-MODIFIED:20250819T225141Z
UID:10001463-1758645000-1758652200@www.501restaurantandbar.com
SUMMARY:Private Event
DESCRIPTION:Not open to the public
URL:https://www.501restaurantandbar.com/event/private-event-3/
END:VEVENT
BEGIN:VEVENT
DTSTART;TZID=America/Los_Angeles:20250924T170000
DTEND;TZID=America/Los_Angeles:20250924T183000
DTSTAMP:20260421T192149
CREATED:20250918T183114Z
LAST-MODIFIED:20250918T183114Z
UID:10001514-1758733200-1758738600@www.501restaurantandbar.com
SUMMARY:Line Dancing with Anne Leslie
DESCRIPTION:
URL:https://www.501restaurantandbar.com/event/line-dancing-with-anne-leslie-2/
END:VEVENT
BEGIN:VEVENT
DTSTART;TZID=America/Los_Angeles:20250925T173000
DTEND;TZID=America/Los_Angeles:20250925T223000
DTSTAMP:20260421T192149
CREATED:20250819T225206Z
LAST-MODIFIED:20250819T225206Z
UID:10001464-1758821400-1758839400@www.501restaurantandbar.com
SUMMARY:Private Event
DESCRIPTION:Not open to the public
URL:https://www.501restaurantandbar.com/event/private-event-4/
END:VEVENT
BEGIN:VEVENT
DTSTART;TZID=America/Los_Angeles:20250926T173000
DTEND;TZID=America/Los_Angeles:20250926T203000
DTSTAMP:20260421T192149
CREATED:20250917T214601Z
LAST-MODIFIED:20250917T214601Z
UID:10001502-1758907800-1758918600@www.501restaurantandbar.com
SUMMARY:Friday Night Dinner
DESCRIPTION:
URL:https://www.501restaurantandbar.com/event/friday-night-dinner-11/
END:VEVENT
BEGIN:VEVENT
DTSTART;TZID=America/Los_Angeles:20250928T150000
DTEND;TZID=America/Los_Angeles:20250928T180000
DTSTAMP:20260421T192149
CREATED:20250721T182223Z
LAST-MODIFIED:20250721T182223Z
UID:10001159-1759071600-1759082400@www.501restaurantandbar.com
SUMMARY:Weekly Live Music
DESCRIPTION:
URL:https://www.501restaurantandbar.com/event/weekly-live-music-15/2025-09-28/
END:VEVENT
BEGIN:VEVENT
DTSTART;TZID=America/Los_Angeles:20251001T170000
DTEND;TZID=America/Los_Angeles:20251001T183000
DTSTAMP:20260421T192149
CREATED:20250918T183338Z
LAST-MODIFIED:20250918T183338Z
UID:10001515-1759338000-1759343400@www.501restaurantandbar.com
SUMMARY:Line Dancing with Anne Leslie
DESCRIPTION:
URL:https://www.501restaurantandbar.com/event/line-dancing-with-anne-leslie-3/
END:VEVENT
BEGIN:VEVENT
DTSTART;TZID=America/Los_Angeles:20251002T173000
DTEND;TZID=America/Los_Angeles:20251002T203000
DTSTAMP:20260421T192149
CREATED:20250721T215508Z
LAST-MODIFIED:20251002T202638Z
UID:10001579-1759426200-1759437000@www.501restaurantandbar.com
SUMMARY:Prime Rib Night
DESCRIPTION:
URL:https://www.501restaurantandbar.com/event/prime-rib-night-9/2025-10-02/
ATTACH;FMTTYPE=image/png:https://www.501restaurantandbar.com/wp-content/uploads/sites/9402/2025/07/Prime-Rib-Flyer-2.png
END:VEVENT
BEGIN:VEVENT
DTSTART;TZID=America/Los_Angeles:20251003T173000
DTEND;TZID=America/Los_Angeles:20251003T203000
DTSTAMP:20260421T192149
CREATED:20250917T214626Z
LAST-MODIFIED:20251017T203234Z
UID:10001503-1759512600-1759523400@www.501restaurantandbar.com
SUMMARY:Friday Night Dinner
DESCRIPTION:
URL:https://www.501restaurantandbar.com/event/friday-night-dinner-12/
END:VEVENT
BEGIN:VEVENT
DTSTART;TZID=America/Los_Angeles:20251003T173000
DTEND;TZID=America/Los_Angeles:20251003T213000
DTSTAMP:20260421T192149
CREATED:20250919T225846Z
LAST-MODIFIED:20250919T225954Z
UID:10001560-1759512600-1759527000@www.501restaurantandbar.com
SUMMARY:Private Event
DESCRIPTION:
URL:https://www.501restaurantandbar.com/event/private-event-5/
END:VEVENT
BEGIN:VEVENT
DTSTART;TZID=America/Los_Angeles:20251005T080000
DTEND;TZID=America/Los_Angeles:20251005T170000
DTSTAMP:20260421T192149
CREATED:20250919T205746Z
LAST-MODIFIED:20250919T205746Z
UID:10001531-1759651200-1759683600@www.501restaurantandbar.com
SUMMARY:Lu Velazquez Tournament TBD
DESCRIPTION:
URL:https://www.501restaurantandbar.com/event/lu-velazquez-tournament-tbd/
END:VEVENT
BEGIN:VEVENT
DTSTART;TZID=America/Los_Angeles:20251005T150000
DTEND;TZID=America/Los_Angeles:20251005T180000
DTSTAMP:20260421T192149
CREATED:20250721T182223Z
LAST-MODIFIED:20250721T182223Z
UID:10001160-1759676400-1759687200@www.501restaurantandbar.com
SUMMARY:Weekly Live Music
DESCRIPTION:
URL:https://www.501restaurantandbar.com/event/weekly-live-music-15/2025-10-05/
END:VEVENT
BEGIN:VEVENT
DTSTART;TZID=America/Los_Angeles:20251008T170000
DTEND;TZID=America/Los_Angeles:20251008T183000
DTSTAMP:20260421T192149
CREATED:20250918T183656Z
LAST-MODIFIED:20250918T183656Z
UID:10001516-1759942800-1759948200@www.501restaurantandbar.com
SUMMARY:Line Dancing with Anne Leslie
DESCRIPTION:
URL:https://www.501restaurantandbar.com/event/line-dancing-with-anne-leslie-4/
END:VEVENT
BEGIN:VEVENT
DTSTART;TZID=America/Los_Angeles:20251010T173000
DTEND;TZID=America/Los_Angeles:20251010T203000
DTSTAMP:20260421T192149
CREATED:20250917T214706Z
LAST-MODIFIED:20251017T203233Z
UID:10001504-1760117400-1760128200@www.501restaurantandbar.com
SUMMARY:Friday Night Dinner
DESCRIPTION:
URL:https://www.501restaurantandbar.com/event/friday-night-dinner-13/
END:VEVENT
BEGIN:VEVENT
DTSTART;TZID=America/Los_Angeles:20251011T163000
DTEND;TZID=America/Los_Angeles:20251011T213000
DTSTAMP:20260421T192149
CREATED:20250721T182832Z
LAST-MODIFIED:20250923T223512Z
UID:10001419-1760200200-1760218200@www.501restaurantandbar.com
SUMMARY:Kahuna Cares Concert for a Cause  **Fundraiser-Open to Public**
DESCRIPTION:
URL:https://www.501restaurantandbar.com/event/kahuna-cares-concert-for-a-cause-fundraiser-open-to-public/
ATTACH;FMTTYPE=image/jpeg:https://www.501restaurantandbar.com/wp-content/uploads/sites/9402/2025/07/POSTER-kahuna.jpg
END:VEVENT
BEGIN:VEVENT
DTSTART;TZID=America/Los_Angeles:20251012T150000
DTEND;TZID=America/Los_Angeles:20251012T180000
DTSTAMP:20260421T192149
CREATED:20250721T182223Z
LAST-MODIFIED:20250721T182223Z
UID:10001161-1760281200-1760292000@www.501restaurantandbar.com
SUMMARY:Weekly Live Music
DESCRIPTION:
URL:https://www.501restaurantandbar.com/event/weekly-live-music-15/2025-10-12/
END:VEVENT
BEGIN:VEVENT
DTSTART;TZID=America/Los_Angeles:20251015T170000
DTEND;TZID=America/Los_Angeles:20251015T183000
DTSTAMP:20260421T192149
CREATED:20250918T183927Z
LAST-MODIFIED:20250918T183927Z
UID:10001517-1760547600-1760553000@www.501restaurantandbar.com
SUMMARY:Line Dancing with Anne Leslie
DESCRIPTION:
URL:https://www.501restaurantandbar.com/event/line-dancing-with-anne-leslie-5/
END:VEVENT
BEGIN:VEVENT
DTSTART;TZID=America/Los_Angeles:20251016T173000
DTEND;TZID=America/Los_Angeles:20251016T203000
DTSTAMP:20260421T192149
CREATED:20250721T215508Z
LAST-MODIFIED:20251002T202638Z
UID:10001426-1760635800-1760646600@www.501restaurantandbar.com
SUMMARY:Prime Rib Night
DESCRIPTION:
URL:https://www.501restaurantandbar.com/event/prime-rib-night-9/2025-10-16/
ATTACH;FMTTYPE=image/png:https://www.501restaurantandbar.com/wp-content/uploads/sites/9402/2025/07/Prime-Rib-Flyer-2.png
END:VEVENT
BEGIN:VEVENT
DTSTART;TZID=America/Los_Angeles:20251017T100000
DTEND;TZID=America/Los_Angeles:20251017T100000
DTSTAMP:20260421T192149
CREATED:20250919T210143Z
LAST-MODIFIED:20251017T211528Z
UID:10001532-1760695200-1760695200@www.501restaurantandbar.com
SUMMARY:Women on the Course Tournament
DESCRIPTION:Women On Course (44 players) 10am
URL:https://www.501restaurantandbar.com/event/women-on-the-course-tournament/
END:VEVENT
BEGIN:VEVENT
DTSTART;TZID=America/Los_Angeles:20251017T173000
DTEND;TZID=America/Los_Angeles:20251017T203000
DTSTAMP:20260421T192149
CREATED:20250917T214734Z
LAST-MODIFIED:20251017T203232Z
UID:10001505-1760722200-1760733000@www.501restaurantandbar.com
SUMMARY:Friday Night Dinner
DESCRIPTION:
URL:https://www.501restaurantandbar.com/event/friday-night-dinner-14/
END:VEVENT
BEGIN:VEVENT
DTSTART;TZID=America/Los_Angeles:20251019T150000
DTEND;TZID=America/Los_Angeles:20251019T180000
DTSTAMP:20260421T192149
CREATED:20250721T182223Z
LAST-MODIFIED:20250721T182223Z
UID:10001162-1760886000-1760896800@www.501restaurantandbar.com
SUMMARY:Weekly Live Music
DESCRIPTION:
URL:https://www.501restaurantandbar.com/event/weekly-live-music-15/2025-10-19/
END:VEVENT
BEGIN:VEVENT
DTSTART;TZID=America/Los_Angeles:20251022T170000
DTEND;TZID=America/Los_Angeles:20251022T183000
DTSTAMP:20260421T192149
CREATED:20250918T184001Z
LAST-MODIFIED:20250918T184001Z
UID:10001518-1761152400-1761157800@www.501restaurantandbar.com
SUMMARY:Line Dancing with Anne Leslie
DESCRIPTION:
URL:https://www.501restaurantandbar.com/event/line-dancing-with-anne-leslie-6/
END:VEVENT
BEGIN:VEVENT
DTSTART;TZID=America/Los_Angeles:20251023T080000
DTEND;TZID=America/Los_Angeles:20251023T123000
DTSTAMP:20260421T192149
CREATED:20251017T211453Z
LAST-MODIFIED:20251017T211453Z
UID:10002836-1761206400-1761222600@www.501restaurantandbar.com
SUMMARY:Tournament (28 players)
DESCRIPTION:Tournament (28 players) 8am – 12:30pm
URL:https://www.501restaurantandbar.com/event/tournament-28-players-2/
END:VEVENT
BEGIN:VEVENT
DTSTART;TZID=America/Los_Angeles:20251024T080000
DTEND;TZID=America/Los_Angeles:20251024T123000
DTSTAMP:20260421T192149
CREATED:20251017T211422Z
LAST-MODIFIED:20251017T211422Z
UID:10002835-1761292800-1761309000@www.501restaurantandbar.com
SUMMARY:Tournament (20 players)
DESCRIPTION:Tournament (20 players) 8:00am – 12:30pm
URL:https://www.501restaurantandbar.com/event/tournament-20-players/
END:VEVENT
BEGIN:VEVENT
DTSTART;TZID=America/Los_Angeles:20251024T170000
DTEND;TZID=America/Los_Angeles:20251024T200000
DTSTAMP:20260421T192149
CREATED:20251017T203057Z
LAST-MODIFIED:20251017T203057Z
UID:10001687-1761325200-1761336000@www.501restaurantandbar.com
SUMMARY:Friday Night Dinner
DESCRIPTION:
URL:https://www.501restaurantandbar.com/event/friday-night-dinner-24/2025-10-24/
END:VEVENT
BEGIN:VEVENT
DTSTART;TZID=America/Los_Angeles:20251025T180000
DTEND;TZID=America/Los_Angeles:20251025T220000
DTSTAMP:20260421T192149
CREATED:20250919T230918Z
LAST-MODIFIED:20250919T230918Z
UID:10001561-1761415200-1761429600@www.501restaurantandbar.com
SUMMARY:Halloween Private Party
DESCRIPTION:
URL:https://www.501restaurantandbar.com/event/halloween-private-party/
END:VEVENT
BEGIN:VEVENT
DTSTART;TZID=America/Los_Angeles:20251026T100000
DTEND;TZID=America/Los_Angeles:20251026T140000
DTSTAMP:20260421T192149
CREATED:20251017T211316Z
LAST-MODIFIED:20251017T211316Z
UID:10002834-1761472800-1761487200@www.501restaurantandbar.com
SUMMARY:Tournament (16 players)
DESCRIPTION:Tournament (16 players) 10am – 2pm
URL:https://www.501restaurantandbar.com/event/tournament-16-players/
END:VEVENT
BEGIN:VEVENT
DTSTART;TZID=America/Los_Angeles:20251026T150000
DTEND;TZID=America/Los_Angeles:20251026T180000
DTSTAMP:20260421T192149
CREATED:20250721T182223Z
LAST-MODIFIED:20250721T182223Z
UID:10001163-1761490800-1761501600@www.501restaurantandbar.com
SUMMARY:Weekly Live Music
DESCRIPTION:
URL:https://www.501restaurantandbar.com/event/weekly-live-music-15/2025-10-26/
END:VEVENT
BEGIN:VEVENT
DTSTART;TZID=America/Los_Angeles:20251029T170000
DTEND;TZID=America/Los_Angeles:20251029T183000
DTSTAMP:20260421T192149
CREATED:20250918T184025Z
LAST-MODIFIED:20250918T184025Z
UID:10001519-1761757200-1761762600@www.501restaurantandbar.com
SUMMARY:Line Dancing with Anne Leslie
DESCRIPTION:
URL:https://www.501restaurantandbar.com/event/line-dancing-with-anne-leslie-7/
END:VEVENT
BEGIN:VEVENT
DTSTART;VALUE=DATE:20251031
DTEND;VALUE=DATE:20251101
DTSTAMP:20260421T192149
CREATED:20250919T224217Z
LAST-MODIFIED:20250919T224217Z
UID:10001558-1761868800-1761955199@www.501restaurantandbar.com
SUMMARY:Halloween
DESCRIPTION:
URL:https://www.501restaurantandbar.com/event/halloween/
END:VEVENT
BEGIN:VEVENT
DTSTART;TZID=America/Los_Angeles:20251031T170000
DTEND;TZID=America/Los_Angeles:20251031T200000
DTSTAMP:20260421T192149
CREATED:20251017T203057Z
LAST-MODIFIED:20251017T203057Z
UID:10001688-1761930000-1761940800@www.501restaurantandbar.com
SUMMARY:Friday Night Dinner
DESCRIPTION:
URL:https://www.501restaurantandbar.com/event/friday-night-dinner-24/2025-10-31/
END:VEVENT
END:VCALENDAR