BEGIN:VCALENDAR
VERSION:2.0
PRODID:-//501 Restaurant &amp; Bar - ECPv6.15.18//NONSGML v1.0//EN
CALSCALE:GREGORIAN
METHOD:PUBLISH
X-WR-CALNAME:501 Restaurant &amp; Bar
X-ORIGINAL-URL:https://www.501restaurantandbar.com
X-WR-CALDESC:Events for 501 Restaurant &amp; Bar
REFRESH-INTERVAL;VALUE=DURATION:PT1H
X-Robots-Tag:noindex
X-PUBLISHED-TTL:PT1H
BEGIN:VTIMEZONE
TZID:UTC
BEGIN:STANDARD
TZOFFSETFROM:+0000
TZOFFSETTO:+0000
TZNAME:UTC
DTSTART:20230101T000000
END:STANDARD
END:VTIMEZONE
BEGIN:VEVENT
DTSTART;VALUE=DATE:20240409
DTEND;VALUE=DATE:20240410
DTSTAMP:20260422T023203
CREATED:20240405T015742Z
LAST-MODIFIED:20240405T015742Z
UID:10001054-1712620800-1712707199@www.501restaurantandbar.com
SUMMARY:Taco Tuesdays
DESCRIPTION:For any paid Tuesday round of golf players enjoy two complimentary beef or chicken tacos. Offer and redemption valid on Tuesdays only. Golf round must be booked online.
URL:https://www.501restaurantandbar.com/event/taco-tuesdays/
END:VEVENT
END:VCALENDAR