BEGIN:VCALENDAR
VERSION:2.0
PRODID:-//501 Restaurant &amp; Bar - ECPv6.15.18//NONSGML v1.0//EN
CALSCALE:GREGORIAN
METHOD:PUBLISH
X-WR-CALNAME:501 Restaurant &amp; Bar
X-ORIGINAL-URL:https://www.501restaurantandbar.com
X-WR-CALDESC:Events for 501 Restaurant &amp; Bar
REFRESH-INTERVAL;VALUE=DURATION:PT1H
X-Robots-Tag:noindex
X-PUBLISHED-TTL:PT1H
BEGIN:VTIMEZONE
TZID:UTC
BEGIN:STANDARD
TZOFFSETFROM:+0000
TZOFFSETTO:+0000
TZNAME:UTC
DTSTART:20230101T000000
END:STANDARD
END:VTIMEZONE
BEGIN:VEVENT
DTSTART;TZID=UTC:20241122T180000
DTEND;TZID=UTC:20241122T210000
DTSTAMP:20260421T162401
CREATED:20241114T032318Z
LAST-MODIFIED:20241114T032318Z
UID:10001072-1732298400-1732309200@www.501restaurantandbar.com
SUMMARY:ITALIAN EVENING
DESCRIPTION:
URL:https://www.501restaurantandbar.com/event/italian-evening/
END:VEVENT
BEGIN:VEVENT
DTSTART;TZID=UTC:20241025T173000
DTEND;TZID=UTC:20241025T220000
DTSTAMP:20260421T162401
CREATED:20241012T063833Z
LAST-MODIFIED:20241012T063833Z
UID:10001068-1729877400-1729893600@www.501restaurantandbar.com
SUMMARY:60TH BIRTHDAY  PRIVATE PARTY
DESCRIPTION:
URL:https://www.501restaurantandbar.com/event/60th-birthday-private-party/
END:VEVENT
BEGIN:VEVENT
DTSTART;TZID=UTC:20241018T173000
DTEND;TZID=UTC:20241018T203000
DTSTAMP:20260421T162401
CREATED:20241019T050100Z
LAST-MODIFIED:20241019T050100Z
UID:10001071-1729272600-1729283400@www.501restaurantandbar.com
SUMMARY:The Music of SCOTT ALTMAN
DESCRIPTION:
URL:https://www.501restaurantandbar.com/event/the-music-of-scott-altman-3/
END:VEVENT
BEGIN:VEVENT
DTSTART;TZID=UTC:20241018T173000
DTEND;TZID=UTC:20241018T203000
DTSTAMP:20260421T162401
CREATED:20241019T045906Z
LAST-MODIFIED:20241019T045906Z
UID:10001070-1729272600-1729283400@www.501restaurantandbar.com
SUMMARY:The Music of SCOTT ALTMAN
DESCRIPTION:
URL:https://www.501restaurantandbar.com/event/the-music-of-scott-altman-2/
END:VEVENT
BEGIN:VEVENT
DTSTART;TZID=UTC:20241018T173000
DTEND;TZID=UTC:20241018T203000
DTSTAMP:20260421T162401
CREATED:20241019T045754Z
LAST-MODIFIED:20241019T045754Z
UID:10001069-1729272600-1729283400@www.501restaurantandbar.com
SUMMARY:The Music of Scott Altman
DESCRIPTION:
URL:https://www.501restaurantandbar.com/event/the-music-of-scott-altman/
END:VEVENT
BEGIN:VEVENT
DTSTART;TZID=UTC:20241018T173000
DTEND;TZID=UTC:20241018T203000
DTSTAMP:20260421T162401
CREATED:20240815T033721Z
LAST-MODIFIED:20240815T033721Z
UID:10001063-1729272600-1729283400@www.501restaurantandbar.com
SUMMARY:Scott Altman Musical Performance
DESCRIPTION:Food and Drink Specials!
URL:https://www.501restaurantandbar.com/event/scott-altman-musical-performance/
END:VEVENT
BEGIN:VEVENT
DTSTART;VALUE=DATE:20241017
DTEND;VALUE=DATE:20241018
DTSTAMP:20260421T162401
CREATED:20241003T073518Z
LAST-MODIFIED:20241003T074308Z
UID:10001067-1729123200-1729209599@www.501restaurantandbar.com
SUMMARY:Tyler's Tribe Golf Tournament
DESCRIPTION:Sorry for any inconvenience. Course and Restaurant will be closed to the public
URL:https://www.501restaurantandbar.com/event/tylers-tribe-golf-tournament/
END:VEVENT
BEGIN:VEVENT
DTSTART;TZID=UTC:20241010T163000
DTEND;TZID=UTC:20241010T180000
DTSTAMP:20260421T162401
CREATED:20241003T073045Z
LAST-MODIFIED:20241003T073045Z
UID:10001065-1728577800-1728583200@www.501restaurantandbar.com
SUMMARY:Line Dancing with Anne Leslie
DESCRIPTION:
URL:https://www.501restaurantandbar.com/event/line-dancing-with-anne-leslie/
END:VEVENT
BEGIN:VEVENT
DTSTART;TZID=UTC:20240914T173000
DTEND;TZID=UTC:20240914T210000
DTSTAMP:20260421T162401
CREATED:20240905T050321Z
LAST-MODIFIED:20240905T050321Z
UID:10001064-1726335000-1726347600@www.501restaurantandbar.com
SUMMARY:FIRST ANNUAL END OF SUMMER SOCIAL
DESCRIPTION:
URL:https://www.501restaurantandbar.com/event/first-annual-end-of-summer-social/
END:VEVENT
BEGIN:VEVENT
DTSTART;TZID=UTC:20240831T120000
DTEND;TZID=UTC:20240831T150000
DTSTAMP:20260421T162401
CREATED:20240808T063228Z
LAST-MODIFIED:20240808T063228Z
UID:10001062-1725105600-1725116400@www.501restaurantandbar.com
SUMMARY:GRAND 90TH BIRTHDAY PARTY
DESCRIPTION:*PATIO IS OPEN TO PUBLIC
URL:https://www.501restaurantandbar.com/event/grand-90th-birthday-party/
END:VEVENT
BEGIN:VEVENT
DTSTART;TZID=UTC:20240817T053000
DTEND;TZID=UTC:20240817T220000
DTSTAMP:20260421T162401
CREATED:20240808T062702Z
LAST-MODIFIED:20240808T062702Z
UID:10001061-1723872600-1723932000@www.501restaurantandbar.com
SUMMARY:20TH HIGH SCHOOL REUNION
DESCRIPTION:
URL:https://www.501restaurantandbar.com/event/20th-high-school-reunion/
END:VEVENT
BEGIN:VEVENT
DTSTART;TZID=UTC:20240728T150000
DTEND;TZID=UTC:20240728T180000
DTSTAMP:20260421T162401
CREATED:20240727T080521Z
LAST-MODIFIED:20240729T204637Z
UID:10001060-1722178800-1722189600@www.501restaurantandbar.com
SUMMARY:Musical Guest - Scott Altman
DESCRIPTION:Sunday Funday at Shorecliffs Golf Club! \nMusical guest Scott Altman from 3pm-6pm \nSpecialty BBQ and fun for all!
URL:https://www.501restaurantandbar.com/event/musical-guest-scott-altman/
END:VEVENT
BEGIN:VEVENT
DTSTART;TZID=UTC:20240727T110000
DTEND;TZID=UTC:20240727T150000
DTSTAMP:20260421T162401
CREATED:20240727T080440Z
LAST-MODIFIED:20240727T080440Z
UID:10001059-1722078000-1722092400@www.501restaurantandbar.com
SUMMARY:BBQ Saturday!
DESCRIPTION:Join us for our delicious outdoor BBQ from 11am-3pm. \nBurgers\, Hotdogs and More!
URL:https://www.501restaurantandbar.com/event/bbq-saturday/
END:VEVENT
BEGIN:VEVENT
DTSTART;TZID=UTC:20240726T180000
DTEND;TZID=UTC:20240726T210000
DTSTAMP:20260421T162401
CREATED:20240727T080353Z
LAST-MODIFIED:20240727T080353Z
UID:10001058-1722016800-1722027600@www.501restaurantandbar.com
SUMMARY:Live Music Night – Breaking Point
DESCRIPTION:Join us for live music with Breaking Point!\n\n\n\nDrink and bar menu specials from 6pm-9pm
URL:https://www.501restaurantandbar.com/event/live-music-night-breaking-point/
END:VEVENT
BEGIN:VEVENT
DTSTART;TZID=UTC:20240616T090000
DTEND;TZID=UTC:20240616T140000
DTSTAMP:20260421T162401
CREATED:20240615T051555Z
LAST-MODIFIED:20240615T051555Z
UID:10001056-1718528400-1718546400@www.501restaurantandbar.com
SUMMARY:Fathers Day Closest To The Pin
DESCRIPTION:
URL:https://www.501restaurantandbar.com/event/fathers-day-closest-to-the-pin/
END:VEVENT
BEGIN:VEVENT
DTSTART;TZID=UTC:20240609T140000
DTEND;TZID=UTC:20240609T170000
DTSTAMP:20260421T162401
CREATED:20240604T060736Z
LAST-MODIFIED:20240604T060736Z
UID:10001055-1717941600-1717952400@www.501restaurantandbar.com
SUMMARY:Live Music From Boo Stubbs
DESCRIPTION:Join us at the 501 Restaurant and Bar for some live music from Boo Subbs\, plus\, food and drink specials!
URL:https://www.501restaurantandbar.com/event/live-music-from-boo-stubbs/
END:VEVENT
BEGIN:VEVENT
DTSTART;VALUE=DATE:20240519
DTEND;VALUE=DATE:20240520
DTSTAMP:20260421T162401
CREATED:20240405T015529Z
LAST-MODIFIED:20240405T015529Z
UID:10001053-1716076800-1716163199@www.501restaurantandbar.com
SUMMARY:Taste of Italy
DESCRIPTION:Enjoy Italian classic plus Entertainment by Michael Rinaldi from New York singing all your favorite Italian /American Standards and more!!
URL:https://www.501restaurantandbar.com/event/taste-of-italy/
END:VEVENT
BEGIN:VEVENT
DTSTART;VALUE=DATE:20240512
DTEND;VALUE=DATE:20240513
DTSTAMP:20260421T162401
CREATED:20240405T015359Z
LAST-MODIFIED:20240405T015359Z
UID:10001052-1715472000-1715558399@www.501restaurantandbar.com
SUMMARY:Mother's Day
DESCRIPTION:Sunday all Moms are invited to enjoy a custom Mother’s Day menu in the 501 Restaurant & Bar.
URL:https://www.501restaurantandbar.com/event/mothers-day/
END:VEVENT
BEGIN:VEVENT
DTSTART;VALUE=DATE:20240409
DTEND;VALUE=DATE:20240410
DTSTAMP:20260421T162401
CREATED:20240405T015742Z
LAST-MODIFIED:20240405T015742Z
UID:10001054-1712620800-1712707199@www.501restaurantandbar.com
SUMMARY:Taco Tuesdays
DESCRIPTION:For any paid Tuesday round of golf players enjoy two complimentary beef or chicken tacos. Offer and redemption valid on Tuesdays only. Golf round must be booked online.
URL:https://www.501restaurantandbar.com/event/taco-tuesdays/
END:VEVENT
END:VCALENDAR