BEGIN:VCALENDAR
VERSION:2.0
PRODID:-//501 Restaurant &amp; Bar - ECPv6.15.18//NONSGML v1.0//EN
CALSCALE:GREGORIAN
METHOD:PUBLISH
X-ORIGINAL-URL:https://www.501restaurantandbar.com
X-WR-CALDESC:Events for 501 Restaurant &amp; Bar
REFRESH-INTERVAL;VALUE=DURATION:PT1H
X-Robots-Tag:noindex
X-PUBLISHED-TTL:PT1H
BEGIN:VTIMEZONE
TZID:America/Los_Angeles
BEGIN:DAYLIGHT
TZOFFSETFROM:-0800
TZOFFSETTO:-0700
TZNAME:PDT
DTSTART:20240310T100000
END:DAYLIGHT
BEGIN:STANDARD
TZOFFSETFROM:-0700
TZOFFSETTO:-0800
TZNAME:PST
DTSTART:20241103T090000
END:STANDARD
BEGIN:DAYLIGHT
TZOFFSETFROM:-0800
TZOFFSETTO:-0700
TZNAME:PDT
DTSTART:20250309T100000
END:DAYLIGHT
BEGIN:STANDARD
TZOFFSETFROM:-0700
TZOFFSETTO:-0800
TZNAME:PST
DTSTART:20251102T090000
END:STANDARD
BEGIN:DAYLIGHT
TZOFFSETFROM:-0800
TZOFFSETTO:-0700
TZNAME:PDT
DTSTART:20260308T100000
END:DAYLIGHT
BEGIN:STANDARD
TZOFFSETFROM:-0700
TZOFFSETTO:-0800
TZNAME:PST
DTSTART:20261101T090000
END:STANDARD
END:VTIMEZONE
BEGIN:VEVENT
DTSTART;TZID=America/Los_Angeles:20250809T163000
DTEND;TZID=America/Los_Angeles:20250809T223000
DTSTAMP:20260421T192214
CREATED:20250721T182632Z
LAST-MODIFIED:20250721T182632Z
UID:10001416-1754757000-1754778600@www.501restaurantandbar.com
SUMMARY:Closed For Event
DESCRIPTION:
URL:https://www.501restaurantandbar.com/event/closed-for-event-4/
END:VEVENT
BEGIN:VEVENT
DTSTART;TZID=America/Los_Angeles:20250810T150000
DTEND;TZID=America/Los_Angeles:20250810T180000
DTSTAMP:20260421T192214
CREATED:20250721T182223Z
LAST-MODIFIED:20250721T182223Z
UID:10001152-1754838000-1754848800@www.501restaurantandbar.com
SUMMARY:Weekly Live Music
DESCRIPTION:
URL:https://www.501restaurantandbar.com/event/weekly-live-music-15/2025-08-10/
END:VEVENT
BEGIN:VEVENT
DTSTART;TZID=America/Los_Angeles:20250814T083000
DTEND;TZID=America/Los_Angeles:20250814T150000
DTSTAMP:20260421T192214
CREATED:20250721T182731Z
LAST-MODIFIED:20250721T182731Z
UID:10001417-1755160200-1755183600@www.501restaurantandbar.com
SUMMARY:Closed for Event **BBQ & Bar Cart Set Up Outside for Golfers**
DESCRIPTION:
URL:https://www.501restaurantandbar.com/event/closed-for-event-bbq-bar-cart-set-up-outside-for-golfers/
END:VEVENT
BEGIN:VEVENT
DTSTART;TZID=America/Los_Angeles:20250815T173000
DTEND;TZID=America/Los_Angeles:20250815T203000
DTSTAMP:20260421T192214
CREATED:20250819T230825Z
LAST-MODIFIED:20250819T230825Z
UID:10001488-1755279000-1755289800@www.501restaurantandbar.com
SUMMARY:Friday Night Dinner
DESCRIPTION:
URL:https://www.501restaurantandbar.com/event/friday-night-dinner-9/2025-08-15/
END:VEVENT
BEGIN:VEVENT
DTSTART;TZID=America/Los_Angeles:20250816T110000
DTEND;TZID=America/Los_Angeles:20250816T140000
DTSTAMP:20260421T192214
CREATED:20250721T182805Z
LAST-MODIFIED:20250721T182805Z
UID:10001418-1755342000-1755352800@www.501restaurantandbar.com
SUMMARY:Closed for Event **Restaurant still open to public**
DESCRIPTION:
URL:https://www.501restaurantandbar.com/event/closed-for-event-restaurant-still-open-to-public-2/
END:VEVENT
BEGIN:VEVENT
DTSTART;TZID=America/Los_Angeles:20250817T150000
DTEND;TZID=America/Los_Angeles:20250817T180000
DTSTAMP:20260421T192214
CREATED:20250721T182223Z
LAST-MODIFIED:20250721T182223Z
UID:10001153-1755442800-1755453600@www.501restaurantandbar.com
SUMMARY:Weekly Live Music
DESCRIPTION:
URL:https://www.501restaurantandbar.com/event/weekly-live-music-15/2025-08-17/
END:VEVENT
BEGIN:VEVENT
DTSTART;TZID=America/Los_Angeles:20250821T173000
DTEND;TZID=America/Los_Angeles:20250821T203000
DTSTAMP:20260421T192214
CREATED:20250819T193818Z
LAST-MODIFIED:20250819T193818Z
UID:10001144-1755797400-1755808200@www.501restaurantandbar.com
SUMMARY:PRIME RIB NIGHT
DESCRIPTION:
URL:https://www.501restaurantandbar.com/event/prime-rib-night-8-3/
ATTACH;FMTTYPE=image/png:https://www.501restaurantandbar.com/wp-content/uploads/sites/9402/2025/07/Prime-Rib-Flyer-2.png
END:VEVENT
BEGIN:VEVENT
DTSTART;TZID=America/Los_Angeles:20250824T150000
DTEND;TZID=America/Los_Angeles:20250824T180000
DTSTAMP:20260421T192214
CREATED:20250721T182223Z
LAST-MODIFIED:20250721T182223Z
UID:10001154-1756047600-1756058400@www.501restaurantandbar.com
SUMMARY:Weekly Live Music
DESCRIPTION:
URL:https://www.501restaurantandbar.com/event/weekly-live-music-15/2025-08-24/
END:VEVENT
BEGIN:VEVENT
DTSTART;TZID=America/Los_Angeles:20250831T150000
DTEND;TZID=America/Los_Angeles:20250831T180000
DTSTAMP:20260421T192214
CREATED:20250721T182223Z
LAST-MODIFIED:20250721T182223Z
UID:10001155-1756652400-1756663200@www.501restaurantandbar.com
SUMMARY:Weekly Live Music
DESCRIPTION:
URL:https://www.501restaurantandbar.com/event/weekly-live-music-15/2025-08-31/
END:VEVENT
BEGIN:VEVENT
DTSTART;VALUE=DATE:20250901
DTEND;VALUE=DATE:20250902
DTSTAMP:20260421T192214
CREATED:20250721T205251Z
LAST-MODIFIED:20250721T205251Z
UID:10001421-1756684800-1756771199@www.501restaurantandbar.com
SUMMARY:Labor Day
DESCRIPTION:
URL:https://www.501restaurantandbar.com/event/labor-day/
END:VEVENT
BEGIN:VEVENT
DTSTART;TZID=America/Los_Angeles:20250905T160000
DTEND;TZID=America/Los_Angeles:20250905T210000
DTSTAMP:20260421T192214
CREATED:20250721T205716Z
LAST-MODIFIED:20250721T205716Z
UID:10001422-1757088000-1757106000@www.501restaurantandbar.com
SUMMARY:Event Closed to the Public
DESCRIPTION:
URL:https://www.501restaurantandbar.com/event/event-closed-to-the-public/
END:VEVENT
BEGIN:VEVENT
DTSTART;TZID=America/Los_Angeles:20250907T113000
DTEND;TZID=America/Los_Angeles:20250907T143000
DTSTAMP:20260421T192214
CREATED:20250819T224703Z
LAST-MODIFIED:20250819T224703Z
UID:10001454-1757244600-1757255400@www.501restaurantandbar.com
SUMMARY:Large reservation - outside patio
DESCRIPTION:*Restaurant inside is open to the public*
URL:https://www.501restaurantandbar.com/event/large-reservation-outside-patio/
END:VEVENT
BEGIN:VEVENT
DTSTART;TZID=America/Los_Angeles:20250907T150000
DTEND;TZID=America/Los_Angeles:20250907T180000
DTSTAMP:20260421T192214
CREATED:20250721T182223Z
LAST-MODIFIED:20250721T182223Z
UID:10001156-1757257200-1757268000@www.501restaurantandbar.com
SUMMARY:Weekly Live Music
DESCRIPTION:
URL:https://www.501restaurantandbar.com/event/weekly-live-music-15/2025-09-07/
END:VEVENT
BEGIN:VEVENT
DTSTART;TZID=America/Los_Angeles:20250907T160000
DTEND;TZID=America/Los_Angeles:20250907T190000
DTSTAMP:20260421T192214
CREATED:20250819T224912Z
LAST-MODIFIED:20250819T224912Z
UID:10001459-1757260800-1757271600@www.501restaurantandbar.com
SUMMARY:Large reservation - banquet area
DESCRIPTION:*Restaurant not open to the public*
URL:https://www.501restaurantandbar.com/event/large-reservation-banquet-area/
END:VEVENT
BEGIN:VEVENT
DTSTART;TZID=America/Los_Angeles:20250913T160000
DTEND;TZID=America/Los_Angeles:20250913T200000
DTSTAMP:20260421T192214
CREATED:20250721T184914Z
LAST-MODIFIED:20250819T230052Z
UID:10001420-1757779200-1757793600@www.501restaurantandbar.com
SUMMARY:Concert on the Course
DESCRIPTION:
URL:https://www.501restaurantandbar.com/event/concert-on-the-course/
ATTACH;FMTTYPE=image/png:https://www.501restaurantandbar.com/wp-content/uploads/sites/9402/2025/07/Concert-on-the-Course-4-1.png
END:VEVENT
BEGIN:VEVENT
DTSTART;TZID=America/Los_Angeles:20250917T170000
DTEND;TZID=America/Los_Angeles:20250917T203000
DTSTAMP:20260421T192214
CREATED:20250819T225023Z
LAST-MODIFIED:20250819T225023Z
UID:10001461-1758128400-1758141000@www.501restaurantandbar.com
SUMMARY:Private Event
DESCRIPTION:Not open to the public
URL:https://www.501restaurantandbar.com/event/private-event/
END:VEVENT
BEGIN:VEVENT
DTSTART;TZID=America/Los_Angeles:20250919T080000
DTEND;TZID=America/Los_Angeles:20250919T140000
DTSTAMP:20260421T192214
CREATED:20250819T225101Z
LAST-MODIFIED:20250819T225101Z
UID:10001462-1758268800-1758290400@www.501restaurantandbar.com
SUMMARY:Private Event
DESCRIPTION:Not open to the public
URL:https://www.501restaurantandbar.com/event/private-event-2/
END:VEVENT
BEGIN:VEVENT
DTSTART;TZID=America/Los_Angeles:20250919T080000
DTEND;TZID=America/Los_Angeles:20250919T170000
DTSTAMP:20260421T192214
CREATED:20250919T205229Z
LAST-MODIFIED:20250919T205229Z
UID:10001530-1758268800-1758301200@www.501restaurantandbar.com
SUMMARY:South Coast Water District Tournament
DESCRIPTION:
URL:https://www.501restaurantandbar.com/event/south-coast-water-district-tournament/
END:VEVENT
BEGIN:VEVENT
DTSTART;TZID=America/Los_Angeles:20250919T173000
DTEND;TZID=America/Los_Angeles:20250919T203000
DTSTAMP:20260421T192214
CREATED:20250917T213924Z
LAST-MODIFIED:20250917T213924Z
UID:10001501-1758303000-1758313800@www.501restaurantandbar.com
SUMMARY:Friday Night Dinner
DESCRIPTION:
URL:https://www.501restaurantandbar.com/event/friday-night-dinner-10/
END:VEVENT
BEGIN:VEVENT
DTSTART;TZID=America/Los_Angeles:20250921T150000
DTEND;TZID=America/Los_Angeles:20250921T180000
DTSTAMP:20260421T192214
CREATED:20250721T182223Z
LAST-MODIFIED:20250721T182223Z
UID:10001158-1758466800-1758477600@www.501restaurantandbar.com
SUMMARY:Weekly Live Music
DESCRIPTION:
URL:https://www.501restaurantandbar.com/event/weekly-live-music-15/2025-09-21/
END:VEVENT
BEGIN:VEVENT
DTSTART;TZID=America/Los_Angeles:20250921T150000
DTEND;TZID=America/Los_Angeles:20250921T180000
DTSTAMP:20260421T192214
CREATED:20250917T215034Z
LAST-MODIFIED:20250917T215034Z
UID:10001511-1758466800-1758477600@www.501restaurantandbar.com
SUMMARY:Weekly Live Music
DESCRIPTION:
URL:https://www.501restaurantandbar.com/event/weekly-live-music-20/
END:VEVENT
BEGIN:VEVENT
DTSTART;TZID=America/Los_Angeles:20250923T163000
DTEND;TZID=America/Los_Angeles:20250923T183000
DTSTAMP:20260421T192214
CREATED:20250819T225141Z
LAST-MODIFIED:20250819T225141Z
UID:10001463-1758645000-1758652200@www.501restaurantandbar.com
SUMMARY:Private Event
DESCRIPTION:Not open to the public
URL:https://www.501restaurantandbar.com/event/private-event-3/
END:VEVENT
BEGIN:VEVENT
DTSTART;TZID=America/Los_Angeles:20250924T170000
DTEND;TZID=America/Los_Angeles:20250924T183000
DTSTAMP:20260421T192214
CREATED:20250918T183114Z
LAST-MODIFIED:20250918T183114Z
UID:10001514-1758733200-1758738600@www.501restaurantandbar.com
SUMMARY:Line Dancing with Anne Leslie
DESCRIPTION:
URL:https://www.501restaurantandbar.com/event/line-dancing-with-anne-leslie-2/
END:VEVENT
BEGIN:VEVENT
DTSTART;TZID=America/Los_Angeles:20250925T173000
DTEND;TZID=America/Los_Angeles:20250925T223000
DTSTAMP:20260421T192214
CREATED:20250819T225206Z
LAST-MODIFIED:20250819T225206Z
UID:10001464-1758821400-1758839400@www.501restaurantandbar.com
SUMMARY:Private Event
DESCRIPTION:Not open to the public
URL:https://www.501restaurantandbar.com/event/private-event-4/
END:VEVENT
BEGIN:VEVENT
DTSTART;TZID=America/Los_Angeles:20250926T173000
DTEND;TZID=America/Los_Angeles:20250926T203000
DTSTAMP:20260421T192214
CREATED:20250917T214601Z
LAST-MODIFIED:20250917T214601Z
UID:10001502-1758907800-1758918600@www.501restaurantandbar.com
SUMMARY:Friday Night Dinner
DESCRIPTION:
URL:https://www.501restaurantandbar.com/event/friday-night-dinner-11/
END:VEVENT
BEGIN:VEVENT
DTSTART;TZID=America/Los_Angeles:20250928T150000
DTEND;TZID=America/Los_Angeles:20250928T180000
DTSTAMP:20260421T192214
CREATED:20250721T182223Z
LAST-MODIFIED:20250721T182223Z
UID:10001159-1759071600-1759082400@www.501restaurantandbar.com
SUMMARY:Weekly Live Music
DESCRIPTION:
URL:https://www.501restaurantandbar.com/event/weekly-live-music-15/2025-09-28/
END:VEVENT
BEGIN:VEVENT
DTSTART;TZID=America/Los_Angeles:20251001T170000
DTEND;TZID=America/Los_Angeles:20251001T183000
DTSTAMP:20260421T192214
CREATED:20250918T183338Z
LAST-MODIFIED:20250918T183338Z
UID:10001515-1759338000-1759343400@www.501restaurantandbar.com
SUMMARY:Line Dancing with Anne Leslie
DESCRIPTION:
URL:https://www.501restaurantandbar.com/event/line-dancing-with-anne-leslie-3/
END:VEVENT
BEGIN:VEVENT
DTSTART;TZID=America/Los_Angeles:20251002T173000
DTEND;TZID=America/Los_Angeles:20251002T203000
DTSTAMP:20260421T192214
CREATED:20250721T215508Z
LAST-MODIFIED:20251002T202638Z
UID:10001579-1759426200-1759437000@www.501restaurantandbar.com
SUMMARY:Prime Rib Night
DESCRIPTION:
URL:https://www.501restaurantandbar.com/event/prime-rib-night-9/2025-10-02/
ATTACH;FMTTYPE=image/png:https://www.501restaurantandbar.com/wp-content/uploads/sites/9402/2025/07/Prime-Rib-Flyer-2.png
END:VEVENT
BEGIN:VEVENT
DTSTART;TZID=America/Los_Angeles:20251003T173000
DTEND;TZID=America/Los_Angeles:20251003T203000
DTSTAMP:20260421T192214
CREATED:20250917T214626Z
LAST-MODIFIED:20251017T203234Z
UID:10001503-1759512600-1759523400@www.501restaurantandbar.com
SUMMARY:Friday Night Dinner
DESCRIPTION:
URL:https://www.501restaurantandbar.com/event/friday-night-dinner-12/
END:VEVENT
BEGIN:VEVENT
DTSTART;TZID=America/Los_Angeles:20251003T173000
DTEND;TZID=America/Los_Angeles:20251003T213000
DTSTAMP:20260421T192214
CREATED:20250919T225846Z
LAST-MODIFIED:20250919T225954Z
UID:10001560-1759512600-1759527000@www.501restaurantandbar.com
SUMMARY:Private Event
DESCRIPTION:
URL:https://www.501restaurantandbar.com/event/private-event-5/
END:VEVENT
END:VCALENDAR