BEGIN:VCALENDAR
VERSION:2.0
PRODID:-//501 Restaurant &amp; Bar - ECPv6.15.18//NONSGML v1.0//EN
CALSCALE:GREGORIAN
METHOD:PUBLISH
X-ORIGINAL-URL:https://www.501restaurantandbar.com
X-WR-CALDESC:Events for 501 Restaurant &amp; Bar
REFRESH-INTERVAL;VALUE=DURATION:PT1H
X-Robots-Tag:noindex
X-PUBLISHED-TTL:PT1H
BEGIN:VTIMEZONE
TZID:America/Los_Angeles
BEGIN:DAYLIGHT
TZOFFSETFROM:-0800
TZOFFSETTO:-0700
TZNAME:PDT
DTSTART:20250309T100000
END:DAYLIGHT
BEGIN:STANDARD
TZOFFSETFROM:-0700
TZOFFSETTO:-0800
TZNAME:PST
DTSTART:20251102T090000
END:STANDARD
BEGIN:DAYLIGHT
TZOFFSETFROM:-0800
TZOFFSETTO:-0700
TZNAME:PDT
DTSTART:20260308T100000
END:DAYLIGHT
BEGIN:STANDARD
TZOFFSETFROM:-0700
TZOFFSETTO:-0800
TZNAME:PST
DTSTART:20261101T090000
END:STANDARD
BEGIN:DAYLIGHT
TZOFFSETFROM:-0800
TZOFFSETTO:-0700
TZNAME:PDT
DTSTART:20270314T100000
END:DAYLIGHT
BEGIN:STANDARD
TZOFFSETFROM:-0700
TZOFFSETTO:-0800
TZNAME:PST
DTSTART:20271107T090000
END:STANDARD
END:VTIMEZONE
BEGIN:VEVENT
DTSTART;TZID=America/Los_Angeles:20260523T154500
DTEND;TZID=America/Los_Angeles:20260523T194500
DTSTAMP:20260425T032058
CREATED:20260424T143959Z
LAST-MODIFIED:20260424T143959Z
UID:10004041-1779551100-1779565500@www.501restaurantandbar.com
SUMMARY:Private Event *Restaurant to close at/by 3:30pm*
DESCRIPTION:Private Event *Restaurant to close at/by 3:30pm* 5/23/26 3:45-7:45PM
URL:https://www.501restaurantandbar.com/event/private-event-restaurant-to-close-at-by-330pm/
END:VEVENT
BEGIN:VEVENT
DTSTART;VALUE=DATE:20260524
DTEND;VALUE=DATE:20260525
DTSTAMP:20260425T032058
CREATED:20260424T081455Z
LAST-MODIFIED:20260424T081455Z
UID:10004029-1779580800-1779667199@www.501restaurantandbar.com
SUMMARY:Live Music Cancelled
DESCRIPTION:
URL:https://www.501restaurantandbar.com/event/live-music-cancelled/
END:VEVENT
BEGIN:VEVENT
DTSTART;TZID=America/Los_Angeles:20260524T150000
DTEND;TZID=America/Los_Angeles:20260524T180000
DTSTAMP:20260425T032058
CREATED:20251017T203952Z
LAST-MODIFIED:20260324T230134Z
UID:10002000-1779634800-1779645600@www.501restaurantandbar.com
SUMMARY:Live Music Sunday Sessions
DESCRIPTION:
URL:https://www.501restaurantandbar.com/event/weekly-live-music-15-2-2/2026-05-24/
END:VEVENT
BEGIN:VEVENT
DTSTART;TZID=America/Los_Angeles:20260524T160000
DTEND;TZID=America/Los_Angeles:20260524T220000
DTSTAMP:20260425T032058
CREATED:20260424T144047Z
LAST-MODIFIED:20260424T144047Z
UID:10004042-1779638400-1779660000@www.501restaurantandbar.com
SUMMARY:Wedding
DESCRIPTION:Wedding  5/24/26  4:00-10:00pm
URL:https://www.501restaurantandbar.com/event/wedding-2/
END:VEVENT
BEGIN:VEVENT
DTSTART;VALUE=DATE:20260525
DTEND;VALUE=DATE:20260526
DTSTAMP:20260425T032058
CREATED:20260424T144129Z
LAST-MODIFIED:20260424T144129Z
UID:10004043-1779667200-1779753599@www.501restaurantandbar.com
SUMMARY:MEMORIAL DAY
DESCRIPTION:MEMORIAL DAY  5/25/26
URL:https://www.501restaurantandbar.com/event/memorial-day/
END:VEVENT
BEGIN:VEVENT
DTSTART;TZID=America/Los_Angeles:20260529T170000
DTEND;TZID=America/Los_Angeles:20260529T213000
DTSTAMP:20260425T032058
CREATED:20260424T144655Z
LAST-MODIFIED:20260424T144655Z
UID:10004044-1780074000-1780090200@www.501restaurantandbar.com
SUMMARY:Private Event
DESCRIPTION:Private Event 5/29/26 5:00-9:30pm
URL:https://www.501restaurantandbar.com/event/private-event-21/
END:VEVENT
BEGIN:VEVENT
DTSTART;TZID=America/Los_Angeles:20260530T160000
DTEND;TZID=America/Los_Angeles:20260530T220000
DTSTAMP:20260425T032058
CREATED:20260424T144744Z
LAST-MODIFIED:20260424T144744Z
UID:10004045-1780156800-1780178400@www.501restaurantandbar.com
SUMMARY:Wedding
DESCRIPTION:Wedding 5/30/26 4:00-10:00pm
URL:https://www.501restaurantandbar.com/event/wedding-3/
END:VEVENT
BEGIN:VEVENT
DTSTART;TZID=America/Los_Angeles:20260531T150000
DTEND;TZID=America/Los_Angeles:20260531T180000
DTSTAMP:20260425T032058
CREATED:20251017T203952Z
LAST-MODIFIED:20260324T230134Z
UID:10002001-1780239600-1780250400@www.501restaurantandbar.com
SUMMARY:Live Music Sunday Sessions
DESCRIPTION:
URL:https://www.501restaurantandbar.com/event/weekly-live-music-15-2-2/2026-05-31/
END:VEVENT
BEGIN:VEVENT
DTSTART;TZID=America/Los_Angeles:20260531T150000
DTEND;TZID=America/Los_Angeles:20260531T180000
DTSTAMP:20260425T032058
CREATED:20260424T144852Z
LAST-MODIFIED:20260424T144852Z
UID:10004046-1780239600-1780250400@www.501restaurantandbar.com
SUMMARY:Live Music Sunday Sessions
DESCRIPTION:Live Music Sunday Sessions 5/31/26 3:00pm – 6:00pm
URL:https://www.501restaurantandbar.com/event/live-music-sunday-sessions-3/
END:VEVENT
BEGIN:VEVENT
DTSTART;TZID=America/Los_Angeles:20260604T173000
DTEND;TZID=America/Los_Angeles:20260604T203000
DTSTAMP:20260425T032058
CREATED:20260108T192852Z
LAST-MODIFIED:20260210T225108Z
UID:10003234-1780594200-1780605000@www.501restaurantandbar.com
SUMMARY:Prime Rib Night
DESCRIPTION:
URL:https://www.501restaurantandbar.com/event/prime-rib-night-20/2026-06-04/
END:VEVENT
BEGIN:VEVENT
DTSTART;TZID=America/Los_Angeles:20260607T150000
DTEND;TZID=America/Los_Angeles:20260607T180000
DTSTAMP:20260425T032058
CREATED:20251017T203952Z
LAST-MODIFIED:20260324T230134Z
UID:10002002-1780844400-1780855200@www.501restaurantandbar.com
SUMMARY:Live Music Sunday Sessions
DESCRIPTION:
URL:https://www.501restaurantandbar.com/event/weekly-live-music-15-2-2/2026-06-07/
END:VEVENT
BEGIN:VEVENT
DTSTART;TZID=America/Los_Angeles:20260614T150000
DTEND;TZID=America/Los_Angeles:20260614T180000
DTSTAMP:20260425T032058
CREATED:20251017T203952Z
LAST-MODIFIED:20260324T230134Z
UID:10002003-1781449200-1781460000@www.501restaurantandbar.com
SUMMARY:Live Music Sunday Sessions
DESCRIPTION:
URL:https://www.501restaurantandbar.com/event/weekly-live-music-15-2-2/2026-06-14/
END:VEVENT
BEGIN:VEVENT
DTSTART;TZID=America/Los_Angeles:20260618T173000
DTEND;TZID=America/Los_Angeles:20260618T203000
DTSTAMP:20260425T032058
CREATED:20260108T192852Z
LAST-MODIFIED:20260210T225108Z
UID:10003235-1781803800-1781814600@www.501restaurantandbar.com
SUMMARY:Prime Rib Night
DESCRIPTION:
URL:https://www.501restaurantandbar.com/event/prime-rib-night-20/2026-06-18/
END:VEVENT
BEGIN:VEVENT
DTSTART;TZID=America/Los_Angeles:20260621T150000
DTEND;TZID=America/Los_Angeles:20260621T180000
DTSTAMP:20260425T032058
CREATED:20251017T203952Z
LAST-MODIFIED:20260324T230134Z
UID:10002004-1782054000-1782064800@www.501restaurantandbar.com
SUMMARY:Live Music Sunday Sessions
DESCRIPTION:
URL:https://www.501restaurantandbar.com/event/weekly-live-music-15-2-2/2026-06-21/
END:VEVENT
BEGIN:VEVENT
DTSTART;TZID=America/Los_Angeles:20260628T150000
DTEND;TZID=America/Los_Angeles:20260628T180000
DTSTAMP:20260425T032058
CREATED:20251017T203952Z
LAST-MODIFIED:20260324T230134Z
UID:10002005-1782658800-1782669600@www.501restaurantandbar.com
SUMMARY:Live Music Sunday Sessions
DESCRIPTION:
URL:https://www.501restaurantandbar.com/event/weekly-live-music-15-2-2/2026-06-28/
END:VEVENT
BEGIN:VEVENT
DTSTART;TZID=America/Los_Angeles:20260702T173000
DTEND;TZID=America/Los_Angeles:20260702T203000
DTSTAMP:20260425T032058
CREATED:20260108T192852Z
LAST-MODIFIED:20260210T225108Z
UID:10003236-1783013400-1783024200@www.501restaurantandbar.com
SUMMARY:Prime Rib Night
DESCRIPTION:
URL:https://www.501restaurantandbar.com/event/prime-rib-night-20/2026-07-02/
END:VEVENT
BEGIN:VEVENT
DTSTART;TZID=America/Los_Angeles:20260705T150000
DTEND;TZID=America/Los_Angeles:20260705T180000
DTSTAMP:20260425T032058
CREATED:20251017T203952Z
LAST-MODIFIED:20260324T230134Z
UID:10002006-1783263600-1783274400@www.501restaurantandbar.com
SUMMARY:Live Music Sunday Sessions
DESCRIPTION:
URL:https://www.501restaurantandbar.com/event/weekly-live-music-15-2-2/2026-07-05/
END:VEVENT
BEGIN:VEVENT
DTSTART;TZID=America/Los_Angeles:20260712T150000
DTEND;TZID=America/Los_Angeles:20260712T180000
DTSTAMP:20260425T032058
CREATED:20251017T203952Z
LAST-MODIFIED:20260324T230134Z
UID:10002007-1783868400-1783879200@www.501restaurantandbar.com
SUMMARY:Live Music Sunday Sessions
DESCRIPTION:
URL:https://www.501restaurantandbar.com/event/weekly-live-music-15-2-2/2026-07-12/
END:VEVENT
BEGIN:VEVENT
DTSTART;TZID=America/Los_Angeles:20260716T173000
DTEND;TZID=America/Los_Angeles:20260716T203000
DTSTAMP:20260425T032058
CREATED:20260108T192852Z
LAST-MODIFIED:20260210T225108Z
UID:10003237-1784223000-1784233800@www.501restaurantandbar.com
SUMMARY:Prime Rib Night
DESCRIPTION:
URL:https://www.501restaurantandbar.com/event/prime-rib-night-20/2026-07-16/
END:VEVENT
BEGIN:VEVENT
DTSTART;TZID=America/Los_Angeles:20260719T150000
DTEND;TZID=America/Los_Angeles:20260719T180000
DTSTAMP:20260425T032058
CREATED:20251017T203952Z
LAST-MODIFIED:20260324T230134Z
UID:10002008-1784473200-1784484000@www.501restaurantandbar.com
SUMMARY:Live Music Sunday Sessions
DESCRIPTION:
URL:https://www.501restaurantandbar.com/event/weekly-live-music-15-2-2/2026-07-19/
END:VEVENT
BEGIN:VEVENT
DTSTART;TZID=America/Los_Angeles:20260726T150000
DTEND;TZID=America/Los_Angeles:20260726T180000
DTSTAMP:20260425T032058
CREATED:20251017T203952Z
LAST-MODIFIED:20260324T230134Z
UID:10002009-1785078000-1785088800@www.501restaurantandbar.com
SUMMARY:Live Music Sunday Sessions
DESCRIPTION:
URL:https://www.501restaurantandbar.com/event/weekly-live-music-15-2-2/2026-07-26/
END:VEVENT
BEGIN:VEVENT
DTSTART;TZID=America/Los_Angeles:20260802T150000
DTEND;TZID=America/Los_Angeles:20260802T180000
DTSTAMP:20260425T032058
CREATED:20251017T203952Z
LAST-MODIFIED:20260324T230134Z
UID:10002010-1785682800-1785693600@www.501restaurantandbar.com
SUMMARY:Live Music Sunday Sessions
DESCRIPTION:
URL:https://www.501restaurantandbar.com/event/weekly-live-music-15-2-2/2026-08-02/
END:VEVENT
BEGIN:VEVENT
DTSTART;TZID=America/Los_Angeles:20260806T173000
DTEND;TZID=America/Los_Angeles:20260806T203000
DTSTAMP:20260425T032058
CREATED:20260108T192852Z
LAST-MODIFIED:20260210T225108Z
UID:10003238-1786037400-1786048200@www.501restaurantandbar.com
SUMMARY:Prime Rib Night
DESCRIPTION:
URL:https://www.501restaurantandbar.com/event/prime-rib-night-20/2026-08-06/
END:VEVENT
BEGIN:VEVENT
DTSTART;TZID=America/Los_Angeles:20260809T150000
DTEND;TZID=America/Los_Angeles:20260809T180000
DTSTAMP:20260425T032058
CREATED:20251017T203952Z
LAST-MODIFIED:20260324T230134Z
UID:10002011-1786287600-1786298400@www.501restaurantandbar.com
SUMMARY:Live Music Sunday Sessions
DESCRIPTION:
URL:https://www.501restaurantandbar.com/event/weekly-live-music-15-2-2/2026-08-09/
END:VEVENT
BEGIN:VEVENT
DTSTART;TZID=America/Los_Angeles:20260816T150000
DTEND;TZID=America/Los_Angeles:20260816T180000
DTSTAMP:20260425T032058
CREATED:20251017T203952Z
LAST-MODIFIED:20260324T230134Z
UID:10002012-1786892400-1786903200@www.501restaurantandbar.com
SUMMARY:Live Music Sunday Sessions
DESCRIPTION:
URL:https://www.501restaurantandbar.com/event/weekly-live-music-15-2-2/2026-08-16/
END:VEVENT
BEGIN:VEVENT
DTSTART;TZID=America/Los_Angeles:20260820T173000
DTEND;TZID=America/Los_Angeles:20260820T203000
DTSTAMP:20260425T032058
CREATED:20260108T192852Z
LAST-MODIFIED:20260210T225108Z
UID:10003239-1787247000-1787257800@www.501restaurantandbar.com
SUMMARY:Prime Rib Night
DESCRIPTION:
URL:https://www.501restaurantandbar.com/event/prime-rib-night-20/2026-08-20/
END:VEVENT
BEGIN:VEVENT
DTSTART;TZID=America/Los_Angeles:20260823T150000
DTEND;TZID=America/Los_Angeles:20260823T180000
DTSTAMP:20260425T032058
CREATED:20251017T203952Z
LAST-MODIFIED:20260324T230134Z
UID:10002013-1787497200-1787508000@www.501restaurantandbar.com
SUMMARY:Live Music Sunday Sessions
DESCRIPTION:
URL:https://www.501restaurantandbar.com/event/weekly-live-music-15-2-2/2026-08-23/
END:VEVENT
BEGIN:VEVENT
DTSTART;TZID=America/Los_Angeles:20260830T150000
DTEND;TZID=America/Los_Angeles:20260830T180000
DTSTAMP:20260425T032058
CREATED:20251017T203952Z
LAST-MODIFIED:20260324T230134Z
UID:10002014-1788102000-1788112800@www.501restaurantandbar.com
SUMMARY:Live Music Sunday Sessions
DESCRIPTION:
URL:https://www.501restaurantandbar.com/event/weekly-live-music-15-2-2/2026-08-30/
END:VEVENT
BEGIN:VEVENT
DTSTART;TZID=America/Los_Angeles:20260903T173000
DTEND;TZID=America/Los_Angeles:20260903T203000
DTSTAMP:20260425T032058
CREATED:20260108T192852Z
LAST-MODIFIED:20260210T225108Z
UID:10003240-1788456600-1788467400@www.501restaurantandbar.com
SUMMARY:Prime Rib Night
DESCRIPTION:
URL:https://www.501restaurantandbar.com/event/prime-rib-night-20/2026-09-03/
END:VEVENT
BEGIN:VEVENT
DTSTART;TZID=America/Los_Angeles:20260906T150000
DTEND;TZID=America/Los_Angeles:20260906T180000
DTSTAMP:20260425T032058
CREATED:20251017T203952Z
LAST-MODIFIED:20260324T230134Z
UID:10002015-1788706800-1788717600@www.501restaurantandbar.com
SUMMARY:Live Music Sunday Sessions
DESCRIPTION:
URL:https://www.501restaurantandbar.com/event/weekly-live-music-15-2-2/2026-09-06/
END:VEVENT
END:VCALENDAR