BEGIN:VCALENDAR
VERSION:2.0
PRODID:-//501 Restaurant &amp; Bar - ECPv6.15.18//NONSGML v1.0//EN
CALSCALE:GREGORIAN
METHOD:PUBLISH
X-ORIGINAL-URL:https://www.501restaurantandbar.com
X-WR-CALDESC:Events for 501 Restaurant &amp; Bar
REFRESH-INTERVAL;VALUE=DURATION:PT1H
X-Robots-Tag:noindex
X-PUBLISHED-TTL:PT1H
BEGIN:VTIMEZONE
TZID:America/Los_Angeles
BEGIN:DAYLIGHT
TZOFFSETFROM:-0800
TZOFFSETTO:-0700
TZNAME:PDT
DTSTART:20240310T100000
END:DAYLIGHT
BEGIN:STANDARD
TZOFFSETFROM:-0700
TZOFFSETTO:-0800
TZNAME:PST
DTSTART:20241103T090000
END:STANDARD
BEGIN:DAYLIGHT
TZOFFSETFROM:-0800
TZOFFSETTO:-0700
TZNAME:PDT
DTSTART:20250309T100000
END:DAYLIGHT
BEGIN:STANDARD
TZOFFSETFROM:-0700
TZOFFSETTO:-0800
TZNAME:PST
DTSTART:20251102T090000
END:STANDARD
BEGIN:DAYLIGHT
TZOFFSETFROM:-0800
TZOFFSETTO:-0700
TZNAME:PDT
DTSTART:20260308T100000
END:DAYLIGHT
BEGIN:STANDARD
TZOFFSETFROM:-0700
TZOFFSETTO:-0800
TZNAME:PST
DTSTART:20261101T090000
END:STANDARD
BEGIN:DAYLIGHT
TZOFFSETFROM:-0800
TZOFFSETTO:-0700
TZNAME:PDT
DTSTART:20270314T100000
END:DAYLIGHT
BEGIN:STANDARD
TZOFFSETFROM:-0700
TZOFFSETTO:-0800
TZNAME:PST
DTSTART:20271107T090000
END:STANDARD
END:VTIMEZONE
BEGIN:VEVENT
DTSTART;TZID=America/Los_Angeles:20251214T140000
DTEND;TZID=America/Los_Angeles:20251214T170000
DTSTAMP:20260422T155435
CREATED:20251114T013352Z
LAST-MODIFIED:20251114T013428Z
UID:10001711-1765720800-1765731600@www.501restaurantandbar.com
SUMMARY:Weekly Live Music
DESCRIPTION:
URL:https://www.501restaurantandbar.com/event/weekly-live-music-36/
ATTACH;FMTTYPE=image/png:https://www.501restaurantandbar.com/wp-content/uploads/sites/9402/2025/11/Rounds-and-Sounds-Flyer-Real-Estate-Flyer-2-1.png
END:VEVENT
BEGIN:VEVENT
DTSTART;TZID=America/Los_Angeles:20251214T160000
DTEND;TZID=America/Los_Angeles:20251214T220000
DTSTAMP:20260422T155435
CREATED:20251118T000311Z
LAST-MODIFIED:20251118T000311Z
UID:10002850-1765728000-1765749600@www.501restaurantandbar.com
SUMMARY:Private Christmas Party
DESCRIPTION:
URL:https://www.501restaurantandbar.com/event/private-christmas-party-4/
END:VEVENT
BEGIN:VEVENT
DTSTART;TZID=America/Los_Angeles:20251215T180000
DTEND;TZID=America/Los_Angeles:20251215T210000
DTSTAMP:20260422T155435
CREATED:20251118T000937Z
LAST-MODIFIED:20251118T000937Z
UID:10002851-1765821600-1765832400@www.501restaurantandbar.com
SUMMARY:Private Event
DESCRIPTION:
URL:https://www.501restaurantandbar.com/event/private-event-6/
END:VEVENT
BEGIN:VEVENT
DTSTART;TZID=America/Los_Angeles:20251217T160000
DTEND;TZID=America/Los_Angeles:20251217T190000
DTSTAMP:20260422T155435
CREATED:20251210T011054Z
LAST-MODIFIED:20251210T011054Z
UID:10002857-1765987200-1765998000@www.501restaurantandbar.com
SUMMARY:Private Event
DESCRIPTION:
URL:https://www.501restaurantandbar.com/event/private-event-8/
END:VEVENT
BEGIN:VEVENT
DTSTART;TZID=America/Los_Angeles:20251217T170000
DTEND;TZID=America/Los_Angeles:20251217T183000
DTSTAMP:20260422T155435
CREATED:20250918T203720Z
LAST-MODIFIED:20250918T203720Z
UID:10001527-1765990800-1765996200@www.501restaurantandbar.com
SUMMARY:Line Dancing with Anne Leslie
DESCRIPTION:
URL:https://www.501restaurantandbar.com/event/line-dancing-with-anne-leslie-14/
END:VEVENT
BEGIN:VEVENT
DTSTART;TZID=America/Los_Angeles:20251217T180000
DTEND;TZID=America/Los_Angeles:20251217T220000
DTSTAMP:20260422T155435
CREATED:20251210T011131Z
LAST-MODIFIED:20251210T011131Z
UID:10002858-1765994400-1766008800@www.501restaurantandbar.com
SUMMARY:Private Event
DESCRIPTION:
URL:https://www.501restaurantandbar.com/event/private-event-9/
END:VEVENT
BEGIN:VEVENT
DTSTART;VALUE=DATE:20251218
DTEND;VALUE=DATE:20251219
DTSTAMP:20260422T155435
CREATED:20251118T192931Z
LAST-MODIFIED:20251118T192931Z
UID:10002481-1766016000-1766102399@www.501restaurantandbar.com
SUMMARY:Prime Rib Night Will Be Cancelled
DESCRIPTION:
URL:https://www.501restaurantandbar.com/event/prime-rib-night-9-2-3-2/
END:VEVENT
BEGIN:VEVENT
DTSTART;VALUE=DATE:20251218
DTEND;VALUE=DATE:20251219
DTSTAMP:20260422T155435
CREATED:20251210T011433Z
LAST-MODIFIED:20251210T011433Z
UID:10002859-1766016000-1766102399@www.501restaurantandbar.com
SUMMARY:Restaurant Will Be Closed For Lunch
DESCRIPTION:
URL:https://www.501restaurantandbar.com/event/restaurant-will-be-closed-for-lunch/
END:VEVENT
BEGIN:VEVENT
DTSTART;TZID=America/Los_Angeles:20251218T120000
DTEND;TZID=America/Los_Angeles:20251218T150000
DTSTAMP:20260422T155435
CREATED:20250919T231133Z
LAST-MODIFIED:20251118T001142Z
UID:10001566-1766059200-1766070000@www.501restaurantandbar.com
SUMMARY:Private Christmas Party
DESCRIPTION:
URL:https://www.501restaurantandbar.com/event/private-christmas-party/
END:VEVENT
BEGIN:VEVENT
DTSTART;TZID=America/Los_Angeles:20251218T170000
DTEND;TZID=America/Los_Angeles:20251218T200000
DTSTAMP:20260422T155435
CREATED:20251111T235915Z
LAST-MODIFIED:20251118T201918Z
UID:10002855-1766077200-1766088000@www.501restaurantandbar.com
SUMMARY:Prime Rib Night Will Be Cancelled
DESCRIPTION:
URL:https://www.501restaurantandbar.com/event/prime-rib-night-9-2-3/2025-12-18/
END:VEVENT
BEGIN:VEVENT
DTSTART;TZID=America/Los_Angeles:20251218T170000
DTEND;TZID=America/Los_Angeles:20251218T213000
DTSTAMP:20260422T155435
CREATED:20251118T201644Z
LAST-MODIFIED:20251118T201644Z
UID:10002854-1766077200-1766093400@www.501restaurantandbar.com
SUMMARY:Private Christmas Party
DESCRIPTION:
URL:https://www.501restaurantandbar.com/event/private-christmas-party-5/
END:VEVENT
BEGIN:VEVENT
DTSTART;TZID=America/Los_Angeles:20251219T170000
DTEND;TZID=America/Los_Angeles:20251219T200000
DTSTAMP:20260422T155435
CREATED:20251114T015519Z
LAST-MODIFIED:20251114T015519Z
UID:10001695-1766163600-1766174400@www.501restaurantandbar.com
SUMMARY:Friday Night Dinner
DESCRIPTION:
URL:https://www.501restaurantandbar.com/event/friday-night-dinner-32/
ATTACH;FMTTYPE=image/png:https://www.501restaurantandbar.com/wp-content/uploads/sites/9402/2025/10/Friday-Night-Dinner-Flyer-@501-2-1.png
END:VEVENT
BEGIN:VEVENT
DTSTART;TZID=America/Los_Angeles:20251220T160000
DTEND;TZID=America/Los_Angeles:20251220T220000
DTSTAMP:20260422T155435
CREATED:20251118T002507Z
LAST-MODIFIED:20251118T002507Z
UID:10002853-1766246400-1766268000@www.501restaurantandbar.com
SUMMARY:Private Event
DESCRIPTION:
URL:https://www.501restaurantandbar.com/event/private-event-7/
END:VEVENT
BEGIN:VEVENT
DTSTART;VALUE=DATE:20251221
DTEND;VALUE=DATE:20251222
DTSTAMP:20260422T155435
CREATED:20251212T205022Z
LAST-MODIFIED:20251212T205022Z
UID:10002861-1766275200-1766361599@www.501restaurantandbar.com
SUMMARY:Weekly Live Music Cancelled
DESCRIPTION:
URL:https://www.501restaurantandbar.com/event/weekly-live-music-cancelled-2/
END:VEVENT
BEGIN:VEVENT
DTSTART;TZID=America/Los_Angeles:20251221T100000
DTEND;TZID=America/Los_Angeles:20251221T130000
DTSTAMP:20260422T155435
CREATED:20251209T234557Z
LAST-MODIFIED:20251209T234557Z
UID:10002856-1766311200-1766322000@www.501restaurantandbar.com
SUMMARY:Brunch with Santa
DESCRIPTION:BRUNCH WITH SANTA \nSUNDAY\, DEC. 21ST // 10AM – 1PM \nTHE 501 RESTAURANT & BAR AT SHORECLIFFS GOLF CLUB \nTickets: Purchase on Eventbrite \n$45 for Adults (Includes one mimosa) \n$20 for Kids (12 and under) \n*Kids 3 and under Eat Free* \n**All Tickets include Gratuity** \nAmerican breakfast buffet with assorted pastries\, coffee\, and soft drinks included! \nProfessional Photographer will be onsite for photos with Santa! \nPlus\, Santa will be singing a holiday tune!
URL:https://www.501restaurantandbar.com/event/brunch-with-santa/
ATTACH;FMTTYPE=image/png:https://www.501restaurantandbar.com/wp-content/uploads/sites/9402/2025/08/Singing-Santa-Brunch-3.png
END:VEVENT
BEGIN:VEVENT
DTSTART;TZID=America/Los_Angeles:20251221T140000
DTEND;TZID=America/Los_Angeles:20251221T170000
DTSTAMP:20260422T155435
CREATED:20251114T013532Z
LAST-MODIFIED:20251114T013549Z
UID:10001712-1766325600-1766336400@www.501restaurantandbar.com
SUMMARY:Weekly Live Music
DESCRIPTION:
URL:https://www.501restaurantandbar.com/event/weekly-live-music-37/
ATTACH;FMTTYPE=image/png:https://www.501restaurantandbar.com/wp-content/uploads/sites/9402/2025/11/Rounds-and-Sounds-Flyer-Real-Estate-Flyer-2-1.png
END:VEVENT
BEGIN:VEVENT
DTSTART;TZID=America/Los_Angeles:20251224T073000
DTEND;TZID=America/Los_Angeles:20251224T140000
DTSTAMP:20260422T155435
CREATED:20251112T003807Z
LAST-MODIFIED:20251112T003807Z
UID:10002837-1766561400-1766584800@www.501restaurantandbar.com
SUMMARY:Christmas Eve
DESCRIPTION:Holiday Hours \nWed. Dec. 24th 7:30am to 2:00pm – Christmas Eve
URL:https://www.501restaurantandbar.com/event/christmas-eve/
END:VEVENT
BEGIN:VEVENT
DTSTART;VALUE=DATE:20251225
DTEND;VALUE=DATE:20251226
DTSTAMP:20260422T155435
CREATED:20250919T212706Z
LAST-MODIFIED:20250919T212706Z
UID:10001539-1766620800-1766707199@www.501restaurantandbar.com
SUMMARY:CLOSED
DESCRIPTION:
URL:https://www.501restaurantandbar.com/event/closed/
END:VEVENT
BEGIN:VEVENT
DTSTART;VALUE=DATE:20251225
DTEND;VALUE=DATE:20251226
DTSTAMP:20260422T155435
CREATED:20250919T224233Z
LAST-MODIFIED:20250919T225712Z
UID:10001559-1766620800-1766707199@www.501restaurantandbar.com
SUMMARY:Christmas Day
DESCRIPTION:
URL:https://www.501restaurantandbar.com/event/christmas-day/
END:VEVENT
BEGIN:VEVENT
DTSTART;TZID=America/Los_Angeles:20251226T170000
DTEND;TZID=America/Los_Angeles:20251226T200000
DTSTAMP:20260422T155435
CREATED:20251114T015552Z
LAST-MODIFIED:20251114T015552Z
UID:10001696-1766768400-1766779200@www.501restaurantandbar.com
SUMMARY:Friday Night Dinner
DESCRIPTION:
URL:https://www.501restaurantandbar.com/event/friday-night-dinner-33/
ATTACH;FMTTYPE=image/png:https://www.501restaurantandbar.com/wp-content/uploads/sites/9402/2025/10/Friday-Night-Dinner-Flyer-@501-2-1.png
END:VEVENT
BEGIN:VEVENT
DTSTART;TZID=America/Los_Angeles:20251228T140000
DTEND;TZID=America/Los_Angeles:20251228T170000
DTSTAMP:20260422T155435
CREATED:20251114T013701Z
LAST-MODIFIED:20251114T013754Z
UID:10001713-1766930400-1766941200@www.501restaurantandbar.com
SUMMARY:Weekly Live Music
DESCRIPTION:
URL:https://www.501restaurantandbar.com/event/weekly-live-music-38/
ATTACH;FMTTYPE=image/png:https://www.501restaurantandbar.com/wp-content/uploads/sites/9402/2025/11/Rounds-and-Sounds-Flyer-Real-Estate-Flyer-2-1.png
END:VEVENT
BEGIN:VEVENT
DTSTART;TZID=America/Los_Angeles:20251231T073000
DTEND;TZID=America/Los_Angeles:20251231T140000
DTSTAMP:20260422T155435
CREATED:20251112T003927Z
LAST-MODIFIED:20251112T003927Z
UID:10002838-1767166200-1767189600@www.501restaurantandbar.com
SUMMARY:New Year's Eve
DESCRIPTION:Holiday Hours \nWed. Dec. 31st 7:30am to 2:00pm – New Year’s Eve
URL:https://www.501restaurantandbar.com/event/new-years-eve/
END:VEVENT
BEGIN:VEVENT
DTSTART;TZID=America/Los_Angeles:20260101T073000
DTEND;TZID=America/Los_Angeles:20260101T173000
DTSTAMP:20260422T155435
CREATED:20251112T004025Z
LAST-MODIFIED:20251112T004025Z
UID:10002839-1767252600-1767288600@www.501restaurantandbar.com
SUMMARY:New Year’s Day
DESCRIPTION:Holiday Hours \nThurs. Jan. 1st 7:30am to 5:30pm  – New Year’s Day
URL:https://www.501restaurantandbar.com/event/new-years-day/
END:VEVENT
BEGIN:VEVENT
DTSTART;TZID=America/Los_Angeles:20260104T140000
DTEND;TZID=America/Los_Angeles:20260104T170000
DTSTAMP:20260422T155435
CREATED:20251017T204136Z
LAST-MODIFIED:20260114T010944Z
UID:10002230-1767535200-1767546000@www.501restaurantandbar.com
SUMMARY:Weekly Live Music
DESCRIPTION:
URL:https://www.501restaurantandbar.com/event/weekly-live-music-31/
END:VEVENT
BEGIN:VEVENT
DTSTART;TZID=America/Los_Angeles:20260110T123000
DTEND;TZID=America/Los_Angeles:20260110T153000
DTSTAMP:20260422T155435
CREATED:20260108T192950Z
LAST-MODIFIED:20260108T192950Z
UID:10003345-1768048200-1768059000@www.501restaurantandbar.com
SUMMARY:Private Event
DESCRIPTION:Sakshi Madan
URL:https://www.501restaurantandbar.com/event/private-event-10/
END:VEVENT
BEGIN:VEVENT
DTSTART;TZID=America/Los_Angeles:20260111T140000
DTEND;TZID=America/Los_Angeles:20260111T170000
DTSTAMP:20260422T155435
CREATED:20251114T013920Z
LAST-MODIFIED:20260113T222825Z
UID:10001981-1768140000-1768150800@www.501restaurantandbar.com
SUMMARY:Weekly Live Music
DESCRIPTION:
URL:https://www.501restaurantandbar.com/event/weekly-live-music-39/
ATTACH;FMTTYPE=image/png:https://www.501restaurantandbar.com/wp-content/uploads/sites/9402/2025/11/Rounds-and-Sounds-Flyer-Real-Estate-Flyer-2-1.png
END:VEVENT
BEGIN:VEVENT
DTSTART;TZID=America/Los_Angeles:20260116T170000
DTEND;TZID=America/Los_Angeles:20260116T220000
DTSTAMP:20260422T155435
CREATED:20260108T194016Z
LAST-MODIFIED:20260108T194016Z
UID:10003349-1768582800-1768600800@www.501restaurantandbar.com
SUMMARY:Wedding Reception
DESCRIPTION:Joni & Vincent
URL:https://www.501restaurantandbar.com/event/wedding-reception/
ATTACH;FMTTYPE=image/png:https://www.501restaurantandbar.com/wp-content/uploads/sites/9402/2025/11/Rounds-and-Sounds-Flyer-Real-Estate-Flyer-2-1.png
END:VEVENT
BEGIN:VEVENT
DTSTART;TZID=America/Los_Angeles:20260117T170000
DTEND;TZID=America/Los_Angeles:20260117T210000
DTSTAMP:20260422T155435
CREATED:20260108T194058Z
LAST-MODIFIED:20260108T194058Z
UID:10003354-1768669200-1768683600@www.501restaurantandbar.com
SUMMARY:Wedding Rehearsal Dinner
DESCRIPTION:Kelsey & Norman
URL:https://www.501restaurantandbar.com/event/wedding-rehearsal-dinner/
ATTACH;FMTTYPE=image/png:https://www.501restaurantandbar.com/wp-content/uploads/sites/9402/2025/11/Rounds-and-Sounds-Flyer-Real-Estate-Flyer-2-1.png
END:VEVENT
BEGIN:VEVENT
DTSTART;TZID=America/Los_Angeles:20260118T150000
DTEND;TZID=America/Los_Angeles:20260118T180000
DTSTAMP:20260422T155435
CREATED:20251114T014358Z
LAST-MODIFIED:20251114T014418Z
UID:10001982-1768748400-1768759200@www.501restaurantandbar.com
SUMMARY:Weekly Live Music
DESCRIPTION:
URL:https://www.501restaurantandbar.com/event/weekly-live-music-40/
ATTACH;FMTTYPE=image/png:https://www.501restaurantandbar.com/wp-content/uploads/sites/9402/2025/11/Rounds-and-Sounds-Flyer-Real-Estate-Flyer-2-1.png
END:VEVENT
BEGIN:VEVENT
DTSTART;TZID=America/Los_Angeles:20260123T110000
DTEND;TZID=America/Los_Angeles:20260123T170000
DTSTAMP:20260422T155435
CREATED:20251017T210926Z
LAST-MODIFIED:20251017T210926Z
UID:10002831-1769166000-1769187600@www.501restaurantandbar.com
SUMMARY:SCHS Boys Volleyball
DESCRIPTION:SCHS Boys Volleyball (Full Shotgun) (Banquet Afterwards) 11am – 5pm
URL:https://www.501restaurantandbar.com/event/schs-boys-volleyball/
END:VEVENT
END:VCALENDAR