BEGIN:VCALENDAR
VERSION:2.0
PRODID:-//501 Restaurant &amp; Bar - ECPv6.15.18//NONSGML v1.0//EN
CALSCALE:GREGORIAN
METHOD:PUBLISH
X-WR-CALNAME:501 Restaurant &amp; Bar
X-ORIGINAL-URL:https://www.501restaurantandbar.com
X-WR-CALDESC:Events for 501 Restaurant &amp; Bar
REFRESH-INTERVAL;VALUE=DURATION:PT1H
X-Robots-Tag:noindex
X-PUBLISHED-TTL:PT1H
BEGIN:VTIMEZONE
TZID:America/Los_Angeles
BEGIN:DAYLIGHT
TZOFFSETFROM:-0800
TZOFFSETTO:-0700
TZNAME:PDT
DTSTART:20260308T100000
END:DAYLIGHT
BEGIN:STANDARD
TZOFFSETFROM:-0700
TZOFFSETTO:-0800
TZNAME:PST
DTSTART:20261101T090000
END:STANDARD
BEGIN:DAYLIGHT
TZOFFSETFROM:-0800
TZOFFSETTO:-0700
TZNAME:PDT
DTSTART:20270314T100000
END:DAYLIGHT
BEGIN:STANDARD
TZOFFSETFROM:-0700
TZOFFSETTO:-0800
TZNAME:PST
DTSTART:20271107T090000
END:STANDARD
BEGIN:DAYLIGHT
TZOFFSETFROM:-0800
TZOFFSETTO:-0700
TZNAME:PDT
DTSTART:20280312T100000
END:DAYLIGHT
BEGIN:STANDARD
TZOFFSETFROM:-0700
TZOFFSETTO:-0800
TZNAME:PST
DTSTART:20281105T090000
END:STANDARD
END:VTIMEZONE
BEGIN:VEVENT
DTSTART;TZID=America/Los_Angeles:20270228T150000
DTEND;TZID=America/Los_Angeles:20270228T180000
DTSTAMP:20260421T031046
CREATED:20251017T203952Z
LAST-MODIFIED:20260324T230134Z
UID:10002040-1803826800-1803837600@www.501restaurantandbar.com
SUMMARY:Live Music Sunday Sessions
DESCRIPTION:
URL:https://www.501restaurantandbar.com/event/weekly-live-music-15-2-2/2027-02-28/
END:VEVENT
BEGIN:VEVENT
DTSTART;TZID=America/Los_Angeles:20270307T150000
DTEND;TZID=America/Los_Angeles:20270307T180000
DTSTAMP:20260421T031046
CREATED:20251017T203952Z
LAST-MODIFIED:20260324T230134Z
UID:10002041-1804431600-1804442400@www.501restaurantandbar.com
SUMMARY:Live Music Sunday Sessions
DESCRIPTION:
URL:https://www.501restaurantandbar.com/event/weekly-live-music-15-2-2/2027-03-07/
END:VEVENT
BEGIN:VEVENT
DTSTART;TZID=America/Los_Angeles:20270314T150000
DTEND;TZID=America/Los_Angeles:20270314T180000
DTSTAMP:20260421T031046
CREATED:20251017T203952Z
LAST-MODIFIED:20260324T230134Z
UID:10002042-1805036400-1805047200@www.501restaurantandbar.com
SUMMARY:Live Music Sunday Sessions
DESCRIPTION:
URL:https://www.501restaurantandbar.com/event/weekly-live-music-15-2-2/2027-03-14/
END:VEVENT
BEGIN:VEVENT
DTSTART;TZID=America/Los_Angeles:20270321T150000
DTEND;TZID=America/Los_Angeles:20270321T180000
DTSTAMP:20260421T031046
CREATED:20251017T203952Z
LAST-MODIFIED:20260324T230134Z
UID:10002043-1805641200-1805652000@www.501restaurantandbar.com
SUMMARY:Live Music Sunday Sessions
DESCRIPTION:
URL:https://www.501restaurantandbar.com/event/weekly-live-music-15-2-2/2027-03-21/
END:VEVENT
BEGIN:VEVENT
DTSTART;TZID=America/Los_Angeles:20270328T150000
DTEND;TZID=America/Los_Angeles:20270328T180000
DTSTAMP:20260421T031046
CREATED:20251017T203952Z
LAST-MODIFIED:20260324T230134Z
UID:10002044-1806246000-1806256800@www.501restaurantandbar.com
SUMMARY:Live Music Sunday Sessions
DESCRIPTION:
URL:https://www.501restaurantandbar.com/event/weekly-live-music-15-2-2/2027-03-28/
END:VEVENT
BEGIN:VEVENT
DTSTART;TZID=America/Los_Angeles:20270404T150000
DTEND;TZID=America/Los_Angeles:20270404T180000
DTSTAMP:20260421T031046
CREATED:20251017T203952Z
LAST-MODIFIED:20260324T230134Z
UID:10002045-1806850800-1806861600@www.501restaurantandbar.com
SUMMARY:Live Music Sunday Sessions
DESCRIPTION:
URL:https://www.501restaurantandbar.com/event/weekly-live-music-15-2-2/2027-04-04/
END:VEVENT
BEGIN:VEVENT
DTSTART;TZID=America/Los_Angeles:20270411T150000
DTEND;TZID=America/Los_Angeles:20270411T180000
DTSTAMP:20260421T031047
CREATED:20251017T203952Z
LAST-MODIFIED:20260324T230134Z
UID:10002046-1807455600-1807466400@www.501restaurantandbar.com
SUMMARY:Live Music Sunday Sessions
DESCRIPTION:
URL:https://www.501restaurantandbar.com/event/weekly-live-music-15-2-2/2027-04-11/
END:VEVENT
BEGIN:VEVENT
DTSTART;TZID=America/Los_Angeles:20270418T150000
DTEND;TZID=America/Los_Angeles:20270418T180000
DTSTAMP:20260421T031047
CREATED:20251017T203952Z
LAST-MODIFIED:20260324T230134Z
UID:10002047-1808060400-1808071200@www.501restaurantandbar.com
SUMMARY:Live Music Sunday Sessions
DESCRIPTION:
URL:https://www.501restaurantandbar.com/event/weekly-live-music-15-2-2/2027-04-18/
END:VEVENT
BEGIN:VEVENT
DTSTART;TZID=America/Los_Angeles:20270425T150000
DTEND;TZID=America/Los_Angeles:20270425T180000
DTSTAMP:20260421T031047
CREATED:20251017T203952Z
LAST-MODIFIED:20260324T230134Z
UID:10002048-1808665200-1808676000@www.501restaurantandbar.com
SUMMARY:Live Music Sunday Sessions
DESCRIPTION:
URL:https://www.501restaurantandbar.com/event/weekly-live-music-15-2-2/2027-04-25/
END:VEVENT
BEGIN:VEVENT
DTSTART;TZID=America/Los_Angeles:20270502T150000
DTEND;TZID=America/Los_Angeles:20270502T180000
DTSTAMP:20260421T031047
CREATED:20251017T203952Z
LAST-MODIFIED:20260324T230134Z
UID:10002049-1809270000-1809280800@www.501restaurantandbar.com
SUMMARY:Live Music Sunday Sessions
DESCRIPTION:
URL:https://www.501restaurantandbar.com/event/weekly-live-music-15-2-2/2027-05-02/
END:VEVENT
BEGIN:VEVENT
DTSTART;TZID=America/Los_Angeles:20270509T150000
DTEND;TZID=America/Los_Angeles:20270509T180000
DTSTAMP:20260421T031047
CREATED:20251017T203952Z
LAST-MODIFIED:20260324T230134Z
UID:10002050-1809874800-1809885600@www.501restaurantandbar.com
SUMMARY:Live Music Sunday Sessions
DESCRIPTION:
URL:https://www.501restaurantandbar.com/event/weekly-live-music-15-2-2/2027-05-09/
END:VEVENT
BEGIN:VEVENT
DTSTART;TZID=America/Los_Angeles:20270516T150000
DTEND;TZID=America/Los_Angeles:20270516T180000
DTSTAMP:20260421T031047
CREATED:20251017T203952Z
LAST-MODIFIED:20260324T230134Z
UID:10002051-1810479600-1810490400@www.501restaurantandbar.com
SUMMARY:Live Music Sunday Sessions
DESCRIPTION:
URL:https://www.501restaurantandbar.com/event/weekly-live-music-15-2-2/2027-05-16/
END:VEVENT
BEGIN:VEVENT
DTSTART;TZID=America/Los_Angeles:20270523T150000
DTEND;TZID=America/Los_Angeles:20270523T180000
DTSTAMP:20260421T031047
CREATED:20251017T203952Z
LAST-MODIFIED:20260324T230134Z
UID:10002052-1811084400-1811095200@www.501restaurantandbar.com
SUMMARY:Live Music Sunday Sessions
DESCRIPTION:
URL:https://www.501restaurantandbar.com/event/weekly-live-music-15-2-2/2027-05-23/
END:VEVENT
BEGIN:VEVENT
DTSTART;TZID=America/Los_Angeles:20270530T150000
DTEND;TZID=America/Los_Angeles:20270530T180000
DTSTAMP:20260421T031047
CREATED:20251017T203952Z
LAST-MODIFIED:20260324T230134Z
UID:10002053-1811689200-1811700000@www.501restaurantandbar.com
SUMMARY:Live Music Sunday Sessions
DESCRIPTION:
URL:https://www.501restaurantandbar.com/event/weekly-live-music-15-2-2/2027-05-30/
END:VEVENT
BEGIN:VEVENT
DTSTART;TZID=America/Los_Angeles:20270606T150000
DTEND;TZID=America/Los_Angeles:20270606T180000
DTSTAMP:20260421T031047
CREATED:20251017T203952Z
LAST-MODIFIED:20260324T230134Z
UID:10002054-1812294000-1812304800@www.501restaurantandbar.com
SUMMARY:Live Music Sunday Sessions
DESCRIPTION:
URL:https://www.501restaurantandbar.com/event/weekly-live-music-15-2-2/2027-06-06/
END:VEVENT
BEGIN:VEVENT
DTSTART;TZID=America/Los_Angeles:20270613T150000
DTEND;TZID=America/Los_Angeles:20270613T180000
DTSTAMP:20260421T031047
CREATED:20251017T203952Z
LAST-MODIFIED:20260324T230134Z
UID:10002055-1812898800-1812909600@www.501restaurantandbar.com
SUMMARY:Live Music Sunday Sessions
DESCRIPTION:
URL:https://www.501restaurantandbar.com/event/weekly-live-music-15-2-2/2027-06-13/
END:VEVENT
BEGIN:VEVENT
DTSTART;TZID=America/Los_Angeles:20270620T150000
DTEND;TZID=America/Los_Angeles:20270620T180000
DTSTAMP:20260421T031047
CREATED:20251017T203952Z
LAST-MODIFIED:20260324T230134Z
UID:10002056-1813503600-1813514400@www.501restaurantandbar.com
SUMMARY:Live Music Sunday Sessions
DESCRIPTION:
URL:https://www.501restaurantandbar.com/event/weekly-live-music-15-2-2/2027-06-20/
END:VEVENT
BEGIN:VEVENT
DTSTART;TZID=America/Los_Angeles:20270627T150000
DTEND;TZID=America/Los_Angeles:20270627T180000
DTSTAMP:20260421T031047
CREATED:20251017T203952Z
LAST-MODIFIED:20260324T230134Z
UID:10002057-1814108400-1814119200@www.501restaurantandbar.com
SUMMARY:Live Music Sunday Sessions
DESCRIPTION:
URL:https://www.501restaurantandbar.com/event/weekly-live-music-15-2-2/2027-06-27/
END:VEVENT
BEGIN:VEVENT
DTSTART;TZID=America/Los_Angeles:20270704T150000
DTEND;TZID=America/Los_Angeles:20270704T180000
DTSTAMP:20260421T031047
CREATED:20251017T203952Z
LAST-MODIFIED:20260324T230134Z
UID:10002058-1814713200-1814724000@www.501restaurantandbar.com
SUMMARY:Live Music Sunday Sessions
DESCRIPTION:
URL:https://www.501restaurantandbar.com/event/weekly-live-music-15-2-2/2027-07-04/
END:VEVENT
BEGIN:VEVENT
DTSTART;TZID=America/Los_Angeles:20270711T150000
DTEND;TZID=America/Los_Angeles:20270711T180000
DTSTAMP:20260421T031047
CREATED:20251017T203952Z
LAST-MODIFIED:20260324T230134Z
UID:10002059-1815318000-1815328800@www.501restaurantandbar.com
SUMMARY:Live Music Sunday Sessions
DESCRIPTION:
URL:https://www.501restaurantandbar.com/event/weekly-live-music-15-2-2/2027-07-11/
END:VEVENT
BEGIN:VEVENT
DTSTART;TZID=America/Los_Angeles:20270718T150000
DTEND;TZID=America/Los_Angeles:20270718T180000
DTSTAMP:20260421T031047
CREATED:20251017T203952Z
LAST-MODIFIED:20260324T230134Z
UID:10002060-1815922800-1815933600@www.501restaurantandbar.com
SUMMARY:Live Music Sunday Sessions
DESCRIPTION:
URL:https://www.501restaurantandbar.com/event/weekly-live-music-15-2-2/2027-07-18/
END:VEVENT
BEGIN:VEVENT
DTSTART;TZID=America/Los_Angeles:20270725T150000
DTEND;TZID=America/Los_Angeles:20270725T180000
DTSTAMP:20260421T031047
CREATED:20251017T203952Z
LAST-MODIFIED:20260324T230134Z
UID:10002061-1816527600-1816538400@www.501restaurantandbar.com
SUMMARY:Live Music Sunday Sessions
DESCRIPTION:
URL:https://www.501restaurantandbar.com/event/weekly-live-music-15-2-2/2027-07-25/
END:VEVENT
BEGIN:VEVENT
DTSTART;TZID=America/Los_Angeles:20270801T150000
DTEND;TZID=America/Los_Angeles:20270801T180000
DTSTAMP:20260421T031047
CREATED:20251017T203952Z
LAST-MODIFIED:20260324T230134Z
UID:10002062-1817132400-1817143200@www.501restaurantandbar.com
SUMMARY:Live Music Sunday Sessions
DESCRIPTION:
URL:https://www.501restaurantandbar.com/event/weekly-live-music-15-2-2/2027-08-01/
END:VEVENT
BEGIN:VEVENT
DTSTART;TZID=America/Los_Angeles:20270808T150000
DTEND;TZID=America/Los_Angeles:20270808T180000
DTSTAMP:20260421T031047
CREATED:20251017T203952Z
LAST-MODIFIED:20260324T230134Z
UID:10002063-1817737200-1817748000@www.501restaurantandbar.com
SUMMARY:Live Music Sunday Sessions
DESCRIPTION:
URL:https://www.501restaurantandbar.com/event/weekly-live-music-15-2-2/2027-08-08/
END:VEVENT
BEGIN:VEVENT
DTSTART;TZID=America/Los_Angeles:20270815T150000
DTEND;TZID=America/Los_Angeles:20270815T180000
DTSTAMP:20260421T031047
CREATED:20251017T203952Z
LAST-MODIFIED:20260324T230134Z
UID:10002064-1818342000-1818352800@www.501restaurantandbar.com
SUMMARY:Live Music Sunday Sessions
DESCRIPTION:
URL:https://www.501restaurantandbar.com/event/weekly-live-music-15-2-2/2027-08-15/
END:VEVENT
BEGIN:VEVENT
DTSTART;TZID=America/Los_Angeles:20270822T150000
DTEND;TZID=America/Los_Angeles:20270822T180000
DTSTAMP:20260421T031047
CREATED:20251017T203952Z
LAST-MODIFIED:20260324T230134Z
UID:10002065-1818946800-1818957600@www.501restaurantandbar.com
SUMMARY:Live Music Sunday Sessions
DESCRIPTION:
URL:https://www.501restaurantandbar.com/event/weekly-live-music-15-2-2/2027-08-22/
END:VEVENT
BEGIN:VEVENT
DTSTART;TZID=America/Los_Angeles:20270829T150000
DTEND;TZID=America/Los_Angeles:20270829T180000
DTSTAMP:20260421T031047
CREATED:20251017T203952Z
LAST-MODIFIED:20260324T230134Z
UID:10002066-1819551600-1819562400@www.501restaurantandbar.com
SUMMARY:Live Music Sunday Sessions
DESCRIPTION:
URL:https://www.501restaurantandbar.com/event/weekly-live-music-15-2-2/2027-08-29/
END:VEVENT
BEGIN:VEVENT
DTSTART;TZID=America/Los_Angeles:20270905T150000
DTEND;TZID=America/Los_Angeles:20270905T180000
DTSTAMP:20260421T031047
CREATED:20251017T203952Z
LAST-MODIFIED:20260324T230134Z
UID:10002067-1820156400-1820167200@www.501restaurantandbar.com
SUMMARY:Live Music Sunday Sessions
DESCRIPTION:
URL:https://www.501restaurantandbar.com/event/weekly-live-music-15-2-2/2027-09-05/
END:VEVENT
BEGIN:VEVENT
DTSTART;TZID=America/Los_Angeles:20270912T150000
DTEND;TZID=America/Los_Angeles:20270912T180000
DTSTAMP:20260421T031047
CREATED:20251017T203952Z
LAST-MODIFIED:20260324T230134Z
UID:10002068-1820761200-1820772000@www.501restaurantandbar.com
SUMMARY:Live Music Sunday Sessions
DESCRIPTION:
URL:https://www.501restaurantandbar.com/event/weekly-live-music-15-2-2/2027-09-12/
END:VEVENT
BEGIN:VEVENT
DTSTART;TZID=America/Los_Angeles:20270919T150000
DTEND;TZID=America/Los_Angeles:20270919T180000
DTSTAMP:20260421T031047
CREATED:20251017T203952Z
LAST-MODIFIED:20260324T230134Z
UID:10002069-1821366000-1821376800@www.501restaurantandbar.com
SUMMARY:Live Music Sunday Sessions
DESCRIPTION:
URL:https://www.501restaurantandbar.com/event/weekly-live-music-15-2-2/2027-09-19/
END:VEVENT
END:VCALENDAR