BEGIN:VCALENDAR
VERSION:2.0
PRODID:-//501 Restaurant &amp; Bar - ECPv6.15.18//NONSGML v1.0//EN
CALSCALE:GREGORIAN
METHOD:PUBLISH
X-WR-CALNAME:501 Restaurant &amp; Bar
X-ORIGINAL-URL:https://www.501restaurantandbar.com
X-WR-CALDESC:Events for 501 Restaurant &amp; Bar
REFRESH-INTERVAL;VALUE=DURATION:PT1H
X-Robots-Tag:noindex
X-PUBLISHED-TTL:PT1H
BEGIN:VTIMEZONE
TZID:America/Los_Angeles
BEGIN:DAYLIGHT
TZOFFSETFROM:-0800
TZOFFSETTO:-0700
TZNAME:PDT
DTSTART:20250309T100000
END:DAYLIGHT
BEGIN:STANDARD
TZOFFSETFROM:-0700
TZOFFSETTO:-0800
TZNAME:PST
DTSTART:20251102T090000
END:STANDARD
BEGIN:DAYLIGHT
TZOFFSETFROM:-0800
TZOFFSETTO:-0700
TZNAME:PDT
DTSTART:20260308T100000
END:DAYLIGHT
BEGIN:STANDARD
TZOFFSETFROM:-0700
TZOFFSETTO:-0800
TZNAME:PST
DTSTART:20261101T090000
END:STANDARD
BEGIN:DAYLIGHT
TZOFFSETFROM:-0800
TZOFFSETTO:-0700
TZNAME:PDT
DTSTART:20270314T100000
END:DAYLIGHT
BEGIN:STANDARD
TZOFFSETFROM:-0700
TZOFFSETTO:-0800
TZNAME:PST
DTSTART:20271107T090000
END:STANDARD
END:VTIMEZONE
BEGIN:VEVENT
DTSTART;TZID=America/Los_Angeles:20260802T150000
DTEND;TZID=America/Los_Angeles:20260802T180000
DTSTAMP:20260425T071922
CREATED:20251017T203952Z
LAST-MODIFIED:20260324T230134Z
UID:10002010-1785682800-1785693600@www.501restaurantandbar.com
SUMMARY:Live Music Sunday Sessions
DESCRIPTION:
URL:https://www.501restaurantandbar.com/event/weekly-live-music-15-2-2/2026-08-02/
END:VEVENT
BEGIN:VEVENT
DTSTART;TZID=America/Los_Angeles:20260806T173000
DTEND;TZID=America/Los_Angeles:20260806T203000
DTSTAMP:20260425T071922
CREATED:20260108T192852Z
LAST-MODIFIED:20260210T225108Z
UID:10003238-1786037400-1786048200@www.501restaurantandbar.com
SUMMARY:Prime Rib Night
DESCRIPTION:
URL:https://www.501restaurantandbar.com/event/prime-rib-night-20/2026-08-06/
END:VEVENT
BEGIN:VEVENT
DTSTART;TZID=America/Los_Angeles:20260809T150000
DTEND;TZID=America/Los_Angeles:20260809T180000
DTSTAMP:20260425T071922
CREATED:20251017T203952Z
LAST-MODIFIED:20260324T230134Z
UID:10002011-1786287600-1786298400@www.501restaurantandbar.com
SUMMARY:Live Music Sunday Sessions
DESCRIPTION:
URL:https://www.501restaurantandbar.com/event/weekly-live-music-15-2-2/2026-08-09/
END:VEVENT
BEGIN:VEVENT
DTSTART;TZID=America/Los_Angeles:20260816T150000
DTEND;TZID=America/Los_Angeles:20260816T180000
DTSTAMP:20260425T071922
CREATED:20251017T203952Z
LAST-MODIFIED:20260324T230134Z
UID:10002012-1786892400-1786903200@www.501restaurantandbar.com
SUMMARY:Live Music Sunday Sessions
DESCRIPTION:
URL:https://www.501restaurantandbar.com/event/weekly-live-music-15-2-2/2026-08-16/
END:VEVENT
BEGIN:VEVENT
DTSTART;TZID=America/Los_Angeles:20260820T173000
DTEND;TZID=America/Los_Angeles:20260820T203000
DTSTAMP:20260425T071922
CREATED:20260108T192852Z
LAST-MODIFIED:20260210T225108Z
UID:10003239-1787247000-1787257800@www.501restaurantandbar.com
SUMMARY:Prime Rib Night
DESCRIPTION:
URL:https://www.501restaurantandbar.com/event/prime-rib-night-20/2026-08-20/
END:VEVENT
BEGIN:VEVENT
DTSTART;TZID=America/Los_Angeles:20260823T150000
DTEND;TZID=America/Los_Angeles:20260823T180000
DTSTAMP:20260425T071922
CREATED:20251017T203952Z
LAST-MODIFIED:20260324T230134Z
UID:10002013-1787497200-1787508000@www.501restaurantandbar.com
SUMMARY:Live Music Sunday Sessions
DESCRIPTION:
URL:https://www.501restaurantandbar.com/event/weekly-live-music-15-2-2/2026-08-23/
END:VEVENT
BEGIN:VEVENT
DTSTART;TZID=America/Los_Angeles:20260830T150000
DTEND;TZID=America/Los_Angeles:20260830T180000
DTSTAMP:20260425T071922
CREATED:20251017T203952Z
LAST-MODIFIED:20260324T230134Z
UID:10002014-1788102000-1788112800@www.501restaurantandbar.com
SUMMARY:Live Music Sunday Sessions
DESCRIPTION:
URL:https://www.501restaurantandbar.com/event/weekly-live-music-15-2-2/2026-08-30/
END:VEVENT
END:VCALENDAR