BEGIN:VCALENDAR
VERSION:2.0
PRODID:-//501 Restaurant &amp; Bar - ECPv6.15.18//NONSGML v1.0//EN
CALSCALE:GREGORIAN
METHOD:PUBLISH
X-WR-CALNAME:501 Restaurant &amp; Bar
X-ORIGINAL-URL:https://www.501restaurantandbar.com
X-WR-CALDESC:Events for 501 Restaurant &amp; Bar
REFRESH-INTERVAL;VALUE=DURATION:PT1H
X-Robots-Tag:noindex
X-PUBLISHED-TTL:PT1H
BEGIN:VTIMEZONE
TZID:America/Los_Angeles
BEGIN:DAYLIGHT
TZOFFSETFROM:-0800
TZOFFSETTO:-0700
TZNAME:PDT
DTSTART:20250309T100000
END:DAYLIGHT
BEGIN:STANDARD
TZOFFSETFROM:-0700
TZOFFSETTO:-0800
TZNAME:PST
DTSTART:20251102T090000
END:STANDARD
BEGIN:DAYLIGHT
TZOFFSETFROM:-0800
TZOFFSETTO:-0700
TZNAME:PDT
DTSTART:20260308T100000
END:DAYLIGHT
BEGIN:STANDARD
TZOFFSETFROM:-0700
TZOFFSETTO:-0800
TZNAME:PST
DTSTART:20261101T090000
END:STANDARD
BEGIN:DAYLIGHT
TZOFFSETFROM:-0800
TZOFFSETTO:-0700
TZNAME:PDT
DTSTART:20270314T100000
END:DAYLIGHT
BEGIN:STANDARD
TZOFFSETFROM:-0700
TZOFFSETTO:-0800
TZNAME:PST
DTSTART:20271107T090000
END:STANDARD
END:VTIMEZONE
BEGIN:VEVENT
DTSTART;TZID=America/Los_Angeles:20260903T173000
DTEND;TZID=America/Los_Angeles:20260903T203000
DTSTAMP:20260425T100501
CREATED:20260108T192852Z
LAST-MODIFIED:20260210T225108Z
UID:10003240-1788456600-1788467400@www.501restaurantandbar.com
SUMMARY:Prime Rib Night
DESCRIPTION:
URL:https://www.501restaurantandbar.com/event/prime-rib-night-20/2026-09-03/
END:VEVENT
BEGIN:VEVENT
DTSTART;TZID=America/Los_Angeles:20260906T150000
DTEND;TZID=America/Los_Angeles:20260906T180000
DTSTAMP:20260425T100501
CREATED:20251017T203952Z
LAST-MODIFIED:20260324T230134Z
UID:10002015-1788706800-1788717600@www.501restaurantandbar.com
SUMMARY:Live Music Sunday Sessions
DESCRIPTION:
URL:https://www.501restaurantandbar.com/event/weekly-live-music-15-2-2/2026-09-06/
END:VEVENT
BEGIN:VEVENT
DTSTART;TZID=America/Los_Angeles:20260913T150000
DTEND;TZID=America/Los_Angeles:20260913T180000
DTSTAMP:20260425T100501
CREATED:20251017T203952Z
LAST-MODIFIED:20260324T230134Z
UID:10002016-1789311600-1789322400@www.501restaurantandbar.com
SUMMARY:Live Music Sunday Sessions
DESCRIPTION:
URL:https://www.501restaurantandbar.com/event/weekly-live-music-15-2-2/2026-09-13/
END:VEVENT
BEGIN:VEVENT
DTSTART;TZID=America/Los_Angeles:20260917T173000
DTEND;TZID=America/Los_Angeles:20260917T203000
DTSTAMP:20260425T100501
CREATED:20260108T192852Z
LAST-MODIFIED:20260210T225108Z
UID:10003241-1789666200-1789677000@www.501restaurantandbar.com
SUMMARY:Prime Rib Night
DESCRIPTION:
URL:https://www.501restaurantandbar.com/event/prime-rib-night-20/2026-09-17/
END:VEVENT
BEGIN:VEVENT
DTSTART;TZID=America/Los_Angeles:20260920T150000
DTEND;TZID=America/Los_Angeles:20260920T180000
DTSTAMP:20260425T100501
CREATED:20251017T203952Z
LAST-MODIFIED:20260324T230134Z
UID:10002017-1789916400-1789927200@www.501restaurantandbar.com
SUMMARY:Live Music Sunday Sessions
DESCRIPTION:
URL:https://www.501restaurantandbar.com/event/weekly-live-music-15-2-2/2026-09-20/
END:VEVENT
BEGIN:VEVENT
DTSTART;TZID=America/Los_Angeles:20260927T150000
DTEND;TZID=America/Los_Angeles:20260927T180000
DTSTAMP:20260425T100501
CREATED:20251017T203952Z
LAST-MODIFIED:20260324T230134Z
UID:10002018-1790521200-1790532000@www.501restaurantandbar.com
SUMMARY:Live Music Sunday Sessions
DESCRIPTION:
URL:https://www.501restaurantandbar.com/event/weekly-live-music-15-2-2/2026-09-27/
END:VEVENT
END:VCALENDAR