BEGIN:VCALENDAR
VERSION:2.0
PRODID:-//501 Restaurant &amp; Bar - ECPv6.15.18//NONSGML v1.0//EN
CALSCALE:GREGORIAN
METHOD:PUBLISH
X-WR-CALNAME:501 Restaurant &amp; Bar
X-ORIGINAL-URL:https://www.501restaurantandbar.com
X-WR-CALDESC:Events for 501 Restaurant &amp; Bar
REFRESH-INTERVAL;VALUE=DURATION:PT1H
X-Robots-Tag:noindex
X-PUBLISHED-TTL:PT1H
BEGIN:VTIMEZONE
TZID:America/Los_Angeles
BEGIN:DAYLIGHT
TZOFFSETFROM:-0800
TZOFFSETTO:-0700
TZNAME:PDT
DTSTART:20250309T100000
END:DAYLIGHT
BEGIN:STANDARD
TZOFFSETFROM:-0700
TZOFFSETTO:-0800
TZNAME:PST
DTSTART:20251102T090000
END:STANDARD
BEGIN:DAYLIGHT
TZOFFSETFROM:-0800
TZOFFSETTO:-0700
TZNAME:PDT
DTSTART:20260308T100000
END:DAYLIGHT
BEGIN:STANDARD
TZOFFSETFROM:-0700
TZOFFSETTO:-0800
TZNAME:PST
DTSTART:20261101T090000
END:STANDARD
BEGIN:DAYLIGHT
TZOFFSETFROM:-0800
TZOFFSETTO:-0700
TZNAME:PDT
DTSTART:20270314T100000
END:DAYLIGHT
BEGIN:STANDARD
TZOFFSETFROM:-0700
TZOFFSETTO:-0800
TZNAME:PST
DTSTART:20271107T090000
END:STANDARD
END:VTIMEZONE
BEGIN:VEVENT
DTSTART;TZID=America/Los_Angeles:20261001T173000
DTEND;TZID=America/Los_Angeles:20261001T203000
DTSTAMP:20260425T101407
CREATED:20260108T192852Z
LAST-MODIFIED:20260210T225108Z
UID:10003242-1790875800-1790886600@www.501restaurantandbar.com
SUMMARY:Prime Rib Night
DESCRIPTION:
URL:https://www.501restaurantandbar.com/event/prime-rib-night-20/2026-10-01/
END:VEVENT
BEGIN:VEVENT
DTSTART;TZID=America/Los_Angeles:20261004T150000
DTEND;TZID=America/Los_Angeles:20261004T180000
DTSTAMP:20260425T101407
CREATED:20251017T203952Z
LAST-MODIFIED:20260324T230134Z
UID:10002019-1791126000-1791136800@www.501restaurantandbar.com
SUMMARY:Live Music Sunday Sessions
DESCRIPTION:
URL:https://www.501restaurantandbar.com/event/weekly-live-music-15-2-2/2026-10-04/
END:VEVENT
BEGIN:VEVENT
DTSTART;TZID=America/Los_Angeles:20261011T150000
DTEND;TZID=America/Los_Angeles:20261011T180000
DTSTAMP:20260425T101407
CREATED:20251017T203952Z
LAST-MODIFIED:20260324T230134Z
UID:10002020-1791730800-1791741600@www.501restaurantandbar.com
SUMMARY:Live Music Sunday Sessions
DESCRIPTION:
URL:https://www.501restaurantandbar.com/event/weekly-live-music-15-2-2/2026-10-11/
END:VEVENT
BEGIN:VEVENT
DTSTART;TZID=America/Los_Angeles:20261015T173000
DTEND;TZID=America/Los_Angeles:20261015T203000
DTSTAMP:20260425T101407
CREATED:20260108T192852Z
LAST-MODIFIED:20260210T225108Z
UID:10003243-1792085400-1792096200@www.501restaurantandbar.com
SUMMARY:Prime Rib Night
DESCRIPTION:
URL:https://www.501restaurantandbar.com/event/prime-rib-night-20/2026-10-15/
END:VEVENT
BEGIN:VEVENT
DTSTART;TZID=America/Los_Angeles:20261018T150000
DTEND;TZID=America/Los_Angeles:20261018T180000
DTSTAMP:20260425T101407
CREATED:20251017T203952Z
LAST-MODIFIED:20260324T230134Z
UID:10002021-1792335600-1792346400@www.501restaurantandbar.com
SUMMARY:Live Music Sunday Sessions
DESCRIPTION:
URL:https://www.501restaurantandbar.com/event/weekly-live-music-15-2-2/2026-10-18/
END:VEVENT
BEGIN:VEVENT
DTSTART;TZID=America/Los_Angeles:20261025T150000
DTEND;TZID=America/Los_Angeles:20261025T180000
DTSTAMP:20260425T101407
CREATED:20251017T203952Z
LAST-MODIFIED:20260324T230134Z
UID:10002022-1792940400-1792951200@www.501restaurantandbar.com
SUMMARY:Live Music Sunday Sessions
DESCRIPTION:
URL:https://www.501restaurantandbar.com/event/weekly-live-music-15-2-2/2026-10-25/
END:VEVENT
END:VCALENDAR